Workbook

Sheet IDENTIFICACIÓN DOFA
B6: NOMBRE DEL PROCESO | C6: GESTION CALIDAD
B8: FECHA DE ACTUALIZACIÓN | C8: 29 DE AGOSTO DE 2017
B10: OBJETIVO DEL PROCESO | C10: Mantener y mejorar el Sistema de Gestión de la Calidad a través de la administración de la información documentada, gestión de los riesgos y oportunidades y la adecuada planeación e implementación de los cambios.
B13: FACTORES INTERNOS DE LA UNIVERSIDAD DE CUNDINAMARCA | D13: FACTORES EXTERNOS DE LA UNIVERSIDAD DE CUNDINAMARCA
B14: DEBILIDADES | D14: AMENAZAS
B15: Enumere los factores que en el proceso se consideran una debilidad; por ejemplo: 1. Equipo de trabajo insuficiente en número de personas | D15: Enumere los factores que en el entorno se consideran una amenaza para el proceso; por ejemplo: 1. oferta académica innovadora de las universidades competidoras
B16: D1. Personal insuficiente para las actividades del proceso | D16: A1. Vencimiento del plazo para la implementación de la ISO 9001:2015
B17: D2. Sistema de gestión de calidad sin continuidad | D17: A2. Universidades certificadas actualmente bajo la ISO 9001:2015
B18: D3. El gestor responsable de calidad no trabaja directamente con la oficina | D18: A3. Reducción de recursos para el sector publico por parte del gobierno
B19: D4. El aplicativo SGC no se ajusta a los requisitos para l transición a la ISO 9001 2015 | D19: A4. Cambios recurrentes en la legislación y normatividad
B20: D5. Rubro presupuestal insuficiente | D20: A5. Exigibilidad de documentos por parte de los entes de control
B21: D6. No hay un medio de comunicación instantáneo que permita la interacción en tiempo real con los procesos
B22: D7. Versiones iniciales de la documentación del SGC en papel
B23: D8. Afectación del rubro presupuestal para los honorarios del TH de la oficina
B24: D9. Contratos de trabajo interrumpido
B25: D10. Proceso de compras complejo y demorado
B26: D11. La administración del aplicativo del SGC esta a cargo del proceso de sistemas
B35: FACTORES INTERNOS DE LA UNIVERSIDAD DE CUNDINAMARCA | D35: FACTORES EXTERNOS DE LA UNIVERSIDAD DE CUNDINAMARCA
B36: FORTALEZAS | D36: OPORTUNIDADES
B37: Enumere los factores que en el proceso se consideran una debilidad; por ejemplo: 1. Presupuesto aprobado suficiente para las necesidades del proceso | D37: Enumere los factores que en el entorno se consideran una oportunidad para el proceso; por ejemplo: 1. amplia oferta tecnológica de equipos y aplicativos en el mercado.
B38: F1. Equipo de trabajo competente en temas de calidad | D38: O1. Amplia oferta de empresas consultoras
B39: F2. Certificación bajo la ISO 9001 2008 | D39: O2. Estudiantes de carrera profesional en búsqueda de pasantías como opción de grado
B40: F3. Apoyo de la alta dirección para el SGC | D40: O3. Software de SGC en el mercado
B41: F4. Alta adherencia a los procedimientos del SGC por parte de los procesos
B42: F5. Seguimiento continuo al SGC
B43: F6. Equipo de trabajo comprometido con el resultado
B44: F7. Alto compromiso de la universidad al cumplimiento de requisitos legales
B45: F8. Direccionamiento estratégico acorde a las necesidades de la comunidad universitaria

Sheet CRUCE RIESGOS
E1: Bajo indice de graduacion
D3: IDENTIFICACIÓN DEL RIESGO | H3: VALORACIÓN DEL RIESGO INHERENTE | Q3: VALORACIÓN DE RIESGO RESIDUAL | W3: OBSERVACIONES ADICIONALES CONTROL INTERNO
A4: CUADRANTE | B4: DECIMAL | C4: SUMA | D4: ID | E4: CAUSAS (FACTORES DOFA) | F4: CONSECUENCIA (RIESGO) | G4: CLASIFICACIÓN | H4: PROBABILIDAD DE OCURRENCIA | I4: ARGUMENTO DE LA PROBABILIDAD | J4: MAGNITUD DEL IMPACTO | K4: ARGUMENTO DEL IMPACTO | L4: VALORACIÓN | M4: NIVEL | N4: CONTROLES APLICABLES | O4: CLASIFICACIÓN DE LOS CONTROLES | P4: ENTREGABLES | Q4: PROBABILIDAD DE OCURRENCIA | R4: ARGUMENTO DE LA PROBABILIDAD | S4: MAGNITUD DEL IMPACTO | T4: ARGUMENTO DEL IMPACTO | U4: VALORACIÓN | V4: NIVEL
A5: =IF(AND(Q5=1,S5=1),1,IF(AND(Q5=1,S5=2),2,IF(AND(Q5=1,S5=3),3,IF(AND(Q5=1,S5=4),4,IF(AND(Q5=1,S5=5),5,IF(AND(Q5=2,S5=1),6,IF(AND(Q5=2,S5=2),7,IF(AND(Q5=2,S5=3),8,IF(AND(Q5=2,S5=4),9,IF(AND(Q5=2,S5=5),10,IF(AND(Q5=3,S5=1),11,IF(AND(Q5=3,S5=2),12,IF(AND(Q5=3,S5=3),13,IF(AND(Q5=3,S5=4),14,IF(AND(Q5=3,S5=5),15,IF(AND(Q5=4,S5=1),16,IF(AND(Q5=4,S5=2),17,IF(AND(Q5=4,S5=3),18,IF(AND(Q5=4,S5=4),19,IF(AND(Q5=4,S5=5),20,IF(AND(Q5=5,S5=1),21,IF(AND(Q5=5,S5=2),22,IF(AND(Q5=5,S5=3),23,IF(AND(Q5=5,S5=4),24,IF(AND(Q5=5,S5=5),25,""))))))))))))))))))))))))) -> 13 | B5: =IF(A5="","",1/100) -> 0.01 | C5: =IFERROR(A5+B5,"") -> 13.01 | D5: 1 | E5: A1. Vencimiento del plazo para la implementación de la ISO 9001:2015 D1. Personal insuficiente para las actividades del proceso D2. Sistema de gestión de la calidad sin continuidad | F5: No cumplimiento de las metas del plan de acción | G5: Riesgo Estratégico: Se asocia con la forma en que se administra la Entidad. El manejo del riesgo estratégico se Enfoca a asuntos globales relacionados con la misión y el cumplimiento de los objetivos estratégicos, la clara definición de políticas, diseño y conceptualización de la entidad por parte de la alta gerencia | H5: 5 | J5: 3 | L5: =IF(OR(H5="",J5=""),"",H5*J5) -> 15 | M5: =IF(L5="","",IF(AND(H5=1,J5=3),"MODERADO",IF(AND(H5=4,J5=1),"MODERADO",IF(AND(H5=1,J5=4),"ALTO",IF(AND(H5=1,J5=5),"ALTO",IF(L5<=4,"BAJO",IF(AND(H5=5,J5=1),"ALTO",IF(L5<=6,"MODERADO",IF(AND(H5=2,J5=5),"EXTREMO",IF(L5<=10,"ALTO",IF(AND(H5=4,J5=3),"ALTO","EXTREMO"))))))))))) -> EXTREMO | N5: Redistribución de actividades en la oficina de Calidad Establecimiento y seguimiento de cronogramas de trabajo Solicitud de un profesional de apoyo para la oficina de Calidad | O5: PREVENTIVO | P5: Cronograma de actividades por colaborador de la oficina Informes de seguimiento al avance de las actividades Contrato de trabajo de profesional de apoyo , ATH099 | Q5: 3 | S5: 3 | U5: =IF(OR(Q5="",S5=""),"",Q5*S5) -> 9 | V5: =IF(U5="","",IF(AND(Q5=1,S5=3),"MODERADO",IF(AND(Q5=4,S5=1),"MODERADO",IF(AND(Q5=1,S5=4),"ALTO",IF(AND(Q5=1,S5=5),"ALTO",IF(U5<=4,"BAJO",IF(AND(Q5=5,S5=1),"ALTO",IF(U5<=6,"MODERADO",IF(AND(Q5=2,S5=5),"EXTREMO",IF(U5<=10,"ALTO",IF(AND(Q5=4,S5=3),"ALTO","EXTREMO"))))))))))) -> ALTO | W5: Evidencia de controles, medio magnético oficina Control Interno, falta anexar copia el contrato el nuevo colaborador de la oficina cuando TH lo suministre
A6: =IF(AND(Q6=1,S6=1),1,IF(AND(Q6=1,S6=2),2,IF(AND(Q6=1,S6=3),3,IF(AND(Q6=1,S6=4),4,IF(AND(Q6=1,S6=5),5,IF(AND(Q6=2,S6=1),6,IF(AND(Q6=2,S6=2),7,IF(AND(Q6=2,S6=3),8,IF(AND(Q6=2,S6=4),9,IF(AND(Q6=2,S6=5),10,IF(AND(Q6=3,S6=1),11,IF(AND(Q6=3,S6=2),12,IF(AND(Q6=3,S6=3),13,IF(AND(Q6=3,S6=4),14,IF(AND(Q6=3,S6=5),15,IF(AND(Q6=4,S6=1),16,IF(AND(Q6=4,S6=2),17,IF(AND(Q6=4,S6=3),18,IF(AND(Q6=4,S6=4),19,IF(AND(Q6=4,S6=5),20,IF(AND(Q6=5,S6=1),21,IF(AND(Q6=5,S6=2),22,IF(AND(Q6=5,S6=3),23,IF(AND(Q6=5,S6=4),24,IF(AND(Q6=5,S6=5),25,""))))))))))))))))))))))))) -> 10 | B6: =IF(A6="","",(COUNTIF($A$5:A6,A6))/100) -> 0.01 | C6: =IFERROR(A6+B6,"") -> 10.01 | D6: 2 | E6: A5. Exigibilidad de documentos por parte de los entes de control D7. Versiones iniciales de la documentación del SGC en papel | F6: Perdida de versiones documentales historicas | G6: Riesgos de Cumplimiento: Se asocian con la capacidad de la entidad para cumplir con los requisitos legales, contractuales, de ética pública y en general con su compromiso ante la comunidad. | H6: 2 | J6: 5 | L6: =IF(OR(H6="",J6=""),"",H6*J6) -> 10 | M6: =IF(L6="","",IF(AND(H6=1,J6=3),"MODERADO",IF(AND(H6=4,J6=1),"MODERADO",IF(AND(H6=1,J6=4),"ALTO",IF(AND(H6=1,J6=5),"ALTO",IF(L6<=4,"BAJO",IF(AND(H6=5,J6=1),"ALTO",IF(L6<=6,"MODERADO",IF(AND(H6=2,J6=5),"EXTREMO",IF(L6<=10,"ALTO",IF(AND(H6=4,J6=3),"ALTO","EXTREMO"))))))))))) -> EXTREMO | N6: Inventariar de información Escanear la información Entregar documentos a archivo central | O6: PREVENTIVO | P6: Inventario de documentos Inventario de transferencia documental Relación de documentos escaneados Acta de entrega de documentos al archivo central | Q6: 2 | S6: 5 | U6: =IF(OR(Q6="",S6=""),"",Q6*S6) -> 10 | V6: =IF(U6="","",IF(AND(Q6=1,S6=3),"MODERADO",IF(AND(Q6=4,S6=1),"MODERADO",IF(AND(Q6=1,S6=4),"ALTO",IF(AND(Q6=1,S6=5),"ALTO",IF(U6<=4,"BAJO",IF(AND(Q6=5,S6=1),"ALTO",IF(U6<=6,"MODERADO",IF(AND(Q6=2,S6=5),"EXTREMO",IF(U6<=10,"ALTO",IF(AND(Q6=4,S6=3),"ALTO","EXTREMO"))))))))))) -> EXTREMO | W6: no presenta medición, ya que hasta ahora se va a iniciar la ejecución de los controles con la digitalización del archivo
A7: =IF(AND(Q7=1,S7=1),1,IF(AND(Q7=1,S7=2),2,IF(AND(Q7=1,S7=3),3,IF(AND(Q7=1,S7=4),4,IF(AND(Q7=1,S7=5),5,IF(AND(Q7=2,S7=1),6,IF(AND(Q7=2,S7=2),7,IF(AND(Q7=2,S7=3),8,IF(AND(Q7=2,S7=4),9,IF(AND(Q7=2,S7=5),10,IF(AND(Q7=3,S7=1),11,IF(AND(Q7=3,S7=2),12,IF(AND(Q7=3,S7=3),13,IF(AND(Q7=3,S7=4),14,IF(AND(Q7=3,S7=5),15,IF(AND(Q7=4,S7=1),16,IF(AND(Q7=4,S7=2),17,IF(AND(Q7=4,S7=3),18,IF(AND(Q7=4,S7=4),19,IF(AND(Q7=4,S7=5),20,IF(AND(Q7=5,S7=1),21,IF(AND(Q7=5,S7=2),22,IF(AND(Q7=5,S7=3),23,IF(AND(Q7=5,S7=4),24,IF(AND(Q7=5,S7=5),25,""))))))))))))))))))))))))) -> 9 | B7: =IF(A7="","",(COUNTIF($A$5:A7,A7))/100) -> 0.01 | C7: =IFERROR(A7+B7,"") -> 9.01 | D7: 3 | E7: D6. No hay un medio de comunicación instantáneo que permita la interacción en tiempo real con los procesos D2. Sistema de gestión de calidad sin continuidad D9. Contratos de trabajo interrumpido A4. Cambios recurrentes en la legislación y normatividad | F7: No utilización de los documentos del SGC en la operación de los procesos | G7: Riesgos Operativos: Comprenden riesgos provenientes del funcionamiento y operatividad de los sistemas de información institucional, de la definición de los procesos, de la estructura de la entidad, de la articulación entre dependencias. | H7: 3 | J7: 4 | L7: =IF(OR(H7="",J7=""),"",H7*J7) -> 12 | M7: =IF(L7="","",IF(AND(H7=1,J7=3),"MODERADO",IF(AND(H7=4,J7=1),"MODERADO",IF(AND(H7=1,J7=4),"ALTO",IF(AND(H7=1,J7=5),"ALTO",IF(L7<=4,"BAJO",IF(AND(H7=5,J7=1),"ALTO",IF(L7<=6,"MODERADO",IF(AND(H7=2,J7=5),"EXTREMO",IF(L7<=10,"ALTO",IF(AND(H7=4,J7=3),"ALTO","EXTREMO"))))))))))) -> EXTREMO | N7: Enviar listado de publicaciones de documentos aprobados a corte mensual Procedimiento de control de documentos y control de registros Participar en la inducción y reinducción de personal Acuerdos de Gestión Acompañamiento por parte del personal del proceso Sensibilizacion y capacitaciones Instaurar grupos primarios en la Universidad | O7: PREVENTIVO | P7: Correo electronico enviando informacion de docuemntos aprobados mensualemente Procedimiento de control de documentos y registros aprobados Listas de asistencia de induccion y reinduccion Acuerdos de Gestion firmados Listas de asistencia de acompañamientos y capacitaciones | Q7: 2 | S7: 4 | U7: =IF(OR(Q7="",S7=""),"",Q7*S7) -> 8 | V7: =IF(U7="","",IF(AND(Q7=1,S7=3),"MODERADO",IF(AND(Q7=4,S7=1),"MODERADO",IF(AND(Q7=1,S7=4),"ALTO",IF(AND(Q7=1,S7=5),"ALTO",IF(U7<=4,"BAJO",IF(AND(Q7=5,S7=1),"ALTO",IF(U7<=6,"MODERADO",IF(AND(Q7=2,S7=5),"EXTREMO",IF(U7<=10,"ALTO",IF(AND(Q7=4,S7=3),"ALTO","EXTREMO"))))))))))) -> ALTO | W7: Se presenta evidencia correspondiente
A8: =IF(AND(Q8=1,S8=1),1,IF(AND(Q8=1,S8=2),2,IF(AND(Q8=1,S8=3),3,IF(AND(Q8=1,S8=4),4,IF(AND(Q8=1,S8=5),5,IF(AND(Q8=2,S8=1),6,IF(AND(Q8=2,S8=2),7,IF(AND(Q8=2,S8=3),8,IF(AND(Q8=2,S8=4),9,IF(AND(Q8=2,S8=5),10,IF(AND(Q8=3,S8=1),11,IF(AND(Q8=3,S8=2),12,IF(AND(Q8=3,S8=3),13,IF(AND(Q8=3,S8=4),14,IF(AND(Q8=3,S8=5),15,IF(AND(Q8=4,S8=1),16,IF(AND(Q8=4,S8=2),17,IF(AND(Q8=4,S8=3),18,IF(AND(Q8=4,S8=4),19,IF(AND(Q8=4,S8=5),20,IF(AND(Q8=5,S8=1),21,IF(AND(Q8=5,S8=2),22,IF(AND(Q8=5,S8=3),23,IF(AND(Q8=5,S8=4),24,IF(AND(Q8=5,S8=5),25,""))))))))))))))))))))))))) -> 9 | B8: =IF(A8="","",(COUNTIF($A$5:A8,A8))/100) -> 0.02 | C8: =IFERROR(A8+B8,"") -> 9.02 | D8: 4 | E8: D2. Sistema de gestión de calidad sin continuidad D9. Contratos de trabajo interrumpido | F8: Falta de acompañamiento oportuno a los gestores responsables sobre temas relacionados con calidad y certificación | G8: Riesgos Operativos: Comprenden riesgos provenientes del funcionamiento y operatividad de los sistemas de información institucional, de la definición de los procesos, de la estructura de la entidad, de la articulación entre dependencias. | H8: 3 | J8: 4 | L8: =IF(OR(H8="",J8=""),"",H8*J8) -> 12 | M8: =IF(L8="","",IF(AND(H8=1,J8=3),"MODERADO",IF(AND(H8=4,J8=1),"MODERADO",IF(AND(H8=1,J8=4),"ALTO",IF(AND(H8=1,J8=5),"ALTO",IF(L8<=4,"BAJO",IF(AND(H8=5,J8=1),"ALTO",IF(L8<=6,"MODERADO",IF(AND(H8=2,J8=5),"EXTREMO",IF(L8<=10,"ALTO",IF(AND(H8=4,J8=3),"ALTO","EXTREMO"))))))))))) -> EXTREMO | N8: Asignación de responsables de calidad para cada uno de los procesos Programacion de acompañamientos Seguimiento mensual de actividades de la oficina de calidad | O8: PREVENTIVO | P8: Actas de seguimiento listados de asistencia de acompañamientos | Q8: 2 | S8: 4 | U8: =IF(OR(Q8="",S8=""),"",Q8*S8) -> 8 | V8: =IF(U8="","",IF(AND(Q8=1,S8=3),"MODERADO",IF(AND(Q8=4,S8=1),"MODERADO",IF(AND(Q8=1,S8=4),"ALTO",IF(AND(Q8=1,S8=5),"ALTO",IF(U8<=4,"BAJO",IF(AND(Q8=5,S8=1),"ALTO",IF(U8<=6,"MODERADO",IF(AND(Q8=2,S8=5),"EXTREMO",IF(U8<=10,"ALTO",IF(AND(Q8=4,S8=3),"ALTO","EXTREMO"))))))))))) -> ALTO | W8: Se presenta evidencia correspondiente
A9: =IF(AND(Q9=1,S9=1),1,IF(AND(Q9=1,S9=2),2,IF(AND(Q9=1,S9=3),3,IF(AND(Q9=1,S9=4),4,IF(AND(Q9=1,S9=5),5,IF(AND(Q9=2,S9=1),6,IF(AND(Q9=2,S9=2),7,IF(AND(Q9=2,S9=3),8,IF(AND(Q9=2,S9=4),9,IF(AND(Q9=2,S9=5),10,IF(AND(Q9=3,S9=1),11,IF(AND(Q9=3,S9=2),12,IF(AND(Q9=3,S9=3),13,IF(AND(Q9=3,S9=4),14,IF(AND(Q9=3,S9=5),15,IF(AND(Q9=4,S9=1),16,IF(AND(Q9=4,S9=2),17,IF(AND(Q9=4,S9=3),18,IF(AND(Q9=4,S9=4),19,IF(AND(Q9=4,S9=5),20,IF(AND(Q9=5,S9=1),21,IF(AND(Q9=5,S9=2),22,IF(AND(Q9=5,S9=3),23,IF(AND(Q9=5,S9=4),24,IF(AND(Q9=5,S9=5),25,""))))))))))))))))))))))))) | B9: =IF(A9="","",(COUNTIF($A$5:A9,A9))/100) | C9: =IFERROR(A9+B9,"") | D9: 5 | L9: =IF(OR(H9="",J9=""),"",H9*J9) | M9: =IF(L9="","",IF(AND(H9=1,J9=3),"MODERADO",IF(AND(H9=4,J9=1),"MODERADO",IF(AND(H9=1,J9=4),"ALTO",IF(AND(H9=1,J9=5),"ALTO",IF(L9<=4,"BAJO",IF(AND(H9=5,J9=1),"ALTO",IF(L9<=6,"MODERADO",IF(AND(H9=2,J9=5),"EXTREMO",IF(L9<=10,"ALTO",IF(AND(H9=4,J9=3),"ALTO","EXTREMO"))))))))))) | U9: =IF(OR(Q9="",S9=""),"",Q9*S9) | V9: =IF(U9="","",IF(AND(Q9=1,S9=3),"MODERADO",IF(AND(Q9=4,S9=1),"MODERADO",IF(AND(Q9=1,S9=4),"ALTO",IF(AND(Q9=1,S9=5),"ALTO",IF(U9<=4,"BAJO",IF(AND(Q9=5,S9=1),"ALTO",IF(U9<=6,"MODERADO",IF(AND(Q9=2,S9=5),"EXTREMO",IF(U9<=10,"ALTO",IF(AND(Q9=4,S9=3),"ALTO","EXTREMO")))))))))))
A10: =IF(AND(Q10=1,S10=1),1,IF(AND(Q10=1,S10=2),2,IF(AND(Q10=1,S10=3),3,IF(AND(Q10=1,S10=4),4,IF(AND(Q10=1,S10=5),5,IF(AND(Q10=2,S10=1),6,IF(AND(Q10=2,S10=2),7,IF(AND(Q10=2,S10=3),8,IF(AND(Q10=2,S10=4),9,IF(AND(Q10=2,S10=5),10,IF(AND(Q10=3,S10=1),11,IF(AND(Q10=3,S10=2),12,IF(AND(Q10=3,S10=3),13,IF(AND(Q10=3,S10=4),14,IF(AND(Q10=3,S10=5),15,IF(AND(Q10=4,S10=1),16,IF(AND(Q10=4,S10=2),17,IF(AND(Q10=4,S10=3),18,IF(AND(Q10=4,S10=4),19,IF(AND(Q10=4,S10=5),20,IF(AND(Q10=5,S10=1),21,IF(AND(Q10=5,S10=2),22,IF(AND(Q10=5,S10=3),23,IF(AND(Q10=5,S10=4),24,IF(AND(Q10=5,S10=5),25,""))))))))))))))))))))))))) | B10: =IF(A10="","",(COUNTIF($A$5:A10,A10))/100) | C10: =IFERROR(A10+B10,"") | D10: 6 | L10: =IF(OR(H10="",J10=""),"",H10*J10) | M10: =IF(L10="","",IF(AND(H10=1,J10=3),"MODERADO",IF(AND(H10=4,J10=1),"MODERADO",IF(AND(H10=1,J10=4),"ALTO",IF(AND(H10=1,J10=5),"ALTO",IF(L10<=4,"BAJO",IF(AND(H10=5,J10=1),"ALTO",IF(L10<=6,"MODERADO",IF(AND(H10=2,J10=5),"EXTREMO",IF(L10<=10,"ALTO",IF(AND(H10=4,J10=3),"ALTO","EXTREMO"))))))))))) | U10: =IF(OR(Q10="",S10=""),"",Q10*S10) | V10: =IF(U10="","",IF(AND(Q10=1,S10=3),"MODERADO",IF(AND(Q10=4,S10=1),"MODERADO",IF(AND(Q10=1,S10=4),"ALTO",IF(AND(Q10=1,S10=5),"ALTO",IF(U10<=4,"BAJO",IF(AND(Q10=5,S10=1),"ALTO",IF(U10<=6,"MODERADO",IF(AND(Q10=2,S10=5),"EXTREMO",IF(U10<=10,"ALTO",IF(AND(Q10=4,S10=3),"ALTO","EXTREMO")))))))))))
A11: =IF(AND(Q11=1,S11=1),1,IF(AND(Q11=1,S11=2),2,IF(AND(Q11=1,S11=3),3,IF(AND(Q11=1,S11=4),4,IF(AND(Q11=1,S11=5),5,IF(AND(Q11=2,S11=1),6,IF(AND(Q11=2,S11=2),7,IF(AND(Q11=2,S11=3),8,IF(AND(Q11=2,S11=4),9,IF(AND(Q11=2,S11=5),10,IF(AND(Q11=3,S11=1),11,IF(AND(Q11=3,S11=2),12,IF(AND(Q11=3,S11=3),13,IF(AND(Q11=3,S11=4),14,IF(AND(Q11=3,S11=5),15,IF(AND(Q11=4,S11=1),16,IF(AND(Q11=4,S11=2),17,IF(AND(Q11=4,S11=3),18,IF(AND(Q11=4,S11=4),19,IF(AND(Q11=4,S11=5),20,IF(AND(Q11=5,S11=1),21,IF(AND(Q11=5,S11=2),22,IF(AND(Q11=5,S11=3),23,IF(AND(Q11=5,S11=4),24,IF(AND(Q11=5,S11=5),25,""))))))))))))))))))))))))) | B11: =IF(A11="","",(COUNTIF($A$5:A11,A11))/100) | C11: =IFERROR(A11+B11,"") | D11: 7 | L11: =IF(OR(H11="",J11=""),"",H11*J11) | M11: =IF(L11="","",IF(AND(H11=1,J11=3),"MODERADO",IF(AND(H11=4,J11=1),"MODERADO",IF(AND(H11=1,J11=4),"ALTO",IF(AND(H11=1,J11=5),"ALTO",IF(L11<=4,"BAJO",IF(AND(H11=5,J11=1),"ALTO",IF(L11<=6,"MODERADO",IF(AND(H11=2,J11=5),"EXTREMO",IF(L11<=10,"ALTO",IF(AND(H11=4,J11=3),"ALTO","EXTREMO"))))))))))) | U11: =IF(OR(Q11="",S11=""),"",Q11*S11) | V11: =IF(U11="","",IF(AND(Q11=1,S11=3),"MODERADO",IF(AND(Q11=4,S11=1),"MODERADO",IF(AND(Q11=1,S11=4),"ALTO",IF(AND(Q11=1,S11=5),"ALTO",IF(U11<=4,"BAJO",IF(AND(Q11=5,S11=1),"ALTO",IF(U11<=6,"MODERADO",IF(AND(Q11=2,S11=5),"EXTREMO",IF(U11<=10,"ALTO",IF(AND(Q11=4,S11=3),"ALTO","EXTREMO")))))))))))
A12: =IF(AND(Q12=1,S12=1),1,IF(AND(Q12=1,S12=2),2,IF(AND(Q12=1,S12=3),3,IF(AND(Q12=1,S12=4),4,IF(AND(Q12=1,S12=5),5,IF(AND(Q12=2,S12=1),6,IF(AND(Q12=2,S12=2),7,IF(AND(Q12=2,S12=3),8,IF(AND(Q12=2,S12=4),9,IF(AND(Q12=2,S12=5),10,IF(AND(Q12=3,S12=1),11,IF(AND(Q12=3,S12=2),12,IF(AND(Q12=3,S12=3),13,IF(AND(Q12=3,S12=4),14,IF(AND(Q12=3,S12=5),15,IF(AND(Q12=4,S12=1),16,IF(AND(Q12=4,S12=2),17,IF(AND(Q12=4,S12=3),18,IF(AND(Q12=4,S12=4),19,IF(AND(Q12=4,S12=5),20,IF(AND(Q12=5,S12=1),21,IF(AND(Q12=5,S12=2),22,IF(AND(Q12=5,S12=3),23,IF(AND(Q12=5,S12=4),24,IF(AND(Q12=5,S12=5),25,""))))))))))))))))))))))))) | B12: =IF(A12="","",(COUNTIF($A$5:A12,A12))/100) | C12: =IFERROR(A12+B12,"") | D12: 8 | L12: =IF(OR(H12="",J12=""),"",H12*J12) | M12: =IF(L12="","",IF(AND(H12=1,J12=3),"MODERADO",IF(AND(H12=4,J12=1),"MODERADO",IF(AND(H12=1,J12=4),"ALTO",IF(AND(H12=1,J12=5),"ALTO",IF(L12<=4,"BAJO",IF(AND(H12=5,J12=1),"ALTO",IF(L12<=6,"MODERADO",IF(AND(H12=2,J12=5),"EXTREMO",IF(L12<=10,"ALTO",IF(AND(H12=4,J12=3),"ALTO","EXTREMO"))))))))))) | U12: =IF(OR(Q12="",S12=""),"",Q12*S12) | V12: =IF(U12="","",IF(AND(Q12=1,S12=3),"MODERADO",IF(AND(Q12=4,S12=1),"MODERADO",IF(AND(Q12=1,S12=4),"ALTO",IF(AND(Q12=1,S12=5),"ALTO",IF(U12<=4,"BAJO",IF(AND(Q12=5,S12=1),"ALTO",IF(U12<=6,"MODERADO",IF(AND(Q12=2,S12=5),"EXTREMO",IF(U12<=10,"ALTO",IF(AND(Q12=4,S12=3),"ALTO","EXTREMO")))))))))))
A13: =IF(AND(Q13=1,S13=1),1,IF(AND(Q13=1,S13=2),2,IF(AND(Q13=1,S13=3),3,IF(AND(Q13=1,S13=4),4,IF(AND(Q13=1,S13=5),5,IF(AND(Q13=2,S13=1),6,IF(AND(Q13=2,S13=2),7,IF(AND(Q13=2,S13=3),8,IF(AND(Q13=2,S13=4),9,IF(AND(Q13=2,S13=5),10,IF(AND(Q13=3,S13=1),11,IF(AND(Q13=3,S13=2),12,IF(AND(Q13=3,S13=3),13,IF(AND(Q13=3,S13=4),14,IF(AND(Q13=3,S13=5),15,IF(AND(Q13=4,S13=1),16,IF(AND(Q13=4,S13=2),17,IF(AND(Q13=4,S13=3),18,IF(AND(Q13=4,S13=4),19,IF(AND(Q13=4,S13=5),20,IF(AND(Q13=5,S13=1),21,IF(AND(Q13=5,S13=2),22,IF(AND(Q13=5,S13=3),23,IF(AND(Q13=5,S13=4),24,IF(AND(Q13=5,S13=5),25,""))))))))))))))))))))))))) | B13: =IF(A13="","",(COUNTIF($A$5:A13,A13))/100) | C13: =IFERROR(A13+B13,"") | D13: 9 | L13: =IF(OR(H13="",J13=""),"",H13*J13) | M13: =IF(L13="","",IF(AND(H13=1,J13=3),"MODERADO",IF(AND(H13=4,J13=1),"MODERADO",IF(AND(H13=1,J13=4),"ALTO",IF(AND(H13=1,J13=5),"ALTO",IF(L13<=4,"BAJO",IF(AND(H13=5,J13=1),"ALTO",IF(L13<=6,"MODERADO",IF(AND(H13=2,J13=5),"EXTREMO",IF(L13<=10,"ALTO",IF(AND(H13=4,J13=3),"ALTO","EXTREMO"))))))))))) | U13: =IF(OR(Q13="",S13=""),"",Q13*S13) | V13: =IF(U13="","",IF(AND(Q13=1,S13=3),"MODERADO",IF(AND(Q13=4,S13=1),"MODERADO",IF(AND(Q13=1,S13=4),"ALTO",IF(AND(Q13=1,S13=5),"ALTO",IF(U13<=4,"BAJO",IF(AND(Q13=5,S13=1),"ALTO",IF(U13<=6,"MODERADO",IF(AND(Q13=2,S13=5),"EXTREMO",IF(U13<=10,"ALTO",IF(AND(Q13=4,S13=3),"ALTO","EXTREMO")))))))))))
A14: =IF(AND(Q14=1,S14=1),1,IF(AND(Q14=1,S14=2),2,IF(AND(Q14=1,S14=3),3,IF(AND(Q14=1,S14=4),4,IF(AND(Q14=1,S14=5),5,IF(AND(Q14=2,S14=1),6,IF(AND(Q14=2,S14=2),7,IF(AND(Q14=2,S14=3),8,IF(AND(Q14=2,S14=4),9,IF(AND(Q14=2,S14=5),10,IF(AND(Q14=3,S14=1),11,IF(AND(Q14=3,S14=2),12,IF(AND(Q14=3,S14=3),13,IF(AND(Q14=3,S14=4),14,IF(AND(Q14=3,S14=5),15,IF(AND(Q14=4,S14=1),16,IF(AND(Q14=4,S14=2),17,IF(AND(Q14=4,S14=3),18,IF(AND(Q14=4,S14=4),19,IF(AND(Q14=4,S14=5),20,IF(AND(Q14=5,S14=1),21,IF(AND(Q14=5,S14=2),22,IF(AND(Q14=5,S14=3),23,IF(AND(Q14=5,S14=4),24,IF(AND(Q14=5,S14=5),25,""))))))))))))))))))))))))) | B14: =IF(A14="","",(COUNTIF($A$5:A14,A14))/100) | C14: =IFERROR(A14+B14,"") | D14: 10 | L14: =IF(OR(H14="",J14=""),"",H14*J14) | M14: =IF(L14="","",IF(AND(H14=1,J14=3),"MODERADO",IF(AND(H14=4,J14=1),"MODERADO",IF(AND(H14=1,J14=4),"ALTO",IF(AND(H14=1,J14=5),"ALTO",IF(L14<=4,"BAJO",IF(AND(H14=5,J14=1),"ALTO",IF(L14<=6,"MODERADO",IF(AND(H14=2,J14=5),"EXTREMO",IF(L14<=10,"ALTO",IF(AND(H14=4,J14=3),"ALTO","EXTREMO"))))))))))) | U14: =IF(OR(Q14="",S14=""),"",Q14*S14) | V14: =IF(U14="","",IF(AND(Q14=1,S14=3),"MODERADO",IF(AND(Q14=4,S14=1),"MODERADO",IF(AND(Q14=1,S14=4),"ALTO",IF(AND(Q14=1,S14=5),"ALTO",IF(U14<=4,"BAJO",IF(AND(Q14=5,S14=1),"ALTO",IF(U14<=6,"MODERADO",IF(AND(Q14=2,S14=5),"EXTREMO",IF(U14<=10,"ALTO",IF(AND(Q14=4,S14=3),"ALTO","EXTREMO")))))))))))
A15: =IF(AND(Q15=1,S15=1),1,IF(AND(Q15=1,S15=2),2,IF(AND(Q15=1,S15=3),3,IF(AND(Q15=1,S15=4),4,IF(AND(Q15=1,S15=5),5,IF(AND(Q15=2,S15=1),6,IF(AND(Q15=2,S15=2),7,IF(AND(Q15=2,S15=3),8,IF(AND(Q15=2,S15=4),9,IF(AND(Q15=2,S15=5),10,IF(AND(Q15=3,S15=1),11,IF(AND(Q15=3,S15=2),12,IF(AND(Q15=3,S15=3),13,IF(AND(Q15=3,S15=4),14,IF(AND(Q15=3,S15=5),15,IF(AND(Q15=4,S15=1),16,IF(AND(Q15=4,S15=2),17,IF(AND(Q15=4,S15=3),18,IF(AND(Q15=4,S15=4),19,IF(AND(Q15=4,S15=5),20,IF(AND(Q15=5,S15=1),21,IF(AND(Q15=5,S15=2),22,IF(AND(Q15=5,S15=3),23,IF(AND(Q15=5,S15=4),24,IF(AND(Q15=5,S15=5),25,""))))))))))))))))))))))))) | B15: =IF(A15="","",(COUNTIF($A$5:A15,A15))/100) | C15: =IFERROR(A15+B15,"") | D15: 11 | L15: =IF(OR(H15="",J15=""),"",H15*J15) | M15: =IF(L15="","",IF(AND(H15=1,J15=3),"MODERADO",IF(AND(H15=4,J15=1),"MODERADO",IF(AND(H15=1,J15=4),"ALTO",IF(AND(H15=1,J15=5),"ALTO",IF(L15<=4,"BAJO",IF(AND(H15=5,J15=1),"ALTO",IF(L15<=6,"MODERADO",IF(AND(H15=2,J15=5),"EXTREMO",IF(L15<=10,"ALTO",IF(AND(H15=4,J15=3),"ALTO","EXTREMO"))))))))))) | U15: =IF(OR(Q15="",S15=""),"",Q15*S15) | V15: =IF(U15="","",IF(AND(Q15=1,S15=3),"MODERADO",IF(AND(Q15=4,S15=1),"MODERADO",IF(AND(Q15=1,S15=4),"ALTO",IF(AND(Q15=1,S15=5),"ALTO",IF(U15<=4,"BAJO",IF(AND(Q15=5,S15=1),"ALTO",IF(U15<=6,"MODERADO",IF(AND(Q15=2,S15=5),"EXTREMO",IF(U15<=10,"ALTO",IF(AND(Q15=4,S15=3),"ALTO","EXTREMO")))))))))))
A16: =IF(AND(Q16=1,S16=1),1,IF(AND(Q16=1,S16=2),2,IF(AND(Q16=1,S16=3),3,IF(AND(Q16=1,S16=4),4,IF(AND(Q16=1,S16=5),5,IF(AND(Q16=2,S16=1),6,IF(AND(Q16=2,S16=2),7,IF(AND(Q16=2,S16=3),8,IF(AND(Q16=2,S16=4),9,IF(AND(Q16=2,S16=5),10,IF(AND(Q16=3,S16=1),11,IF(AND(Q16=3,S16=2),12,IF(AND(Q16=3,S16=3),13,IF(AND(Q16=3,S16=4),14,IF(AND(Q16=3,S16=5),15,IF(AND(Q16=4,S16=1),16,IF(AND(Q16=4,S16=2),17,IF(AND(Q16=4,S16=3),18,IF(AND(Q16=4,S16=4),19,IF(AND(Q16=4,S16=5),20,IF(AND(Q16=5,S16=1),21,IF(AND(Q16=5,S16=2),22,IF(AND(Q16=5,S16=3),23,IF(AND(Q16=5,S16=4),24,IF(AND(Q16=5,S16=5),25,""))))))))))))))))))))))))) | B16: =IF(A16="","",(COUNTIF($A$5:A16,A16))/100) | C16: =IFERROR(A16+B16,"") | D16: 12 | L16: =IF(OR(H16="",J16=""),"",H16*J16) | M16: =IF(L16="","",IF(AND(H16=1,J16=3),"MODERADO",IF(AND(H16=4,J16=1),"MODERADO",IF(AND(H16=1,J16=4),"ALTO",IF(AND(H16=1,J16=5),"ALTO",IF(L16<=4,"BAJO",IF(AND(H16=5,J16=1),"ALTO",IF(L16<=6,"MODERADO",IF(AND(H16=2,J16=5),"EXTREMO",IF(L16<=10,"ALTO",IF(AND(H16=4,J16=3),"ALTO","EXTREMO"))))))))))) | U16: =IF(OR(Q16="",S16=""),"",Q16*S16) | V16: =IF(U16="","",IF(AND(Q16=1,S16=3),"MODERADO",IF(AND(Q16=4,S16=1),"MODERADO",IF(AND(Q16=1,S16=4),"ALTO",IF(AND(Q16=1,S16=5),"ALTO",IF(U16<=4,"BAJO",IF(AND(Q16=5,S16=1),"ALTO",IF(U16<=6,"MODERADO",IF(AND(Q16=2,S16=5),"EXTREMO",IF(U16<=10,"ALTO",IF(AND(Q16=4,S16=3),"ALTO","EXTREMO")))))))))))
A17: =IF(AND(Q17=1,S17=1),1,IF(AND(Q17=1,S17=2),2,IF(AND(Q17=1,S17=3),3,IF(AND(Q17=1,S17=4),4,IF(AND(Q17=1,S17=5),5,IF(AND(Q17=2,S17=1),6,IF(AND(Q17=2,S17=2),7,IF(AND(Q17=2,S17=3),8,IF(AND(Q17=2,S17=4),9,IF(AND(Q17=2,S17=5),10,IF(AND(Q17=3,S17=1),11,IF(AND(Q17=3,S17=2),12,IF(AND(Q17=3,S17=3),13,IF(AND(Q17=3,S17=4),14,IF(AND(Q17=3,S17=5),15,IF(AND(Q17=4,S17=1),16,IF(AND(Q17=4,S17=2),17,IF(AND(Q17=4,S17=3),18,IF(AND(Q17=4,S17=4),19,IF(AND(Q17=4,S17=5),20,IF(AND(Q17=5,S17=1),21,IF(AND(Q17=5,S17=2),22,IF(AND(Q17=5,S17=3),23,IF(AND(Q17=5,S17=4),24,IF(AND(Q17=5,S17=5),25,""))))))))))))))))))))))))) | B17: =IF(A17="","",(COUNTIF($A$5:A17,A17))/100) | C17: =IFERROR(A17+B17,"") | D17: 13 | L17: =IF(OR(H17="",J17=""),"",H17*J17) | M17: =IF(L17="","",IF(AND(H17=1,J17=3),"MODERADO",IF(AND(H17=4,J17=1),"MODERADO",IF(AND(H17=1,J17=4),"ALTO",IF(AND(H17=1,J17=5),"ALTO",IF(L17<=4,"BAJO",IF(AND(H17=5,J17=1),"ALTO",IF(L17<=6,"MODERADO",IF(AND(H17=2,J17=5),"EXTREMO",IF(L17<=10,"ALTO",IF(AND(H17=4,J17=3),"ALTO","EXTREMO"))))))))))) | U17: =IF(OR(Q17="",S17=""),"",Q17*S17) | V17: =IF(U17="","",IF(AND(Q17=1,S17=3),"MODERADO",IF(AND(Q17=4,S17=1),"MODERADO",IF(AND(Q17=1,S17=4),"ALTO",IF(AND(Q17=1,S17=5),"ALTO",IF(U17<=4,"BAJO",IF(AND(Q17=5,S17=1),"ALTO",IF(U17<=6,"MODERADO",IF(AND(Q17=2,S17=5),"EXTREMO",IF(U17<=10,"ALTO",IF(AND(Q17=4,S17=3),"ALTO","EXTREMO")))))))))))
A18: =IF(AND(Q18=1,S18=1),1,IF(AND(Q18=1,S18=2),2,IF(AND(Q18=1,S18=3),3,IF(AND(Q18=1,S18=4),4,IF(AND(Q18=1,S18=5),5,IF(AND(Q18=2,S18=1),6,IF(AND(Q18=2,S18=2),7,IF(AND(Q18=2,S18=3),8,IF(AND(Q18=2,S18=4),9,IF(AND(Q18=2,S18=5),10,IF(AND(Q18=3,S18=1),11,IF(AND(Q18=3,S18=2),12,IF(AND(Q18=3,S18=3),13,IF(AND(Q18=3,S18=4),14,IF(AND(Q18=3,S18=5),15,IF(AND(Q18=4,S18=1),16,IF(AND(Q18=4,S18=2),17,IF(AND(Q18=4,S18=3),18,IF(AND(Q18=4,S18=4),19,IF(AND(Q18=4,S18=5),20,IF(AND(Q18=5,S18=1),21,IF(AND(Q18=5,S18=2),22,IF(AND(Q18=5,S18=3),23,IF(AND(Q18=5,S18=4),24,IF(AND(Q18=5,S18=5),25,""))))))))))))))))))))))))) | B18: =IF(A18="","",(COUNTIF($A$5:A18,A18))/100) | C18: =IFERROR(A18+B18,"") | D18: 14 | L18: =IF(OR(H18="",J18=""),"",H18*J18) | M18: =IF(L18="","",IF(AND(H18=1,J18=3),"MODERADO",IF(AND(H18=4,J18=1),"MODERADO",IF(AND(H18=1,J18=4),"ALTO",IF(AND(H18=1,J18=5),"ALTO",IF(L18<=4,"BAJO",IF(AND(H18=5,J18=1),"ALTO",IF(L18<=6,"MODERADO",IF(AND(H18=2,J18=5),"EXTREMO",IF(L18<=10,"ALTO",IF(AND(H18=4,J18=3),"ALTO","EXTREMO"))))))))))) | U18: =IF(OR(Q18="",S18=""),"",Q18*S18) | V18: =IF(U18="","",IF(AND(Q18=1,S18=3),"MODERADO",IF(AND(Q18=4,S18=1),"MODERADO",IF(AND(Q18=1,S18=4),"ALTO",IF(AND(Q18=1,S18=5),"ALTO",IF(U18<=4,"BAJO",IF(AND(Q18=5,S18=1),"ALTO",IF(U18<=6,"MODERADO",IF(AND(Q18=2,S18=5),"EXTREMO",IF(U18<=10,"ALTO",IF(AND(Q18=4,S18=3),"ALTO","EXTREMO")))))))))))
A19: =IF(AND(Q19=1,S19=1),1,IF(AND(Q19=1,S19=2),2,IF(AND(Q19=1,S19=3),3,IF(AND(Q19=1,S19=4),4,IF(AND(Q19=1,S19=5),5,IF(AND(Q19=2,S19=1),6,IF(AND(Q19=2,S19=2),7,IF(AND(Q19=2,S19=3),8,IF(AND(Q19=2,S19=4),9,IF(AND(Q19=2,S19=5),10,IF(AND(Q19=3,S19=1),11,IF(AND(Q19=3,S19=2),12,IF(AND(Q19=3,S19=3),13,IF(AND(Q19=3,S19=4),14,IF(AND(Q19=3,S19=5),15,IF(AND(Q19=4,S19=1),16,IF(AND(Q19=4,S19=2),17,IF(AND(Q19=4,S19=3),18,IF(AND(Q19=4,S19=4),19,IF(AND(Q19=4,S19=5),20,IF(AND(Q19=5,S19=1),21,IF(AND(Q19=5,S19=2),22,IF(AND(Q19=5,S19=3),23,IF(AND(Q19=5,S19=4),24,IF(AND(Q19=5,S19=5),25,""))))))))))))))))))))))))) | B19: =IF(A19="","",(COUNTIF($A$5:A19,A19))/100) | C19: =IFERROR(A19+B19,"") | D19: 15 | L19: =IF(OR(H19="",J19=""),"",H19*J19) | M19: =IF(L19="","",IF(AND(H19=1,J19=3),"MODERADO",IF(AND(H19=4,J19=1),"MODERADO",IF(AND(H19=1,J19=4),"ALTO",IF(AND(H19=1,J19=5),"ALTO",IF(L19<=4,"BAJO",IF(AND(H19=5,J19=1),"ALTO",IF(L19<=6,"MODERADO",IF(AND(H19=2,J19=5),"EXTREMO",IF(L19<=10,"ALTO",IF(AND(H19=4,J19=3),"ALTO","EXTREMO"))))))))))) | U19: =IF(OR(Q19="",S19=""),"",Q19*S19) | V19: =IF(U19="","",IF(AND(Q19=1,S19=3),"MODERADO",IF(AND(Q19=4,S19=1),"MODERADO",IF(AND(Q19=1,S19=4),"ALTO",IF(AND(Q19=1,S19=5),"ALTO",IF(U19<=4,"BAJO",IF(AND(Q19=5,S19=1),"ALTO",IF(U19<=6,"MODERADO",IF(AND(Q19=2,S19=5),"EXTREMO",IF(U19<=10,"ALTO",IF(AND(Q19=4,S19=3),"ALTO","EXTREMO")))))))))))
A20: =IF(AND(Q20=1,S20=1),1,IF(AND(Q20=1,S20=2),2,IF(AND(Q20=1,S20=3),3,IF(AND(Q20=1,S20=4),4,IF(AND(Q20=1,S20=5),5,IF(AND(Q20=2,S20=1),6,IF(AND(Q20=2,S20=2),7,IF(AND(Q20=2,S20=3),8,IF(AND(Q20=2,S20=4),9,IF(AND(Q20=2,S20=5),10,IF(AND(Q20=3,S20=1),11,IF(AND(Q20=3,S20=2),12,IF(AND(Q20=3,S20=3),13,IF(AND(Q20=3,S20=4),14,IF(AND(Q20=3,S20=5),15,IF(AND(Q20=4,S20=1),16,IF(AND(Q20=4,S20=2),17,IF(AND(Q20=4,S20=3),18,IF(AND(Q20=4,S20=4),19,IF(AND(Q20=4,S20=5),20,IF(AND(Q20=5,S20=1),21,IF(AND(Q20=5,S20=2),22,IF(AND(Q20=5,S20=3),23,IF(AND(Q20=5,S20=4),24,IF(AND(Q20=5,S20=5),25,""))))))))))))))))))))))))) | B20: =IF(A20="","",(COUNTIF($A$5:A20,A20))/100) | C20: =IFERROR(A20+B20,"") | D20: 16 | L20: =IF(OR(H20="",J20=""),"",H20*J20) | M20: =IF(L20="","",IF(AND(H20=1,J20=3),"MODERADO",IF(AND(H20=4,J20=1),"MODERADO",IF(AND(H20=1,J20=4),"ALTO",IF(AND(H20=1,J20=5),"ALTO",IF(L20<=4,"BAJO",IF(AND(H20=5,J20=1),"ALTO",IF(L20<=6,"MODERADO",IF(AND(H20=2,J20=5),"EXTREMO",IF(L20<=10,"ALTO",IF(AND(H20=4,J20=3),"ALTO","EXTREMO"))))))))))) | U20: =IF(OR(Q20="",S20=""),"",Q20*S20) | V20: =IF(U20="","",IF(AND(Q20=1,S20=3),"MODERADO",IF(AND(Q20=4,S20=1),"MODERADO",IF(AND(Q20=1,S20=4),"ALTO",IF(AND(Q20=1,S20=5),"ALTO",IF(U20<=4,"BAJO",IF(AND(Q20=5,S20=1),"ALTO",IF(U20<=6,"MODERADO",IF(AND(Q20=2,S20=5),"EXTREMO",IF(U20<=10,"ALTO",IF(AND(Q20=4,S20=3),"ALTO","EXTREMO")))))))))))
... A104: =IF(AND(Q104=1,S104=1),1,IF(AND(Q104=1,S104=2),2,IF(AND(Q104=1,S104=3),3,IF(AND(Q104=1,S104=4),4,IF(AND(Q104=1,S104=5),5,IF(AND(Q104=2,S104=1),6,IF(AND(Q104=2,S104=2),7,IF(AND(Q104=2,S104=3),8,IF(AND(Q104=2,S104=4),9,IF(AND(Q104=2,S104=5),10,IF(AND(Q104=3,S104=1),11,IF(AND(Q104=3,S104=2),12,IF(AND(Q104=3,S104=3),13,IF(AND(Q104=3,S104=4),14,IF(AND(Q104=3,S104=5),15,IF(AND(Q104=4,S104=1),16,IF(AND(Q104=4,S104=2),17,IF(AND(Q104=4,S104=3),18,IF(AND(Q104=4,S104=4),19,IF(AND(Q104=4,S104=5),20,IF(AND(Q104=5,S104=1),21,IF(AND(Q104=5,S104=2),22,IF(AND(Q104=5,S104=3),23,IF(AND(Q104=5,S104=4),24,IF(AND(Q104=5,S104=5),25,""))))))))))))))))))))))))) | B104: =IF(A104="","",(COUNTIF($A$5:A104,A104))/100) | C104: =IFERROR(A104+B104,"") | D104: 100 | L104: =IF(OR(H104="",J104=""),"",H104*J104) | M104: =IF(L104="","",IF(AND(H104=1,J104=3),"MODERADO",IF(AND(H104=4,J104=1),"MODERADO",IF(AND(H104=1,J104=4),"ALTO",IF(AND(H104=1,J104=5),"ALTO",IF(L104<=4,"BAJO",IF(AND(H104=5,J104=1),"ALTO",IF(L104<=6,"MODERADO",IF(AND(H104=2,J104=5),"EXTREMO",IF(L104<=10,"ALTO",IF(AND(H104=4,J104=3),"ALTO","EXTREMO"))))))))))) | U104: =IF(OR(Q104="",S104=""),"",Q104*S104) | V104: =IF(U104="","",IF(AND(Q104=1,S104=3),"MODERADO",IF(AND(Q104=4,S104=1),"MODERADO",IF(AND(Q104=1,S104=4),"ALTO",IF(AND(Q104=1,S104=5),"ALTO",IF(U104<=4,"BAJO",IF(AND(Q104=5,S104=1),"ALTO",IF(U104<=6,"MODERADO",IF(AND(Q104=2,S104=5),"EXTREMO",IF(U104<=10,"ALTO",IF(AND(Q104=4,S104=3),"ALTO","EXTREMO")))))))))))

Sheet MAPA RIESGOS
B2: MAPA DE RIESGOS DE LA UNIVERSIDAD DE CUNDINAMARCA
B4: IMPACTO | D4: Insignificante (1) | E4: Menor (2) | F4: Moderado (3) | G4: Mayor (4) | I4: Catastrófico (5) | N4: =IF(N5<>""," -R","") | P4: =IF(P5<>""," -R","") | R4: =IF(R5<>""," -R","") | T4: =IF(T5<>""," -R","") | V4: =IF(V5<>""," -R","") | X4: =IF(X5<>""," -R","") | Z4: =IF(Z5<>""," -R","") | AB4: =IF(AB5<>""," -R","") | AD4: =IF(AD5<>""," -R","") -> -R | AF4: =IF(AF5<>""," -R","") -> -R | AH4: =IF(AH5<>""," -R","") | AJ4: =IF(AJ5<>""," -R","") | AL4: =IF(AL5<>""," -R","") -> -R | AN4: =IF(AN5<>""," -R","") | AP4: =IF(AP5<>""," -R","") | AR4: =IF(AR5<>""," -R","") | AT4: =IF(AT5<>""," -R","") | AV4: =IF(AV5<>""," -R","") | AX4: =IF(AX5<>""," -R","") | AZ4: =IF(AZ5<>""," -R","") | BB4: =IF(BB5<>""," -R","") | BD4: =IF(BD5<>""," -R","") | BF4: =IF(BF5<>""," -R","") | BH4: =IF(BH5<>""," -R","") | BJ4: =IF(BJ5<>""," -R","")
B5: PROBABILIDAD | M5: 1.01 | N5: =IFERROR(VLOOKUP(M5,'CRUCE RIESGOS'!$C$5:$D$104,2,FALSE),"") | O5: 2.01 | P5: =IFERROR(VLOOKUP(O5,'CRUCE RIESGOS'!$C$5:$D$104,2,FALSE),"") | Q5: 3.01 | R5: =IFERROR(VLOOKUP(Q5,'CRUCE RIESGOS'!$C$5:$D$104,2,FALSE),"") | S5: 4.01 | T5: =IFERROR(VLOOKUP(S5,'CRUCE RIESGOS'!$C$5:$D$104,2,FALSE),"") | U5: 5.01 | V5: =IFERROR(VLOOKUP(U5,'CRUCE RIESGOS'!$C$5:$D$104,2,FALSE),"") | W5: 6.01 | X5: =IFERROR(VLOOKUP(W5,'CRUCE RIESGOS'!$C$5:$D$104,2,FALSE),"") | Y5: 7.01 | Z5: =IFERROR(VLOOKUP(Y5,'CRUCE RIESGOS'!$C$5:$D$104,2,FALSE),"") | AA5: 8.01 | AB5: =IFERROR(VLOOKUP(AA5,'CRUCE RIESGOS'!$C$5:$D$104,2,FALSE),"") | AC5: 9.01 | AD5: =IFERROR(VLOOKUP(AC5,'CRUCE RIESGOS'!$C$5:$D$104,2,FALSE),"") -> 3 | AE5: 10.01 | AF5: =IFERROR(VLOOKUP(AE5,'CRUCE RIESGOS'!$C$5:$D$104,2,FALSE),"") -> 2 | AG5: 11.01 | AH5: =IFERROR(VLOOKUP(AG5,'CRUCE RIESGOS'!$C$5:$D$104,2,FALSE),"") | AI5: 12.01 | AJ5: =IFERROR(VLOOKUP(AI5,'CRUCE RIESGOS'!$C$5:$D$104,2,FALSE),"") | AK5: 13.01 | AL5: =IFERROR(VLOOKUP(AK5,'CRUCE RIESGOS'!$C$5:$D$104,2,FALSE),"") -> 1 | AM5: 14.01 | AN5: =IFERROR(VLOOKUP(AM5,'CRUCE RIESGOS'!$C$5:$D$104,2,FALSE),"") | AO5: 15.01 | AP5: =IFERROR(VLOOKUP(AO5,'CRUCE RIESGOS'!$C$5:$D$104,2,FALSE),"") | AQ5: 16.01 | AR5: =IFERROR(VLOOKUP(AQ5,'CRUCE RIESGOS'!$C$5:$D$104,2,FALSE),"") | AS5: 17.01 | AT5: =IFERROR(VLOOKUP(AS5,'CRUCE RIESGOS'!$C$5:$D$104,2,FALSE),"") | AU5: 18.01 | AV5: =IFERROR(VLOOKUP(AU5,'CRUCE RIESGOS'!$C$5:$D$104,2,FALSE),"") | AW5: 19.01 | AX5: =IFERROR(VLOOKUP(AW5,'CRUCE RIESGOS'!$C$5:$D$104,2,FALSE),"") | AY5: 20.01 | AZ5: =IFERROR(VLOOKUP(AY5,'CRUCE RIESGOS'!$C$5:$D$104,2,FALSE),"") | BA5: 21.01 | BB5: =IFERROR(VLOOKUP(BA5,'CRUCE RIESGOS'!$C$5:$D$104,2,FALSE),"") | BC5: 22.01 | BD5: =IFERROR(VLOOKUP(BC5,'CRUCE RIESGOS'!$C$5:$D$104,2,FALSE),"") | BE5: 23.01 | BF5: =IFERROR(VLOOKUP(BE5,'CRUCE RIESGOS'!$C$5:$D$104,2,FALSE),"") | BG5: 24.01 | BH5: =IFERROR(VLOOKUP(BG5,'CRUCE RIESGOS'!$C$5:$D$104,2,FALSE),"") | BI5: 25.01 | BJ5: =IFERROR(VLOOKUP(BI5,'CRUCE RIESGOS'!$C$5:$D$104,2,FALSE),"")
B6: Raro (1) | D6: =CONCATENATE(N4,N5,N6,N7,N8,N9,N10,N12,N13,N15,N16,N17,N18,N19,N20,N21,N22,N23,N24,N25,N26,N27,N28,N29,N30,N31,N32,N33,N34,N35,N36,N37,N38,N39,N40,N41,N42,N43,N44,N45,N46,N47,N48,N49,N50,N51,N52,N53,N54,N55,N56,N57,N58,N59,N60,N61,N62,N63,N64,N65,N66,N67,N68,N69,N70,N71,N72,N73,N74,N75,N76,N77,N78,N79,N80,N81,N82,N83,N84,N85,N86,N87,N88,N89,N90,N91,N92,N93,N94,N95,N96,N97,N98,N99,N100,N101,N102,N103,N104,N105,N106,N107,N108,N109,N110,N111,N112,N113,N114,N115,N116,N117,N118,N119,N120,N121,N122,N123,N124,N125,N126,N127,N128,N129,N130,N131,N132,N133,N134,N135,N136,N137,N138,N139,N140,N141,N142,N143,N144,N145,N146,N147,N148,N149,N150,N151,N152,N153,N154,N155,N156,N157,N158,N159,N160,N161,N162,N163,N164,N165,N166,N167,N168,N169,N170,N171,N172,N173,N174,N175,N176,N177,N178,N179,N180,N181,N182,N183,N184,N185,N186,N187,N188,N189,N190,N191,N192,N193,N194,N195,N196,N197,N198,N199,N200,N201,N202,N203) | E6: =CONCATENATE(P4,P5,P6,P7,P8,P9,P10,P12,P13,P15,P16,P17,P18,P19,P20,P21,P22,P23,P24,P25,P26,P27,P28,P29,P30,P31,P32,P33,P34,P35,P36,P37,P38,P39,P40,P41,P42,P43,P44,P45,P46,P47,P48,P49,P50,P51,P52,P53,P54,P55,P56,P57,P58,P59,P60,P61,P62,P63,P64,P65,P66,P67,P68,P69,P70,P71,P72,P73,P74,P75,P76,P77,P78,P79,P80,P81,P82,P83,P84,P85,P86,P87,P88,P89,P90,P91,P92,P93,P94,P95,P96,P97,P98,P99,P100,P101,P102,P103,P104,P105,P106,P107,P108,P109,P110,P111,P112,P113,P114,P115,P116,P117,P118,P119,P120,P121,P122,P123,P124,P125,P126,P127,P128,P129,P130,P131,P132,P133,P134,P135,P136,P137,P138,P139,P140,P141,P142,P143,P144,P145,P146,P147,P148,P149,P150,P151,P152,P153,P154,P155,P156,P157,P158,P159,P160,P161,P162,P163,P164,P165,P166,P167,P168,P169,P170,P171,P172,P173,P174,P175,P176,P177,P178,P179,P180,P181,P182,P183,P184,P185,P186,P187,P188,P189,P190,P191,P192,P193,P194,P195,P196,P197,P198,P199,P200,P201,P202,P203) | F6: =CONCATENATE(R4,R5,R6,R7,R8,R9,R10,R12,R13,R15,R16,R17,R18,R19,R20,R21,R22,R23,R24,R25,R26,R27,R28,R29,R30,R31,R32,R33,R34,R35,R36,R37,R38,R39,R40,R41,R42,R43,R44,R45,R46,R47,R48,R49,R50,R51,R52,R53,R54,R55,R56,R57,R58,R59,R60,R61,R62,R63,R64,R65,R66,R67,R68,R69,R70,R71,R72,R73,R74,R75,R76,R77,R78,R79,R80,R81,R82,R83,R84,R85,R86,R87,R88,R89,R90,R91,R92,R93,R94,R95,R96,R97,R98,R99,R100,R101,R102,R103,R104,R105,R106,R107,R108,R109,R110,R111,R112,R113,R114,R115,R116,R117,R118,R119,R120,R121,R122,R123,R124,R125,R126,R127,R128,R129,R130,R131,R132,R133,R134,R135,R136,R137,R138,R139,R140,R141,R142,R143,R144,R145,R146,R147,R148,R149,R150,R151,R152,R153,R154,R155,R156,R157,R158,R159,R160,R161,R162,R163,R164,R165,R166,R167,R168,R169,R170,R171,R172,R173,R174,R175,R176,R177,R178,R179,R180,R181,R182,R183,R184,R185,R186,R187,R188,R189,R190,R191,R192,R193,R194,R195,R196,R197,R198,R199,R200,R201,R202,R203) | G6: =CONCATENATE(T4,T5,T6,T7,T8,T9,T10,T12,T13,T15,T16,T17,T18,T19,T20,T21,T22,T23,T24,T25,T26,T27,T28,T29,T30,T31,T32,T33,T34,T35,T36,T37,T38,T39,T40,T41,T42,T43,T44,T45,T46,T47,T48,T49,T50,T51,T52,T53,T54,T55,T56,T57,T58,T59,T60,T61,T62,T63,T64,T65,T66,T67,T68,T69,T70,T71,T72,T73,T74,T75,T76,T77,T78,T79,T80,T81,T82,T83,T84,T85,T86,T87,T88,T89,T90,T91,T92,T93,T94,T95,T96,T97,T98,T99,T100,T101,T102,T103,T104,T105,T106,T107,T108,T109,T110,T111,T112,T113,T114,T115,T116,T117,T118,T119,T120,T121,T122,T123,T124,T125,T126,T127,T128,T129,T130,T131,T132,T133,T134,T135,T136,T137,T138,T139,T140,T141,T142,T143,T144,T145,T146,T147,T148,T149,T150,T151,T152,T153,T154,T155,T156,T157,T158,T159,T160,T161,T162,T163,T164,T165,T166,T167,T168,T169,T170,T171,T172,T173,T174,T175,T176,T177,T178,T179,T180,T181,T182,T183,T184,T185,T186,T187,T188,T189,T190,T191,T192,T193,T194,T195,T196,T197,T198,T199,T200,T201,T202,T203) | I6: =CONCATENATE(V4,V5,V6,V7,V8,V9,V10,V12,V13,V15,V16,V17,V18,V19,V20,V21,V22,V23,V24,V25,V26,V27,V28,V29,V30,V31,V32,V33,V34,V35,V36,V37,V38,V39,V40,V41,V42,V43,V44,V45,V46,V47,V48,V49,V50,V51,V52,V53,V54,V55,V56,V57,V58,V59,V60,V61,V62,V63,V64,V65,V66,V67,V68,V69,V70,V71,V72,V73,V74,V75,V76,V77,V78,V79,V80,V81,V82,V83,V84,V85,V86,V87,V88,V89,V90,V91,V92,V93,V94,V95,V96,V97,V98,V99,V100,V101,V102,V103,V104,V105,V106,V107,V108,V109,V110,V111,V112,V113,V114,V115,V116,V117,V118,V119,V120,V121,V122,V123,V124,V125,V126,V127,V128,V129,V130,V131,V132,V133,V134,V135,V136,V137,V138,V139,V140,V141,V142,V143,V144,V145,V146,V147,V148,V149,V150,V151,V152,V153,V154,V155,V156,V157,V158,V159,V160,V161,V162,V163,V164,V165,V166,V167,V168,V169,V170,V171,V172,V173,V174,V175,V176,V177,V178,V179,V180,V181,V182,V183,V184,V185,V186,V187,V188,V189,V190,V191,V192,V193,V194,V195,V196,V197,V198,V199,V200,V201,V202,V203) | N6: =IF(N7<>""," -R","") | P6: =IF(P7<>""," -R","") | R6: =IF(R7<>""," -R","") | T6: =IF(T7<>""," -R","") | V6: =IF(V7<>""," -R","") | X6: =IF(X7<>""," -R","") | Z6: =IF(Z7<>""," -R","") | AB6: =IF(AB7<>""," -R","") | AD6: =IF(AD7<>""," -R","") -> -R | AF6: =IF(AF7<>""," -R","") | AH6: =IF(AH7<>""," -R","") | AJ6: =IF(AJ7<>""," -R","") | AL6: =IF(AL7<>""," -R","") | AN6: =IF(AN7<>""," -R","") | AP6: =IF(AP7<>""," -R","") | AR6: =IF(AR7<>""," -R","") | AT6: =IF(AT7<>""," -R","") | AV6: =IF(AV7<>""," -R","") | AX6: =IF(AX7<>""," -R","") | AZ6: =IF(AZ7<>""," -R","") | BB6: =IF(BB7<>""," -R","") | BD6: =IF(BD7<>""," -R","") | BF6: =IF(BF7<>""," -R","") | BH6: =IF(BH7<>""," -R","") | BJ6: =IF(BJ7<>""," -R","")
B7: Improbable (2) | D7: =CONCATENATE(X4,X5,X6,X7,X8,X9,X10,X12,X13,X15,X16,X17,X18,X19,X20,X21,X22,X23,X24,X25,X26,X27,X28,X29,X30,X31,X32,X33,X34,X35,X36,X37,X38,X39,X40,X41,X42,X43,X44,X45,X46,X47,X48,X49,X50,X51,X52,X53,X54,X55,X56,X57,X58,X59,X60,X61,X62,X63,X64,X65,X66,X67,X68,X69,X70,X71,X72,X73,X74,X75,X76,X77,X78,X79,X80,X81,X82,X83,X84,X85,X86,X87,X88,X89,X90,X91,X92,X93,X94,X95,X96,X97,X98,X99,X100,X101,X102,X103,X104,X105,X106,X107,X108,X109,X110,X111,X112,X113,X114,X115,X116,X117,X118,X119,X120,X121,X122,X123,X124,X125,X126,X127,X128,X129,X130,X131,X132,X133,X134,X135,X136,X137,X138,X139,X140,X141,X142,X143,X144,X145,X146,X147,X148,X149,X150,X151,X152,X153,X154,X155,X156,X157,X158,X159,X160,X161,X162,X163,X164,X165,X166,X167,X168,X169,X170,X171,X172,X173,X174,X175,X176,X177,X178,X179,X180,X181,X182,X183,X184,X185,X186,X187,X188,X189,X190,X191,X192,X193,X194,X195,X196,X197,X198,X199,X200,X201,X202,X203) | E7: =CONCATENATE(Z4,Z5,Z6,Z7,Z8,Z9,Z10,Z12,Z13,Z15,Z16,Z17,Z18,Z19,Z20,Z21,Z22,Z23,Z24,Z25,Z26,Z27,Z28,Z29,Z30,Z31,Z32,Z33,Z34,Z35,Z36,Z37,Z38,Z39,Z40,Z41,Z42,Z43,Z44,Z45,Z46,Z47,Z48,Z49,Z50,Z51,Z52,Z53,Z54,Z55,Z56,Z57,Z58,Z59,Z60,Z61,Z62,Z63,Z64,Z65,Z66,Z67,Z68,Z69,Z70,Z71,Z72,Z73,Z74,Z75,Z76,Z77,Z78,Z79,Z80,Z81,Z82,Z83,Z84,Z85,Z86,Z87,Z88,Z89,Z90,Z91,Z92,Z93,Z94,Z95,Z96,Z97,Z98,Z99,Z100,Z101,Z102,Z103,Z104,Z105,Z106,Z107,Z108,Z109,Z110,Z111,Z112,Z113,Z114,Z115,Z116,Z117,Z118,Z119,Z120,Z121,Z122,Z123,Z124,Z125,Z126,Z127,Z128,Z129,Z130,Z131,Z132,Z133,Z134,Z135,Z136,Z137,Z138,Z139,Z140,Z141,Z142,Z143,Z144,Z145,Z146,Z147,Z148,Z149,Z150,Z151,Z152,Z153,Z154,Z155,Z156,Z157,Z158,Z159,Z160,Z161,Z162,Z163,Z164,Z165,Z166,Z167,Z168,Z169,Z170,Z171,Z172,Z173,Z174,Z175,Z176,Z177,Z178,Z179,Z180,Z181,Z182,Z183,Z184,Z185,Z186,Z187,Z188,Z189,Z190,Z191,Z192,Z193,Z194,Z195,Z196,Z197,Z198,Z199,Z200,Z201,Z202,Z203) | F7: =CONCATENATE(AB4,AB5,AB6,AB7,AB8,AB9,AB10,AB12,AB13,AB15,AB16,AB17,AB18,AB19,AB20,AB21,AB22,AB23,AB24,AB25,AB26,AB27,AB28,AB29,AB30,AB31,AB32,AB33,AB34,AB35,AB36,AB37,AB38,AB39,AB40,AB41,AB42,AB43,AB44,AB45,AB46,AB47,AB48,AB49,AB50,AB51,AB52,AB53,AB54,AB55,AB56,AB57,AB58,AB59,AB60,AB61,AB62,AB63,AB64,AB65,AB66,AB67,AB68,AB69,AB70,AB71,AB72,AB73,AB74,AB75,AB76,AB77,AB78,AB79,AB80,AB81,AB82,AB83,AB84,AB85,AB86,AB87,AB88,AB89,AB90,AB91,AB92,AB93,AB94,AB95,AB96,AB97,AB98,AB99,AB100,AB101,AB102,AB103,AB104,AB105,AB106,AB107,AB108,AB109,AB110,AB111,AB112,AB113,AB114,AB115,AB116,AB117,AB118,AB119,AB120,AB121,AB122,AB123,AB124,AB125,AB126,AB127,AB128,AB129,AB130,AB131,AB132,AB133,AB134,AB135,AB136,AB137,AB138,AB139,AB140,AB141,AB142,AB143,AB144,AB145,AB146,AB147,AB148,AB149,AB150,AB151,AB152,AB153,AB154,AB155,AB156,AB157,AB158,AB159,AB160,AB161,AB162,AB163,AB164,AB165,AB166,AB167,AB168,AB169,AB170,AB171,AB172,AB173,AB174,AB175,AB176,AB177,AB178,AB179,AB180,AB181,AB182,AB183,AB184,AB185,AB186,AB187,AB188,AB189,AB190,AB191,AB192,AB193,AB194,AB195,AB196,AB197,AB198,AB199,AB200,AB201,AB202,AB203) | G7: =CONCATENATE(AD4,AD5,AD6,AD7,AD8,AD9,AD10,AD12,AD13,AD15,AD16,AD17,AD18,AD19,AD20,AD21,AD22,AD23,AD24,AD25,AD26,AD27,AD28,AD29,AD30,AD31,AD32,AD33,AD34,AD35,AD36,AD37,AD38,AD39,AD40,AD41,AD42,AD43,AD44,AD45,AD46,AD47,AD48,AD49,AD50,AD51,AD52,AD53,AD54,AD55,AD56,AD57,AD58,AD59,AD60,AD61,AD62,AD63,AD64,AD65,AD66,AD67,AD68,AD69,AD70,AD71,AD72,AD73,AD74,AD75,AD76,AD77,AD78,AD79,AD80,AD81,AD82,AD83,AD84,AD85,AD86,AD87,AD88,AD89,AD90,AD91,AD92,AD93,AD94,AD95,AD96,AD97,AD98,AD99,AD100,AD101,AD102,AD103,AD104,AD105,AD106,AD107,AD108,AD109,AD110,AD111,AD112,AD113,AD114,AD115,AD116,AD117,AD118,AD119,AD120,AD121,AD122,AD123,AD124,AD125,AD126,AD127,AD128,AD129,AD130,AD131,AD132,AD133,AD134,AD135,AD136,AD137,AD138,AD139,AD140,AD141,AD142,AD143,AD144,AD145,AD146,AD147,AD148,AD149,AD150,AD151,AD152,AD153,AD154,AD155,AD156,AD157,AD158,AD159,AD160,AD161,AD162,AD163,AD164,AD165,AD166,AD167,AD168,AD169,AD170,AD171,AD172,AD173,AD174,AD175,AD176,AD177,AD178,AD179,AD180,AD181,AD182,AD183,AD184,AD185,AD186,AD187,AD188,AD189,AD190,AD191,AD192,AD193,AD194,AD195,AD196,AD197,AD198,AD199,AD200,AD201,AD202,AD203) -> -R3 -R4 | I7: =CONCATENATE(AF4,AF5,AF6,AF7,AF8,AF9,AF10,AF12,AF13,AF15,AF16,AF17,AF18,AF19,AF20,AF21,AF22,AF23,AF24,AF25,AF26,AF27,AF28,AF29,AF30,AF31,AF32,AF33,AF34,AF35,AF36,AF37,AF38,AF39,AF40,AF41,AF42,AF43,AF44,AF45,AF46,AF47,AF48,AF49,AF50,AF51,AF52,AF53,AF54,AF55,AF56,AF57,AF58,AF59,AF60,AF61,AF62,AF63,AF64,AF65,AF66,AF67,AF68,AF69,AF70,AF71,AF72,AF73,AF74,AF75,AF76,AF77,AF78,AF79,AF80,AF81,AF82,AF83,AF84,AF85,AF86,AF87,AF88,AF89,AF90,AF91,AF92,AF93,AF94,AF95,AF96,AF97,AF98,AF99,AF100,AF101,AF102,AF103,AF104,AF105,AF106,AF107,AF108,AF109,AF110,AF111,AF112,AF113,AF114,AF115,AF116,AF117,AF118,AF119,AF120,AF121,AF122,AF123,AF124,AF125,AF126,AF127,AF128,AF129,AF130,AF131,AF132,AF133,AF134,AF135,AF136,AF137,AF138,AF139,AF140,AF141,AF142,AF143,AF144,AF145,AF146,AF147,AF148,AF149,AF150,AF151,AF152,AF153,AF154,AF155,AF156,AF157,AF158,AF159,AF160,AF161,AF162,AF163,AF164,AF165,AF166,AF167,AF168,AF169,AF170,AF171,AF172,AF173,AF174,AF175,AF176,AF177,AF178,AF179,AF180,AF181,AF182,AF183,AF184,AF185,AF186,AF187,AF188,AF189,AF190,AF191,AF192,AF193,AF194,AF195,AF196,AF197,AF198,AF199,AF200,AF201,AF202,AF203) -> -R2 | M7: 1.02 | N7: =IFERROR(VLOOKUP(M7,'CRUCE RIESGOS'!$C$5:$D$104,2,FALSE),"") | O7: 2.02 | P7: =IFERROR(VLOOKUP(O7,'CRUCE RIESGOS'!$C$5:$D$104,2,FALSE),"") | Q7: 3.02 | R7: =IFERROR(VLOOKUP(Q7,'CRUCE RIESGOS'!$C$5:$D$104,2,FALSE),"") | S7: 4.02 | T7: =IFERROR(VLOOKUP(S7,'CRUCE RIESGOS'!$C$5:$D$104,2,FALSE),"") | U7: 5.02 | V7: =IFERROR(VLOOKUP(U7,'CRUCE RIESGOS'!$C$5:$D$104,2,FALSE),"") | W7: 6.02 | X7: =IFERROR(VLOOKUP(W7,'CRUCE RIESGOS'!$C$5:$D$104,2,FALSE),"") | Y7: 7.02 | Z7: =IFERROR(VLOOKUP(Y7,'CRUCE RIESGOS'!$C$5:$D$104,2,FALSE),"") | AA7: 8.02 | AB7: =IFERROR(VLOOKUP(AA7,'CRUCE RIESGOS'!$C$5:$D$104,2,FALSE),"") | AC7: 9.02 | AD7: =IFERROR(VLOOKUP(AC7,'CRUCE RIESGOS'!$C$5:$D$104,2,FALSE),"") -> 4 | AE7: 10.02 | AF7: =IFERROR(VLOOKUP(AE7,'CRUCE RIESGOS'!$C$5:$D$104,2,FALSE),"") | AG7: 11.02 | AH7: =IFERROR(VLOOKUP(AG7,'CRUCE RIESGOS'!$C$5:$D$104,2,FALSE),"") | AI7: 12.02 | AJ7: =IFERROR(VLOOKUP(AI7,'CRUCE RIESGOS'!$C$5:$D$104,2,FALSE),"") | AK7: 13.02 | AL7: =IFERROR(VLOOKUP(AK7,'CRUCE RIESGOS'!$C$5:$D$104,2,FALSE),"") | AM7: 14.02 | AN7: =IFERROR(VLOOKUP(AM7,'CRUCE RIESGOS'!$C$5:$D$104,2,FALSE),"") | AO7: 15.02 | AP7: =IFERROR(VLOOKUP(AO7,'CRUCE RIESGOS'!$C$5:$D$104,2,FALSE),"") | AQ7: 16.02 | AR7: =IFERROR(VLOOKUP(AQ7,'CRUCE RIESGOS'!$C$5:$D$104,2,FALSE),"") | AS7: 17.02 | AT7: =IFERROR(VLOOKUP(AS7,'CRUCE RIESGOS'!$C$5:$D$104,2,FALSE),"") | AU7: 18.02 | AV7: =IFERROR(VLOOKUP(AU7,'CRUCE RIESGOS'!$C$5:$D$104,2,FALSE),"") | AW7: 19.02 | AX7: =IFERROR(VLOOKUP(AW7,'CRUCE RIESGOS'!$C$5:$D$104,2,FALSE),"") | AY7: 20.02 | AZ7: =IFERROR(VLOOKUP(AY7,'CRUCE RIESGOS'!$C$5:$D$104,2,FALSE),"") | BA7: 21.02 | BB7: =IFERROR(VLOOKUP(BA7,'CRUCE RIESGOS'!$C$5:$D$104,2,FALSE),"") | BC7: 22.02 | BD7: =IFERROR(VLOOKUP(BC7,'CRUCE RIESGOS'!$C$5:$D$104,2,FALSE),"") | BE7: 23.02 | BF7: =IFERROR(VLOOKUP(BE7,'CRUCE RIESGOS'!$C$5:$D$104,2,FALSE),"") | BG7: 24.02 | BH7: =IFERROR(VLOOKUP(BG7,'CRUCE RIESGOS'!$C$5:$D$104,2,FALSE),"") | BI7: 25.02 | BJ7: =IFERROR(VLOOKUP(BI7,'CRUCE RIESGOS'!$C$5:$D$104,2,FALSE),"")
B8: Posible (3) | D8: =CONCATENATE(AH4,AH5,AH6,AH7,AH8,AH9,AH10,AH12,AH13,AH15,AH16,AH17,AH18,AH19,AH20,AH21,AH22,AH23,AH24,AH25,AH26,AH27,AH28,AH29,AH30,AH31,AH32,AH33,AH34,AH35,AH36,AH37,AH38,AH39,AH40,AH41,AH42,AH43,AH44,AH45,AH46,AH47,AH48,AH49,AH50,AH51,AH52,AH53,AH54,AH55,AH56,AH57,AH58,AH59,AH60,AH61,AH62,AH63,AH64,AH65,AH66,AH67,AH68,AH69,AH70,AH71,AH72,AH73,AH74,AH75,AH76,AH77,AH78,AH79,AH80,AH81,AH82,AH83,AH84,AH85,AH86,AH87,AH88,AH89,AH90,AH91,AH92,AH93,AH94,AH95,AH96,AH97,AH98,AH99,AH100,AH101,AH102,AH103,AH104,AH105,AH106,AH107,AH108,AH109,AH110,AH111,AH112,AH113,AH114,AH115,AH116,AH117,AH118,AH119,AH120,AH121,AH122,AH123,AH124,AH125,AH126,AH127,AH128,AH129,AH130,AH131,AH132,AH133,AH134,AH135,AH136,AH137,AH138,AH139,AH140,AH141,AH142,AH143,AH144,AH145,AH146,AH147,AH148,AH149,AH150,AH151,AH152,AH153,AH154,AH155,AH156,AH157,AH158,AH159,AH160,AH161,AH162,AH163,AH164,AH165,AH166,AH167,AH168,AH169,AH170,AH171,AH172,AH173,AH174,AH175,AH176,AH177,AH178,AH179,AH180,AH181,AH182,AH183,AH184,AH185,AH186,AH187,AH188,AH189,AH190,AH191,AH192,AH193,AH194,AH195,AH196,AH197,AH198,AH199,AH200,AH201,AH202,AH203) | E8: =CONCATENATE(AJ4,AJ5,AJ6,AJ7,AJ8,AJ9,AJ10,AJ12,AJ13,AJ15,AJ16,AJ17,AJ18,AJ19,AJ20,AJ21,AJ22,AJ23,AJ24,AJ25,AJ26,AJ27,AJ28,AJ29,AJ30,AJ31,AJ32,AJ33,AJ34,AJ35,AJ36,AJ37,AJ38,AJ39,AJ40,AJ41,AJ42,AJ43,AJ44,AJ45,AJ46,AJ47,AJ48,AJ49,AJ50,AJ51,AJ52,AJ53,AJ54,AJ55,AJ56,AJ57,AJ58,AJ59,AJ60,AJ61,AJ62,AJ63,AJ64,AJ65,AJ66,AJ67,AJ68,AJ69,AJ70,AJ71,AJ72,AJ73,AJ74,AJ75,AJ76,AJ77,AJ78,AJ79,AJ80,AJ81,AJ82,AJ83,AJ84,AJ85,AJ86,AJ87,AJ88,AJ89,AJ90,AJ91,AJ92,AJ93,AJ94,AJ95,AJ96,AJ97,AJ98,AJ99,AJ100,AJ101,AJ102,AJ103,AJ104,AJ105,AJ106,AJ107,AJ108,AJ109,AJ110,AJ111,AJ112,AJ113,AJ114,AJ115,AJ116,AJ117,AJ118,AJ119,AJ120,AJ121,AJ122,AJ123,AJ124,AJ125,AJ126,AJ127,AJ128,AJ129,AJ130,AJ131,AJ132,AJ133,AJ134,AJ135,AJ136,AJ137,AJ138,AJ139,AJ140,AJ141,AJ142,AJ143,AJ144,AJ145,AJ146,AJ147,AJ148,AJ149,AJ150,AJ151,AJ152,AJ153,AJ154,AJ155,AJ156,AJ157,AJ158,AJ159,AJ160,AJ161,AJ162,AJ163,AJ164,AJ165,AJ166,AJ167,AJ168,AJ169,AJ170,AJ171,AJ172,AJ173,AJ174,AJ175,AJ176,AJ177,AJ178,AJ179,AJ180,AJ181,AJ182,AJ183,AJ184,AJ185,AJ186,AJ187,AJ188,AJ189,AJ190,AJ191,AJ192,AJ193,AJ194,AJ195,AJ196,AJ197,AJ198,AJ199,AJ200,AJ201,AJ202,AJ203) | F8: =CONCATENATE(AL4,AL5,AL6,AL7,AL8,AL9,AL10,AL12,AL13,AL15,AL16,AL17,AL18,AL19,AL20,AL21,AL22,AL23,AL24,AL25,AL26,AL27,AL28,AL29,AL30,AL31,AL32,AL33,AL34,AL35,AL36,AL37,AL38,AL39,AL40,AL41,AL42,AL43,AL44,AL45,AL46,AL47,AL48,AL49,AL50,AL51,AL52,AL53,AL54,AL55,AL56,AL57,AL58,AL59,AL60,AL61,AL62,AL63,AL64,AL65,AL66,AL67,AL68,AL69,AL70,AL71,AL72,AL73,AL74,AL75,AL76,AL77,AL78,AL79,AL80,AL81,AL82,AL83,AL84,AL85,AL86,AL87,AL88,AL89,AL90,AL91,AL92,AL93,AL94,AL95,AL96,AL97,AL98,AL99,AL100,AL101,AL102,AL103,AL104,AL105,AL106,AL107,AL108,AL109,AL110,AL111,AL112,AL113,AL114,AL115,AL116,AL117,AL118,AL119,AL120,AL121,AL122,AL123,AL124,AL125,AL126,AL127,AL128,AL129,AL130,AL131,AL132,AL133,AL134,AL135,AL136,AL137,AL138,AL139,AL140,AL141,AL142,AL143,AL144,AL145,AL146,AL147,AL148,AL149,AL150,AL151,AL152,AL153,AL154,AL155,AL156,AL157,AL158,AL159,AL160,AL161,AL162,AL163,AL164,AL165,AL166,AL167,AL168,AL169,AL170,AL171,AL172,AL173,AL174,AL175,AL176,AL177,AL178,AL179,AL180,AL181,AL182,AL183,AL184,AL185,AL186,AL187,AL188,AL189,AL190,AL191,AL192,AL193,AL194,AL195,AL196,AL197,AL198,AL199,AL200,AL201,AL202,AL203) -> -R1 | G8: =CONCATENATE(AN4,AN5,AN6,AN7,AN8,AN9,AN10,AN12,AN13,AN15,AN16,AN17,AN18,AN19,AN20,AN21,AN22,AN23,AN24,AN25,AN26,AN27,AN28,AN29,AN30,AN31,AN32,AN33,AN34,AN35,AN36,AN37,AN38,AN39,AN40,AN41,AN42,AN43,AN44,AN45,AN46,AN47,AN48,AN49,AN50,AN51,AN52,AN53,AN54,AN55,AN56,AN57,AN58,AN59,AN60,AN61,AN62,AN63,AN64,AN65,AN66,AN67,AN68,AN69,AN70,AN71,AN72,AN73,AN74,AN75,AN76,AN77,AN78,AN79,AN80,AN81,AN82,AN83,AN84,AN85,AN86,AN87,AN88,AN89,AN90,AN91,AN92,AN93,AN94,AN95,AN96,AN97,AN98,AN99,AN100,AN101,AN102,AN103,AN104,AN105,AN106,AN107,AN108,AN109,AN110,AN111,AN112,AN113,AN114,AN115,AN116,AN117,AN118,AN119,AN120,AN121,AN122,AN123,AN124,AN125,AN126,AN127,AN128,AN129,AN130,AN131,AN132,AN133,AN134,AN135,AN136,AN137,AN138,AN139,AN140,AN141,AN142,AN143,AN144,AN145,AN146,AN147,AN148,AN149,AN150,AN151,AN152,AN153,AN154,AN155,AN156,AN157,AN158,AN159,AN160,AN161,AN162,AN163,AN164,AN165,AN166,AN167,AN168,AN169,AN170,AN171,AN172,AN173,AN174,AN175,AN176,AN177,AN178,AN179,AN180,AN181,AN182,AN183,AN184,AN185,AN186,AN187,AN188,AN189,AN190,AN191,AN192,AN193,AN194,AN195,AN196,AN197,AN198,AN199,AN200,AN201,AN202,AN203) | I8: =CONCATENATE(AP4,AP5,AP6,AP7,AP8,AP9,AP10,AP12,AP13,AP15,AP16,AP17,AP18,AP19,AP20,AP21,AP22,AP23,AP24,AP25,AP26,AP27,AP28,AP29,AP30,AP31,AP32,AP33,AP34,AP35,AP36,AP37,AP38,AP39,AP40,AP41,AP42,AP43,AP44,AP45,AP46,AP47,AP48,AP49,AP50,AP51,AP52,AP53,AP54,AP55,AP56,AP57,AP58,AP59,AP60,AP61,AP62,AP63,AP64,AP65,AP66,AP67,AP68,AP69,AP70,AP71,AP72,AP73,AP74,AP75,AP76,AP77,AP78,AP79,AP80,AP81,AP82,AP83,AP84,AP85,AP86,AP87,AP88,AP89,AP90,AP91,AP92,AP93,AP94,AP95,AP96,AP97,AP98,AP99,AP100,AP101,AP102,AP103,AP104,AP105,AP106,AP107,AP108,AP109,AP110,AP111,AP112,AP113,AP114,AP115,AP116,AP117,AP118,AP119,AP120,AP121,AP122,AP123,AP124,AP125,AP126,AP127,AP128,AP129,AP130,AP131,AP132,AP133,AP134,AP135,AP136,AP137,AP138,AP139,AP140,AP141,AP142,AP143,AP144,AP145,AP146,AP147,AP148,AP149,AP150,AP151,AP152,AP153,AP154,AP155,AP156,AP157,AP158,AP159,AP160,AP161,AP162,AP163,AP164,AP165,AP166,AP167,AP168,AP169,AP170,AP171,AP172,AP173,AP174,AP175,AP176,AP177,AP178,AP179,AP180,AP181,AP182,AP183,AP184,AP185,AP186,AP187,AP188,AP189,AP190,AP191,AP192,AP193,AP194,AP195,AP196,AP197,AP198,AP199,AP200,AP201,AP202,AP203) | N8: =IF(N9<>""," -R","") | P8: =IF(P9<>""," -R","") | R8: =IF(R9<>""," -R","") | T8: =IF(T9<>""," -R","") | V8: =IF(V9<>""," -R","") | X8: =IF(X9<>""," -R","") | Z8: =IF(Z9<>""," -R","") | AB8: =IF(AB9<>""," -R","") | AD8: =IF(AD9<>""," -R","") | AF8: =IF(AF9<>""," -R","") | AH8: =IF(AH9<>""," -R","") | AJ8: =IF(AJ9<>""," -R","") | AL8: =IF(AL9<>""," -R","") | AN8: =IF(AN9<>""," -R","") | AP8: =IF(AP9<>""," -R","") | AR8: =IF(AR9<>""," -R","") | AT8: =IF(AT9<>""," -R","") | AV8: =IF(AV9<>""," -R","") | AX8: =IF(AX9<>""," -R","") | AZ8: =IF(AZ9<>""," -R","") | BB8: =IF(BB9<>""," -R","") | BD8: =IF(BD9<>""," -R","") | BF8: =IF(BF9<>""," -R","") | BH8: =IF(BH9<>""," -R","") | BJ8: =IF(BJ9<>""," -R","")
