Workbook

Sheet IDENTIFICACIÓN DOFA
B6: NOMBRE DEL PROCESO | C6: GESTION CALIDAD
B8: FECHA DE ACTUALIZACIÓN | C8: 29 DE AGOSTO DE 2017
B10: OBJETIVO DEL PROCESO | C10: Mantener y mejorar el Sistema de Gestión de la Calidad a través de la administración de la información documentada, gestión de los riesgos y oportunidades y la adecuada planeación e implementación de los cambios.
B13: FACTORES INTERNOS DE LA UNIVERSIDAD DE CUNDINAMARCA | D13: FACTORES EXTERNOS DE LA UNIVERSIDAD DE CUNDINAMARCA
B14: DEBILIDADES | D14: AMENAZAS
B15: Enumere los factores que en el proceso se consideran una debilidad; por ejemplo: 1. Equipo de trabajo insuficiente en número de personas | D15: Enumere los factores que en el entorno se consideran una amenaza para el proceso; por ejemplo: 1. oferta académica innovadora de las universidades competidoras
B16: D1. Personal insuficiente para las actividades del proceso | D16: A1. Vencimiento del plazo para la implementación de la ISO 9001:2015
B17: D2. Sistema de gestión de calidad sin continuidad | D17: A2. Universidades certificadas actualmente bajo la ISO 9001:2015
B18: D3. El gestor responsable de calidad no trabaja directamente con la oficina | D18: A3. Reducción de recursos para el sector publico por parte del gobierno
B19: D4. El aplicativo SGC no se ajusta a los requisitos para l transición a la ISO 9001 2015 | D19: A4. Cambios recurrentes en la legislación y normatividad
B20: D5. Rubro presupuestal insuficiente | D20: A5. Exigibilidad de documentos por parte de los entes de control
B21: D6. No hay un medio de comunicación instantáneo que permita la interacción en tiempo real con los procesos
B22: D7. Versiones iniciales de la documentación del SGC en papel
B23: D8. Afectación del rubro presupuestal para los honorarios del TH de la oficina
B24: D9. Contratos de trabajo interrumpido
B25: D10. Proceso de compras complejo y demorado
B26: D11. La administración del aplicativo del SGC esta a cargo del proceso de sistemas
B35: FACTORES INTERNOS DE LA UNIVERSIDAD DE CUNDINAMARCA | D35: FACTORES EXTERNOS DE LA UNIVERSIDAD DE CUNDINAMARCA
B36: FORTALEZAS | D36: OPORTUNIDADES
B37: Enumere los factores que en el proceso se consideran una debilidad; por ejemplo: 1. Presupuesto aprobado suficiente para las necesidades del proceso | D37: Enumere los factores que en el entorno se consideran una oportunidad para el proceso; por ejemplo: 1. amplia oferta tecnológica de equipos y aplicativos en el mercado.
B38: F1. Equipo de trabajo competente en temas de calidad | D38: O1. Amplia oferta de empresas consultoras
B39: F2. Certificación bajo la ISO 9001 2008 | D39: O2. Estudiantes de carrera profesional en búsqueda de pasantías como opción de grado
B40: F3. Apoyo de la alta dirección para el SGC | D40: O3. Software de SGC en el mercado
B41: F4. Alta adherencia a los procedimientos del SGC por parte de los procesos
B42: F5. Seguimiento continuo al SGC
B43: F6. Equipo de trabajo comprometido con el resultado
B44: F7. Alto compromiso de la universidad al cumplimiento de requisitos legales
B45: F8. Direccionamiento estratégico acorde a las necesidades de la comunidad universitaria

Sheet CRUCE RIESGOS
E1: Bajo indice de graduacion
D3: IDENTIFICACIÓN DEL RIESGO | H3: VALORACIÓN DEL RIESGO INHERENTE | Q3: VALORACIÓN DE RIESGO RESIDUAL | W3: OBSERVACIONES ADICIONALES CONTROL INTERNO
A4: CUADRANTE | B4: DECIMAL | C4: SUMA | D4: ID | E4: CAUSAS (FACTORES DOFA) | F4: CONSECUENCIA (RIESGO) | G4: CLASIFICACIÓN | H4: PROBABILIDAD DE OCURRENCIA | I4: ARGUMENTO DE LA PROBABILIDAD | J4: MAGNITUD DEL IMPACTO | K4: ARGUMENTO DEL IMPACTO | L4: VALORACIÓN | M4: NIVEL | N4: CONTROLES APLICABLES | O4: CLASIFICACIÓN DE LOS CONTROLES | P4: ENTREGABLES | Q4: PROBABILIDAD DE OCURRENCIA | R4: ARGUMENTO DE LA PROBABILIDAD | S4: MAGNITUD DEL IMPACTO | T4: ARGUMENTO DEL IMPACTO | U4: VALORACIÓN | V4: NIVEL
A5: =IF(AND(Q5=1,S5=1),1,IF(AND(Q5=1,S5=2),2,IF(AND(Q5=1,S5=3),3,IF(AND(Q5=1,S5=4),4,IF(AND(Q5=1,S5=5),5,IF(AND(Q5=2,S5=1),6,IF(AND(Q5=2,S5=2),7,IF(AND(Q5=2,S5=3),8,IF(AND(Q5=2,S5=4),9,IF(AND(Q5=2,S5=5),10,IF(AND(Q5=3,S5=1),11,IF(AND(Q5=3,S5=2),12,IF(AND(Q5=3,S5=3),13,IF(AND(Q5=3,S5=4),14,IF(AND(Q5=3,S5=5),15,IF(AND(Q5=4,S5=1),16,IF(AND(Q5=4,S5=2),17,IF(AND(Q5=4,S5=3),18,IF(AND(Q5=4,S5=4),19,IF(AND(Q5=4,S5=5),20,IF(AND(Q5=5,S5=1),21,IF(AND(Q5=5,S5=2),22,IF(AND(Q5=5,S5=3),23,IF(AND(Q5=5,S5=4),24,IF(AND(Q5=5,S5=5),25,""))))))))))))))))))))))))) -> 13 | B5: =IF(A5="","",1/100) -> 0.01 | C5: =IFERROR(A5+B5,"") -> 13.01 | D5: 1 | E5: A1. Vencimiento del plazo para la implementación de la ISO 9001:2015 D1. Personal insuficiente para las actividades del proceso D2. Sistema de gestión de la calidad sin continuidad | F5: No cumplimiento de las metas del plan de acción | G5: Riesgo Estratégico: Se asocia con la forma en que se administra la Entidad. El manejo del riesgo estratégico se Enfoca a asuntos globales relacionados con la misión y el cumplimiento de los objetivos estratégicos, la clara definición de políticas, diseño y conceptualización de la entidad por parte de la alta gerencia | H5: 5 | J5: 3 | L5: =IF(OR(H5="",J5=""),"",H5*J5) -> 15 | M5: =IF(L5="","",IF(AND(H5=1,J5=3),"MODERADO",IF(AND(H5=4,J5=1),"MODERADO",IF(AND(H5=1,J5=4),"ALTO",IF(AND(H5=1,J5=5),"ALTO",IF(L5<=4,"BAJO",IF(AND(H5=5,J5=1),"ALTO",IF(L5<=6,"MODERADO",IF(AND(H5=2,J5=5),"EXTREMO",IF(L5<=10,"ALTO",IF(AND(H5=4,J5=3),"ALTO","EXTREMO"))))))))))) -> EXTREMO | N5: Redistribución de actividades en la oficina de Calidad Establecimiento y seguimiento de cronogramas de trabajo Solicitud de un profesional de apoyo para la oficina de Calidad | O5: PREVENTIVO | P5: Cronograma de actividades por colaborador de la oficina Informes de seguimiento al avance de las actividades Contrato de trabajo de profesional de apoyo , ATH099 | Q5: 3 | S5: 3 | U5: =IF(OR(Q5="",S5=""),"",Q5*S5) -> 9 | V5: =IF(U5="","",IF(AND(Q5=1,S5=3),"MODERADO",IF(AND(Q5=4,S5=1),"MODERADO",IF(AND(Q5=1,S5=4),"ALTO",IF(AND(Q5=1,S5=5),"ALTO",IF(U5<=4,"BAJO",IF(AND(Q5=5,S5=1),"ALTO",IF(U5<=6,"MODERADO",IF(AND(Q5=2,S5=5),"EXTREMO",IF(U5<=10,"ALTO",IF(AND(Q5=4,S5=3),"ALTO","EXTREMO"))))))))))) -> ALTO | W5: Evidencia de controles, medio magnético oficina Control Interno, falta anexar copia el contrato el nuevo colaborador de la oficina cuando TH lo suministre
A6: =IF(AND(Q6=1,S6=1),1,IF(AND(Q6=1,S6=2),2,IF(AND(Q6=1,S6=3),3,IF(AND(Q6=1,S6=4),4,IF(AND(Q6=1,S6=5),5,IF(AND(Q6=2,S6=1),6,IF(AND(Q6=2,S6=2),7,IF(AND(Q6=2,S6=3),8,IF(AND(Q6=2,S6=4),9,IF(AND(Q6=2,S6=5),10,IF(AND(Q6=3,S6=1),11,IF(AND(Q6=3,S6=2),12,IF(AND(Q6=3,S6=3),13,IF(AND(Q6=3,S6=4),14,IF(AND(Q6=3,S6=5),15,IF(AND(Q6=4,S6=1),16,IF(AND(Q6=4,S6=2),17,IF(AND(Q6=4,S6=3),18,IF(AND(Q6=4,S6=4),19,IF(AND(Q6=4,S6=5),20,IF(AND(Q6=5,S6=1),21,IF(AND(Q6=5,S6=2),22,IF(AND(Q6=5,S6=3),23,IF(AND(Q6=5,S6=4),24,IF(AND(Q6=5,S6=5),25,""))))))))))))))))))))))))) -> 10 | B6: =IF(A6="","",(COUNTIF($A$5:A6,A6))/100) -> 0.01 | C6: =IFERROR(A6+B6,"") -> 10.01 | D6: 2 | E6: A5. Exigibilidad de documentos por parte de los entes de control D7. Versiones iniciales de la documentación del SGC en papel | F6: Perdida de versiones documentales historicas | G6: Riesgos de Cumplimiento: Se asocian con la capacidad de la entidad para cumplir con los requisitos legales, contractuales, de ética pública y en general con su compromiso ante la comunidad. | H6: 2 | J6: 5 | L6: =IF(OR(H6="",J6=""),"",H6*J6) -> 10 | M6: =IF(L6="","",IF(AND(H6=1,J6=3),"MODERADO",IF(AND(H6=4,J6=1),"MODERADO",IF(AND(H6=1,J6=4),"ALTO",IF(AND(H6=1,J6=5),"ALTO",IF(L6<=4,"BAJO",IF(AND(H6=5,J6=1),"ALTO",IF(L6<=6,"MODERADO",IF(AND(H6=2,J6=5),"EXTREMO",IF(L6<=10,"ALTO",IF(AND(H6=4,J6=3),"ALTO","EXTREMO"))))))))))) -> EXTREMO | N6: Inventariar de información Escanear la información Entregar documentos a archivo central | O6: PREVENTIVO | P6: Inventario de documentos Inventario de transferencia documental Relación de documentos escaneados Acta de entrega de documentos al archivo central | Q6: 2 | S6: 5 | U6: =IF(OR(Q6="",S6=""),"",Q6*S6) -> 10 | V6: =IF(U6="","",IF(AND(Q6=1,S6=3),"MODERADO",IF(AND(Q6=4,S6=1),"MODERADO",IF(AND(Q6=1,S6=4),"ALTO",IF(AND(Q6=1,S6=5),"ALTO",IF(U6<=4,"BAJO",IF(AND(Q6=5,S6=1),"ALTO",IF(U6<=6,"MODERADO",IF(AND(Q6=2,S6=5),"EXTREMO",IF(U6<=10,"ALTO",IF(AND(Q6=4,S6=3),"ALTO","EXTREMO"))))))))))) -> EXTREMO | W6: no presenta medición, ya que hasta ahora se va a iniciar la ejecución de los controles con la digitalización del archivo
A7: =IF(AND(Q7=1,S7=1),1,IF(AND(Q7=1,S7=2),2,IF(AND(Q7=1,S7=3),3,IF(AND(Q7=1,S7=4),4,IF(AND(Q7=1,S7=5),5,IF(AND(Q7=2,S7=1),6,IF(AND(Q7=2,S7=2),7,IF(AND(Q7=2,S7=3),8,IF(AND(Q7=2,S7=4),9,IF(AND(Q7=2,S7=5),10,IF(AND(Q7=3,S7=1),11,IF(AND(Q7=3,S7=2),12,IF(AND(Q7=3,S7=3),13,IF(AND(Q7=3,S7=4),14,IF(AND(Q7=3,S7=5),15,IF(AND(Q7=4,S7=1),16,IF(AND(Q7=4,S7=2),17,IF(AND(Q7=4,S7=3),18,IF(AND(Q7=4,S7=4),19,IF(AND(Q7=4,S7=5),20,IF(AND(Q7=5,S7=1),21,IF(AND(Q7=5,S7=2),22,IF(AND(Q7=5,S7=3),23,IF(AND(Q7=5,S7=4),24,IF(AND(Q7=5,S7=5),25,""))))))))))))))))))))))))) -> 9 | B7: =IF(A7="","",(COUNTIF($A$5:A7,A7))/100) -> 0.01 | C7: =IFERROR(A7+B7,"") -> 9.01 | D7: 3 | E7: D6. No hay un medio de comunicación instantáneo que permita la interacción en tiempo real con los procesos D2. Sistema de gestión de calidad sin continuidad D9. Contratos de trabajo interrumpido A4. Cambios recurrentes en la legislación y normatividad | F7: No utilización de los documentos del SGC en la operación de los procesos | G7: Riesgos Operativos: Comprenden riesgos provenientes del funcionamiento y operatividad de los sistemas de información institucional, de la definición de los procesos, de la estructura de la entidad, de la articulación entre dependencias. | H7: 3 | J7: 4 | L7: =IF(OR(H7="",J7=""),"",H7*J7) -> 12 | M7: =IF(L7="","",IF(AND(H7=1,J7=3),"MODERADO",IF(AND(H7=4,J7=1),"MODERADO",IF(AND(H7=1,J7=4),"ALTO",IF(AND(H7=1,J7=5),"ALTO",IF(L7<=4,"BAJO",IF(AND(H7=5,J7=1),"ALTO",IF(L7<=6,"MODERADO",IF(AND(H7=2,J7=5),"EXTREMO",IF(L7<=10,"ALTO",IF(AND(H7=4,J7=3),"ALTO","EXTREMO"))))))))))) -> EXTREMO | N7: Enviar listado de publicaciones de documentos aprobados a corte mensual Procedimiento de control de documentos y control de registros Participar en la inducción y reinducción de personal Acuerdos de Gestión Acompañamiento por parte del personal del proceso Sensibilizacion y capacitaciones Instaurar grupos primarios en la Universidad | O7: PREVENTIVO | P7: Correo electronico enviando informacion de docuemntos aprobados mensualemente Procedimiento de control de documentos y registros aprobados Listas de asistencia de induccion y reinduccion Acuerdos de Gestion firmados Listas de asistencia de acompañamientos y capacitaciones | Q7: 2 | S7: 4 | U7: =IF(OR(Q7="",S7=""),"",Q7*S7) -> 8 | V7: =IF(U7="","",IF(AND(Q7=1,S7=3),"MODERADO",IF(AND(Q7=4,S7=1),"MODERADO",IF(AND(Q7=1,S7=4),"ALTO",IF(AND(Q7=1,S7=5),"ALTO",IF(U7<=4,"BAJO",IF(AND(Q7=5,S7=1),"ALTO",IF(U7<=6,"MODERADO",IF(AND(Q7=2,S7=5),"EXTREMO",IF(U7<=10,"ALTO",IF(AND(Q7=4,S7=3),"ALTO","EXTREMO"))))))))))) -> ALTO | W7: Se presenta evidencia correspondiente
A8: =IF(AND(Q8=1,S8=1),1,IF(AND(Q8=1,S8=2),2,IF(AND(Q8=1,S8=3),3,IF(AND(Q8=1,S8=4),4,IF(AND(Q8=1,S8=5),5,IF(AND(Q8=2,S8=1),6,IF(AND(Q8=2,S8=2),7,IF(AND(Q8=2,S8=3),8,IF(AND(Q8=2,S8=4),9,IF(AND(Q8=2,S8=5),10,IF(AND(Q8=3,S8=1),11,IF(AND(Q8=3,S8=2),12,IF(AND(Q8=3,S8=3),13,IF(AND(Q8=3,S8=4),14,IF(AND(Q8=3,S8=5),15,IF(AND(Q8=4,S8=1),16,IF(AND(Q8=4,S8=2),17,IF(AND(Q8=4,S8=3),18,IF(AND(Q8=4,S8=4),19,IF(AND(Q8=4,S8=5),20,IF(AND(Q8=5,S8=1),21,IF(AND(Q8=5,S8=2),22,IF(AND(Q8=5,S8=3),23,IF(AND(Q8=5,S8=4),24,IF(AND(Q8=5,S8=5),25,""))))))))))))))))))))))))) -> 9 | B8: =IF(A8="","",(COUNTIF($A$5:A8,A8))/100) -> 0.02 | C8: =IFERROR(A8+B8,"") -> 9.02 | D8: 4 | E8: D2. Sistema de gestión de calidad sin continuidad D9. Contratos de trabajo interrumpido | F8: Falta de acompañamiento oportuno a los gestores responsables sobre temas relacionados con calidad y certificación | G8: Riesgos Operativos: Comprenden riesgos provenientes del funcionamiento y operatividad de los sistemas de información institucional, de la definición de los procesos, de la estructura de la entidad, de la articulación entre dependencias. | H8: 3 | J8: 4 | L8: =IF(OR(H8="",J8=""),"",H8*J8) -> 12 | M8: =IF(L8="","",IF(AND(H8=1,J8=3),"MODERADO",IF(AND(H8=4,J8=1),"MODERADO",IF(AND(H8=1,J8=4),"ALTO",IF(AND(H8=1,J8=5),"ALTO",IF(L8<=4,"BAJO",IF(AND(H8=5,J8=1),"ALTO",IF(L8<=6,"MODERADO",IF(AND(H8=2,J8=5),"EXTREMO",IF(L8<=10,"ALTO",IF(AND(H8=4,J8=3),"ALTO","EXTREMO"))))))))))) -> EXTREMO | N8: Asignación de responsables de calidad para cada uno de los procesos Programacion de acompañamientos Seguimiento mensual de actividades de la oficina de calidad | O8: PREVENTIVO | P8: Actas de seguimiento listados de asistencia de acompañamientos | Q8: 2 | S8: 4 | U8: =IF(OR(Q8="",S8=""),"",Q8*S8) -> 8 | V8: =IF(U8="","",IF(AND(Q8=1,S8=3),"MODERADO",IF(AND(Q8=4,S8=1),"MODERADO",IF(AND(Q8=1,S8=4),"ALTO",IF(AND(Q8=1,S8=5),"ALTO",IF(U8<=4,"BAJO",IF(AND(Q8=5,S8=1),"ALTO",IF(U8<=6,"MODERADO",IF(AND(Q8=2,S8=5),"EXTREMO",IF(U8<=10,"ALTO",IF(AND(Q8=4,S8=3),"ALTO","EXTREMO"))))))))))) -> ALTO | W8: Se presenta evidencia correspondiente
A9: =IF(AND(Q9=1,S9=1),1,IF(AND(Q9=1,S9=2),2,IF(AND(Q9=1,S9=3),3,IF(AND(Q9=1,S9=4),4,IF(AND(Q9=1,S9=5),5,IF(AND(Q9=2,S9=1),6,IF(AND(Q9=2,S9=2),7,IF(AND(Q9=2,S9=3),8,IF(AND(Q9=2,S9=4),9,IF(AND(Q9=2,S9=5),10,IF(AND(Q9=3,S9=1),11,IF(AND(Q9=3,S9=2),12,IF(AND(Q9=3,S9=3),13,IF(AND(Q9=3,S9=4),14,IF(AND(Q9=3,S9=5),15,IF(AND(Q9=4,S9=1),16,IF(AND(Q9=4,S9=2),17,IF(AND(Q9=4,S9=3),18,IF(AND(Q9=4,S9=4),19,IF(AND(Q9=4,S9=5),20,IF(AND(Q9=5,S9=1),21,IF(AND(Q9=5,S9=2),22,IF(AND(Q9=5,S9=3),23,IF(AND(Q9=5,S9=4),24,IF(AND(Q9=5,S9=5),25,""))))))))))))))))))))))))) | B9: =IF(A9="","",(COUNTIF($A$5:A9,A9))/100) | C9: =IFERROR(A9+B9,"") | D9: 5 | L9: =IF(OR(H9="",J9=""),"",H9*J9) | M9: =IF(L9="","",IF(AND(H9=1,J9=3),"MODERADO",IF(AND(H9=4,J9=1),"MODERADO",IF(AND(H9=1,J9=4),"ALTO",IF(AND(H9=1,J9=5),"ALTO",IF(L9<=4,"BAJO",IF(AND(H9=5,J9=1),"ALTO",IF(L9<=6,"MODERADO",IF(AND(H9=2,J9=5),"EXTREMO",IF(L9<=10,"ALTO",IF(AND(H9=4,J9=3),"ALTO","EXTREMO"))))))))))) | U9: =IF(OR(Q9="",S9=""),"",Q9*S9) | V9: =IF(U9="","",IF(AND(Q9=1,S9=3),"MODERADO",IF(AND(Q9=4,S9=1),"MODERADO",IF(AND(Q9=1,S9=4),"ALTO",IF(AND(Q9=1,S9=5),"ALTO",IF(U9<=4,"BAJO",IF(AND(Q9=5,S9=1),"ALTO",IF(U9<=6,"MODERADO",IF(AND(Q9=2,S9=5),"EXTREMO",IF(U9<=10,"ALTO",IF(AND(Q9=4,S9=3),"ALTO","EXTREMO")))))))))))
A10: =IF(AND(Q10=1,S10=1),1,IF(AND(Q10=1,S10=2),2,IF(AND(Q10=1,S10=3),3,IF(AND(Q10=1,S10=4),4,IF(AND(Q10=1,S10=5),5,IF(AND(Q10=2,S10=1),6,IF(AND(Q10=2,S10=2),7,IF(AND(Q10=2,S10=3),8,IF(AND(Q10=2,S10=4),9,IF(AND(Q10=2,S10=5),10,IF(AND(Q10=3,S10=1),11,IF(AND(Q10=3,S10=2),12,IF(AND(Q10=3,S10=3),13,IF(AND(Q10=3,S10=4),14,IF(AND(Q10=3,S10=5),15,IF(AND(Q10=4,S10=1),16,IF(AND(Q10=4,S10=2),17,IF(AND(Q10=4,S10=3),18,IF(AND(Q10=4,S10=4),19,IF(AND(Q10=4,S10=5),20,IF(AND(Q10=5,S10=1),21,IF(AND(Q10=5,S10=2),22,IF(AND(Q10=5,S10=3),23,IF(AND(Q10=5,S10=4),24,IF(AND(Q10=5,S10=5),25,""))))))))))))))))))))))))) | B10: =IF(A10="","",(COUNTIF($A$5:A10,A10))/100) | C10: =IFERROR(A10+B10,"") | D10: 6 | L10: =IF(OR(H10="",J10=""),"",H10*J10) | M10: =IF(L10="","",IF(AND(H10=1,J10=3),"MODERADO",IF(AND(H10=4,J10=1),"MODERADO",IF(AND(H10=1,J10=4),"ALTO",IF(AND(H10=1,J10=5),"ALTO",IF(L10<=4,"BAJO",IF(AND(H10=5,J10=1),"ALTO",IF(L10<=6,"MODERADO",IF(AND(H10=2,J10=5),"EXTREMO",IF(L10<=10,"ALTO",IF(AND(H10=4,J10=3),"ALTO","EXTREMO"))))))))))) | U10: =IF(OR(Q10="",S10=""),"",Q10*S10) | V10: =IF(U10="","",IF(AND(Q10=1,S10=3),"MODERADO",IF(AND(Q10=4,S10=1),"MODERADO",IF(AND(Q10=1,S10=4),"ALTO",IF(AND(Q10=1,S10=5),"ALTO",IF(U10<=4,"BAJO",IF(AND(Q10=5,S10=1),"ALTO",IF(U10<=6,"MODERADO",IF(AND(Q10=2,S10=5),"EXTREMO",IF(U10<=10,"ALTO",IF(AND(Q10=4,S10=3),"ALTO","EXTREMO")))))))))))
A11: =IF(AND(Q11=1,S11=1),1,IF(AND(Q11=1,S11=2),2,IF(AND(Q11=1,S11=3),3,IF(AND(Q11=1,S11=4),4,IF(AND(Q11=1,S11=5),5,IF(AND(Q11=2,S11=1),6,IF(AND(Q11=2,S11=2),7,IF(AND(Q11=2,S11=3),8,IF(AND(Q11=2,S11=4),9,IF(AND(Q11=2,S11=5),10,IF(AND(Q11=3,S11=1),11,IF(AND(Q11=3,S11=2),12,IF(AND(Q11=3,S11=3),13,IF(AND(Q11=3,S11=4),14,IF(AND(Q11=3,S11=5),15,IF(AND(Q11=4,S11=1),16,IF(AND(Q11=4,S11=2),17,IF(AND(Q11=4,S11=3),18,IF(AND(Q11=4,S11=4),19,IF(AND(Q11=4,S11=5),20,IF(AND(Q11=5,S11=1),21,IF(AND(Q11=5,S11=2),22,IF(AND(Q11=5,S11=3),23,IF(AND(Q11=5,S11=4),24,IF(AND(Q11=5,S11=5),25,""))))))))))))))))))))))))) | B11: =IF(A11="","",(COUNTIF($A$5:A11,A11))/100) | C11: =IFERROR(A11+B11,"") | D11: 7 | L11: =IF(OR(H11="",J11=""),"",H11*J11) | M11: =IF(L11="","",IF(AND(H11=1,J11=3),"MODERADO",IF(AND(H11=4,J11=1),"MODERADO",IF(AND(H11=1,J11=4),"ALTO",IF(AND(H11=1,J11=5),"ALTO",IF(L11<=4,"BAJO",IF(AND(H11=5,J11=1),"ALTO",IF(L11<=6,"MODERADO",IF(AND(H11=2,J11=5),"EXTREMO",IF(L11<=10,"ALTO",IF(AND(H11=4,J11=3),"ALTO","EXTREMO"))))))))))) | U11: =IF(OR(Q11="",S11=""),"",Q11*S11) | V11: =IF(U11="","",IF(AND(Q11=1,S11=3),"MODERADO",IF(AND(Q11=4,S11=1),"MODERADO",IF(AND(Q11=1,S11=4),"ALTO",IF(AND(Q11=1,S11=5),"ALTO",IF(U11<=4,"BAJO",IF(AND(Q11=5,S11=1),"ALTO",IF(U11<=6,"MODERADO",IF(AND(Q11=2,S11=5),"EXTREMO",IF(U11<=10,"ALTO",IF(AND(Q11=4,S11=3),"ALTO","EXTREMO")))))))))))
A12: =IF(AND(Q12=1,S12=1),1,IF(AND(Q12=1,S12=2),2,IF(AND(Q12=1,S12=3),3,IF(AND(Q12=1,S12=4),4,IF(AND(Q12=1,S12=5),5,IF(AND(Q12=2,S12=1),6,IF(AND(Q12=2,S12=2),7,IF(AND(Q12=2,S12=3),8,IF(AND(Q12=2,S12=4),9,IF(AND(Q12=2,S12=5),10,IF(AND(Q12=3,S12=1),11,IF(AND(Q12=3,S12=2),12,IF(AND(Q12=3,S12=3),13,IF(AND(Q12=3,S12=4),14,IF(AND(Q12=3,S12=5),15,IF(AND(Q12=4,S12=1),16,IF(AND(Q12=4,S12=2),17,IF(AND(Q12=4,S12=3),18,IF(AND(Q12=4,S12=4),19,IF(AND(Q12=4,S12=5),20,IF(AND(Q12=5,S12=1),21,IF(AND(Q12=5,S12=2),22,IF(AND(Q12=5,S12=3),23,IF(AND(Q12=5,S12=4),24,IF(AND(Q12=5,S12=5),25,""))))))))))))))))))))))))) | B12: =IF(A12="","",(COUNTIF($A$5:A12,A12))/100) | C12: =IFERROR(A12+B12,"") | D12: 8 | L12: =IF(OR(H12="",J12=""),"",H12*J12) | M12: =IF(L12="","",IF(AND(H12=1,J12=3),"MODERADO",IF(AND(H12=4,J12=1),"MODERADO",IF(AND(H12=1,J12=4),"ALTO",IF(AND(H12=1,J12=5),"ALTO",IF(L12<=4,"BAJO",IF(AND(H12=5,J12=1),"ALTO",IF(L12<=6,"MODERADO",IF(AND(H12=2,J12=5),"EXTREMO",IF(L12<=10,"ALTO",IF(AND(H12=4,J12=3),"ALTO","EXTREMO"))))))))))) | U12: =IF(OR(Q12="",S12=""),"",Q12*S12) | V12: =IF(U12="","",IF(AND(Q12=1,S12=3),"MODERADO",IF(AND(Q12=4,S12=1),"MODERADO",IF(AND(Q12=1,S12=4),"ALTO",IF(AND(Q12=1,S12=5),"ALTO",IF(U12<=4,"BAJO",IF(AND(Q12=5,S12=1),"ALTO",IF(U12<=6,"MODERADO",IF(AND(Q12=2,S12=5),"EXTREMO",IF(U12<=10,"ALTO",IF(AND(Q12=4,S12=3),"ALTO","EXTREMO")))))))))))
A13: =IF(AND(Q13=1,S13=1),1,IF(AND(Q13=1,S13=2),2,IF(AND(Q13=1,S13=3),3,IF(AND(Q13=1,S13=4),4,IF(AND(Q13=1,S13=5),5,IF(AND(Q13=2,S13=1),6,IF(AND(Q13=2,S13=2),7,IF(AND(Q13=2,S13=3),8,IF(AND(Q13=2,S13=4),9,IF(AND(Q13=2,S13=5),10,IF(AND(Q13=3,S13=1),11,IF(AND(Q13=3,S13=2),12,IF(AND(Q13=3,S13=3),13,IF(AND(Q13=3,S13=4),14,IF(AND(Q13=3,S13=5),15,IF(AND(Q13=4,S13=1),16,IF(AND(Q13=4,S13=2),17,IF(AND(Q13=4,S13=3),18,IF(AND(Q13=4,S13=4),19,IF(AND(Q13=4,S13=5),20,IF(AND(Q13=5,S13=1),21,IF(AND(Q13=5,S13=2),22,IF(AND(Q13=5,S13=3),23,IF(AND(Q13=5,S13=4),24,IF(AND(Q13=5,S13=5),25,""))))))))))))))))))))))))) | B13: =IF(A13="","",(COUNTIF($A$5:A13,A13))/100) | C13: =IFERROR(A13+B13,"") | D13: 9 | L13: =IF(OR(H13="",J13=""),"",H13*J13) | M13: =IF(L13="","",IF(AND(H13=1,J13=3),"MODERADO",IF(AND(H13=4,J13=1),"MODERADO",IF(AND(H13=1,J13=4),"ALTO",IF(AND(H13=1,J13=5),"ALTO",IF(L13<=4,"BAJO",IF(AND(H13=5,J13=1),"ALTO",IF(L13<=6,"MODERADO",IF(AND(H13=2,J13=5),"EXTREMO",IF(L13<=10,"ALTO",IF(AND(H13=4,J13=3),"ALTO","EXTREMO"))))))))))) | U13: =IF(OR(Q13="",S13=""),"",Q13*S13) | V13: =IF(U13="","",IF(AND(Q13=1,S13=3),"MODERADO",IF(AND(Q13=4,S13=1),"MODERADO",IF(AND(Q13=1,S13=4),"ALTO",IF(AND(Q13=1,S13=5),"ALTO",IF(U13<=4,"BAJO",IF(AND(Q13=5,S13=1),"ALTO",IF(U13<=6,"MODERADO",IF(AND(Q13=2,S13=5),"EXTREMO",IF(U13<=10,"ALTO",IF(AND(Q13=4,S13=3),"ALTO","EXTREMO")))))))))))
A14: =IF(AND(Q14=1,S14=1),1,IF(AND(Q14=1,S14=2),2,IF(AND(Q14=1,S14=3),3,IF(AND(Q14=1,S14=4),4,IF(AND(Q14=1,S14=5),5,IF(AND(Q14=2,S14=1),6,IF(AND(Q14=2,S14=2),7,IF(AND(Q14=2,S14=3),8,IF(AND(Q14=2,S14=4),9,IF(AND(Q14=2,S14=5),10,IF(AND(Q14=3,S14=1),11,IF(AND(Q14=3,S14=2),12,IF(AND(Q14=3,S14=3),13,IF(AND(Q14=3,S14=4),14,IF(AND(Q14=3,S14=5),15,IF(AND(Q14=4,S14=1),16,IF(AND(Q14=4,S14=2),17,IF(AND(Q14=4,S14=3),18,IF(AND(Q14=4,S14=4),19,IF(AND(Q14=4,S14=5),20,IF(AND(Q14=5,S14=1),21,IF(AND(Q14=5,S14=2),22,IF(AND(Q14=5,S14=3),23,IF(AND(Q14=5,S14=4),24,IF(AND(Q14=5,S14=5),25,""))))))))))))))))))))))))) | B14: =IF(A14="","",(COUNTIF($A$5:A14,A14))/100) | C14: =IFERROR(A14+B14,"") | D14: 10 | L14: =IF(OR(H14="",J14=""),"",H14*J14) | M14: =IF(L14="","",IF(AND(H14=1,J14=3),"MODERADO",IF(AND(H14=4,J14=1),"MODERADO",IF(AND(H14=1,J14=4),"ALTO",IF(AND(H14=1,J14=5),"ALTO",IF(L14<=4,"BAJO",IF(AND(H14=5,J14=1),"ALTO",IF(L14<=6,"MODERADO",IF(AND(H14=2,J14=5),"EXTREMO",IF(L14<=10,"ALTO",IF(AND(H14=4,J14=3),"ALTO","EXTREMO"))))))))))) | U14: =IF(OR(Q14="",S14=""),"",Q14*S14) | V14: =IF(U14="","",IF(AND(Q14=1,S14=3),"MODERADO",IF(AND(Q14=4,S14=1),"MODERADO",IF(AND(Q14=1,S14=4),"ALTO",IF(AND(Q14=1,S14=5),"ALTO",IF(U14<=4,"BAJO",IF(AND(Q14=5,S14=1),"ALTO",IF(U14<=6,"MODERADO",IF(AND(Q14=2,S14=5),"EXTREMO",IF(U14<=10,"ALTO",IF(AND(Q14=4,S14=3),"ALTO","EXTREMO")))))))))))
A15: =IF(AND(Q15=1,S15=1),1,IF(AND(Q15=1,S15=2),2,IF(AND(Q15=1,S15=3),3,IF(AND(Q15=1,S15=4),4,IF(AND(Q15=1,S15=5),5,IF(AND(Q15=2,S15=1),6,IF(AND(Q15=2,S15=2),7,IF(AND(Q15=2,S15=3),8,IF(AND(Q15=2,S15=4),9,IF(AND(Q15=2,S15=5),10,IF(AND(Q15=3,S15=1),11,IF(AND(Q15=3,S15=2),12,IF(AND(Q15=3,S15=3),13,IF(AND(Q15=3,S15=4),14,IF(AND(Q15=3,S15=5),15,IF(AND(Q15=4,S15=1),16,IF(AND(Q15=4,S15=2),17,IF(AND(Q15=4,S15=3),18,IF(AND(Q15=4,S15=4),19,IF(AND(Q15=4,S15=5),20,IF(AND(Q15=5,S15=1),21,IF(AND(Q15=5,S15=2),22,IF(AND(Q15=5,S15=3),23,IF(AND(Q15=5,S15=4),24,IF(AND(Q15=5,S15=5),25,""))))))))))))))))))))))))) | B15: =IF(A15="","",(COUNTIF($A$5:A15,A15))/100) | C15: =IFERROR(A15+B15,"") | D15: 11 | L15: =IF(OR(H15="",J15=""),"",H15*J15) | M15: =IF(L15="","",IF(AND(H15=1,J15=3),"MODERADO",IF(AND(H15=4,J15=1),"MODERADO",IF(AND(H15=1,J15=4),"ALTO",IF(AND(H15=1,J15=5),"ALTO",IF(L15<=4,"BAJO",IF(AND(H15=5,J15=1),"ALTO",IF(L15<=6,"MODERADO",IF(AND(H15=2,J15=5),"EXTREMO",IF(L15<=10,"ALTO",IF(AND(H15=4,J15=3),"ALTO","EXTREMO"))))))))))) | U15: =IF(OR(Q15="",S15=""),"",Q15*S15) | V15: =IF(U15="","",IF(AND(Q15=1,S15=3),"MODERADO",IF(AND(Q15=4,S15=1),"MODERADO",IF(AND(Q15=1,S15=4),"ALTO",IF(AND(Q15=1,S15=5),"ALTO",IF(U15<=4,"BAJO",IF(AND(Q15=5,S15=1),"ALTO",IF(U15<=6,"MODERADO",IF(AND(Q15=2,S15=5),"EXTREMO",IF(U15<=10,"ALTO",IF(AND(Q15=4,S15=3),"ALTO","EXTREMO")))))))))))
A16: =IF(AND(Q16=1,S16=1),1,IF(AND(Q16=1,S16=2),2,IF(AND(Q16=1,S16=3),3,IF(AND(Q16=1,S16=4),4,IF(AND(Q16=1,S16=5),5,IF(AND(Q16=2,S16=1),6,IF(AND(Q16=2,S16=2),7,IF(AND(Q16=2,S16=3),8,IF(AND(Q16=2,S16=4),9,IF(AND(Q16=2,S16=5),10,IF(AND(Q16=3,S16=1),11,IF(AND(Q16=3,S16=2),12,IF(AND(Q16=3,S16=3),13,IF(AND(Q16=3,S16=4),14,IF(AND(Q16=3,S16=5),15,IF(AND(Q16=4,S16=1),16,IF(AND(Q16=4,S16=2),17,IF(AND(Q16=4,S16=3),18,IF(AND(Q16=4,S16=4),19,IF(AND(Q16=4,S16=5),20,IF(AND(Q16=5,S16=1),21,IF(AND(Q16=5,S16=2),22,IF(AND(Q16=5,S16=3),23,IF(AND(Q16=5,S16=4),24,IF(AND(Q16=5,S16=5),25,""))))))))))))))))))))))))) | B16: =IF(A16="","",(COUNTIF($A$5:A16,A16))/100) | C16: =IFERROR(A16+B16,"") | D16: 12 | L16: =IF(OR(H16="",J16=""),"",H16*J16) | M16: =IF(L16="","",IF(AND(H16=1,J16=3),"MODERADO",IF(AND(H16=4,J16=1),"MODERADO",IF(AND(H16=1,J16=4),"ALTO",IF(AND(H16=1,J16=5),"ALTO",IF(L16<=4,"BAJO",IF(AND(H16=5,J16=1),"ALTO",IF(L16<=6,"MODERADO",IF(AND(H16=2,J16=5),"EXTREMO",IF(L16<=10,"ALTO",IF(AND(H16=4,J16=3),"ALTO","EXTREMO"))))))))))) | U16: =IF(OR(Q16="",S16=""),"",Q16*S16) | V16: =IF(U16="","",IF(AND(Q16=1,S16=3),"MODERADO",IF(AND(Q16=4,S16=1),"MODERADO",IF(AND(Q16=1,S16=4),"ALTO",IF(AND(Q16=1,S16=5),"ALTO",IF(U16<=4,"BAJO",IF(AND(Q16=5,S16=1),"ALTO",IF(U16<=6,"MODERADO",IF(AND(Q16=2,S16=5),"EXTREMO",IF(U16<=10,"ALTO",IF(AND(Q16=4,S16=3),"ALTO","EXTREMO")))))))))))
A17: =IF(AND(Q17=1,S17=1),1,IF(AND(Q17=1,S17=2),2,IF(AND(Q17=1,S17=3),3,IF(AND(Q17=1,S17=4),4,IF(AND(Q17=1,S17=5),5,IF(AND(Q17=2,S17=1),6,IF(AND(Q17=2,S17=2),7,IF(AND(Q17=2,S17=3),8,IF(AND(Q17=2,S17=4),9,IF(AND(Q17=2,S17=5),10,IF(AND(Q17=3,S17=1),11,IF(AND(Q17=3,S17=2),12,IF(AND(Q17=3,S17=3),13,IF(AND(Q17=3,S17=4),14,IF(AND(Q17=3,S17=5),15,IF(AND(Q17=4,S17=1),16,IF(AND(Q17=4,S17=2),17,IF(AND(Q17=4,S17=3),18,IF(AND(Q17=4,S17=4),19,IF(AND(Q17=4,S17=5),20,IF(AND(Q17=5,S17=1),21,IF(AND(Q17=5,S17=2),22,IF(AND(Q17=5,S17=3),23,IF(AND(Q17=5,S17=4),24,IF(AND(Q17=5,S17=5),25,""))))))))))))))))))))))))) | B17: =IF(A17="","",(COUNTIF($A$5:A17,A17))/100) | C17: =IFERROR(A17+B17,"") | D17: 13 | L17: =IF(OR(H17="",J17=""),"",H17*J17) | M17: =IF(L17="","",IF(AND(H17=1,J17=3),"MODERADO",IF(AND(H17=4,J17=1),"MODERADO",IF(AND(H17=1,J17=4),"ALTO",IF(AND(H17=1,J17=5),"ALTO",IF(L17<=4,"BAJO",IF(AND(H17=5,J17=1),"ALTO",IF(L17<=6,"MODERADO",IF(AND(H17=2,J17=5),"EXTREMO",IF(L17<=10,"ALTO",IF(AND(H17=4,J17=3),"ALTO","EXTREMO"))))))))))) | U17: =IF(OR(Q17="",S17=""),"",Q17*S17) | V17: =IF(U17="","",IF(AND(Q17=1,S17=3),"MODERADO",IF(AND(Q17=4,S17=1),"MODERADO",IF(AND(Q17=1,S17=4),"ALTO",IF(AND(Q17=1,S17=5),"ALTO",IF(U17<=4,"BAJO",IF(AND(Q17=5,S17=1),"ALTO",IF(U17<=6,"MODERADO",IF(AND(Q17=2,S17=5),"EXTREMO",IF(U17<=10,"ALTO",IF(AND(Q17=4,S17=3),"ALTO","EXTREMO")))))))))))
A18: =IF(AND(Q18=1,S18=1),1,IF(AND(Q18=1,S18=2),2,IF(AND(Q18=1,S18=3),3,IF(AND(Q18=1,S18=4),4,IF(AND(Q18=1,S18=5),5,IF(AND(Q18=2,S18=1),6,IF(AND(Q18=2,S18=2),7,IF(AND(Q18=2,S18=3),8,IF(AND(Q18=2,S18=4),9,IF(AND(Q18=2,S18=5),10,IF(AND(Q18=3,S18=1),11,IF(AND(Q18=3,S18=2),12,IF(AND(Q18=3,S18=3),13,IF(AND(Q18=3,S18=4),14,IF(AND(Q18=3,S18=5),15,IF(AND(Q18=4,S18=1),16,IF(AND(Q18=4,S18=2),17,IF(AND(Q18=4,S18=3),18,IF(AND(Q18=4,S18=4),19,IF(AND(Q18=4,S18=5),20,IF(AND(Q18=5,S18=1),21,IF(AND(Q18=5,S18=2),22,IF(AND(Q18=5,S18=3),23,IF(AND(Q18=5,S18=4),24,IF(AND(Q18=5,S18=5),25,""))))))))))))))))))))))))) | B18: =IF(A18="","",(COUNTIF($A$5:A18,A18))/100) | C18: =IFERROR(A18+B18,"") | D18: 14 | L18: =IF(OR(H18="",J18=""),"",H18*J18) | M18: =IF(L18="","",IF(AND(H18=1,J18=3),"MODERADO",IF(AND(H18=4,J18=1),"MODERADO",IF(AND(H18=1,J18=4),"ALTO",IF(AND(H18=1,J18=5),"ALTO",IF(L18<=4,"BAJO",IF(AND(H18=5,J18=1),"ALTO",IF(L18<=6,"MODERADO",IF(AND(H18=2,J18=5),"EXTREMO",IF(L18<=10,"ALTO",IF(AND(H18=4,J18=3),"ALTO","EXTREMO"))))))))))) | U18: =IF(OR(Q18="",S18=""),"",Q18*S18) | V18: =IF(U18="","",IF(AND(Q18=1,S18=3),"MODERADO",IF(AND(Q18=4,S18=1),"MODERADO",IF(AND(Q18=1,S18=4),"ALTO",IF(AND(Q18=1,S18=5),"ALTO",IF(U18<=4,"BAJO",IF(AND(Q18=5,S18=1),"ALTO",IF(U18<=6,"MODERADO",IF(AND(Q18=2,S18=5),"EXTREMO",IF(U18<=10,"ALTO",IF(AND(Q18=4,S18=3),"ALTO","EXTREMO")))))))))))
A19: =IF(AND(Q19=1,S19=1),1,IF(AND(Q19=1,S19=2),2,IF(AND(Q19=1,S19=3),3,IF(AND(Q19=1,S19=4),4,IF(AND(Q19=1,S19=5),5,IF(AND(Q19=2,S19=1),6,IF(AND(Q19=2,S19=2),7,IF(AND(Q19=2,S19=3),8,IF(AND(Q19=2,S19=4),9,IF(AND(Q19=2,S19=5),10,IF(AND(Q19=3,S19=1),11,IF(AND(Q19=3,S19=2),12,IF(AND(Q19=3,S19=3),13,IF(AND(Q19=3,S19=4),14,IF(AND(Q19=3,S19=5),15,IF(AND(Q19=4,S19=1),16,IF(AND(Q19=4,S19=2),17,IF(AND(Q19=4,S19=3),18,IF(AND(Q19=4,S19=4),19,IF(AND(Q19=4,S19=5),20,IF(AND(Q19=5,S19=1),21,IF(AND(Q19=5,S19=2),22,IF(AND(Q19=5,S19=3),23,IF(AND(Q19=5,S19=4),24,IF(AND(Q19=5,S19=5),25,""))))))))))))))))))))))))) | B19: =IF(A19="","",(COUNTIF($A$5:A19,A19))/100) | C19: =IFERROR(A19+B19,"") | D19: 15 | L19: =IF(OR(H19="",J19=""),"",H19*J19) | M19: =IF(L19="","",IF(AND(H19=1,J19=3),"MODERADO",IF(AND(H19=4,J19=1),"MODERADO",IF(AND(H19=1,J19=4),"ALTO",IF(AND(H19=1,J19=5),"ALTO",IF(L19<=4,"BAJO",IF(AND(H19=5,J19=1),"ALTO",IF(L19<=6,"MODERADO",IF(AND(H19=2,J19=5),"EXTREMO",IF(L19<=10,"ALTO",IF(AND(H19=4,J19=3),"ALTO","EXTREMO"))))))))))) | U19: =IF(OR(Q19="",S19=""),"",Q19*S19) | V19: =IF(U19="","",IF(AND(Q19=1,S19=3),"MODERADO",IF(AND(Q19=4,S19=1),"MODERADO",IF(AND(Q19=1,S19=4),"ALTO",IF(AND(Q19=1,S19=5),"ALTO",IF(U19<=4,"BAJO",IF(AND(Q19=5,S19=1),"ALTO",IF(U19<=6,"MODERADO",IF(AND(Q19=2,S19=5),"EXTREMO",IF(U19<=10,"ALTO",IF(AND(Q19=4,S19=3),"ALTO","EXTREMO")))))))))))
A20: =IF(AND(Q20=1,S20=1),1,IF(AND(Q20=1,S20=2),2,IF(AND(Q20=1,S20=3),3,IF(AND(Q20=1,S20=4),4,IF(AND(Q20=1,S20=5),5,IF(AND(Q20=2,S20=1),6,IF(AND(Q20=2,S20=2),7,IF(AND(Q20=2,S20=3),8,IF(AND(Q20=2,S20=4),9,IF(AND(Q20=2,S20=5),10,IF(AND(Q20=3,S20=1),11,IF(AND(Q20=3,S20=2),12,IF(AND(Q20=3,S20=3),13,IF(AND(Q20=3,S20=4),14,IF(AND(Q20=3,S20=5),15,IF(AND(Q20=4,S20=1),16,IF(AND(Q20=4,S20=2),17,IF(AND(Q20=4,S20=3),18,IF(AND(Q20=4,S20=4),19,IF(AND(Q20=4,S20=5),20,IF(AND(Q20=5,S20=1),21,IF(AND(Q20=5,S20=2),22,IF(AND(Q20=5,S20=3),23,IF(AND(Q20=5,S20=4),24,IF(AND(Q20=5,S20=5),25,""))))))))))))))))))))))))) | B20: =IF(A20="","",(COUNTIF($A$5:A20,A20))/100) | C20: =IFERROR(A20+B20,"") | D20: 16 | L20: =IF(OR(H20="",J20=""),"",H20*J20) | M20: =IF(L20="","",IF(AND(H20=1,J20=3),"MODERADO",IF(AND(H20=4,J20=1),"MODERADO",IF(AND(H20=1,J20=4),"ALTO",IF(AND(H20=1,J20=5),"ALTO",IF(L20<=4,"BAJO",IF(AND(H20=5,J20=1),"ALTO",IF(L20<=6,"MODERADO",IF(AND(H20=2,J20=5),"EXTREMO",IF(L20<=10,"ALTO",IF(AND(H20=4,J20=3),"ALTO","EXTREMO"))))))))))) | U20: =IF(OR(Q20="",S20=""),"",Q20*S20) | V20: =IF(U20="","",IF(AND(Q20=1,S20=3),"MODERADO",IF(AND(Q20=4,S20=1),"MODERADO",IF(AND(Q20=1,S20=4),"ALTO",IF(AND(Q20=1,S20=5),"ALTO",IF(U20<=4,"BAJO",IF(AND(Q20=5,S20=1),"ALTO",IF(U20<=6,"MODERADO",IF(AND(Q20=2,S20=5),"EXTREMO",IF(U20<=10,"ALTO",IF(AND(Q20=4,S20=3),"ALTO","EXTREMO")))))))))))
... A104: =IF(AND(Q104=1,S104=1),1,IF(AND(Q104=1,S104=2),2,IF(AND(Q104=1,S104=3),3,IF(AND(Q104=1,S104=4),4,IF(AND(Q104=1,S104=5),5,IF(AND(Q104=2,S104=1),6,IF(AND(Q104=2,S104=2),7,IF(AND(Q104=2,S104=3),8,IF(AND(Q104=2,S104=4),9,IF(AND(Q104=2,S104=5),10,IF(AND(Q104=3,S104=1),11,IF(AND(Q104=3,S104=2),12,IF(AND(Q104=3,S104=3),13,IF(AND(Q104=3,S104=4),14,IF(AND(Q104=3,S104=5),15,IF(AND(Q104=4,S104=1),16,IF(AND(Q104=4,S104=2),17,IF(AND(Q104=4,S104=3),18,IF(AND(Q104=4,S104=4),19,IF(AND(Q104=4,S104=5),20,IF(AND(Q104=5,S104=1),21,IF(AND(Q104=5,S104=2),22,IF(AND(Q104=5,S104=3),23,IF(AND(Q104=5,S104=4),24,IF(AND(Q104=5,S104=5),25,""))))))))))))))))))))))))) | B104: =IF(A104="","",(COUNTIF($A$5:A104,A104))/100) | C104: =IFERROR(A104+B104,"") | D104: 100 | L104: =IF(OR(H104="",J104=""),"",H104*J104) | M104: =IF(L104="","",IF(AND(H104=1,J104=3),"MODERADO",IF(AND(H104=4,J104=1),"MODERADO",IF(AND(H104=1,J104=4),"ALTO",IF(AND(H104=1,J104=5),"ALTO",IF(L104<=4,"BAJO",IF(AND(H104=5,J104=1),"ALTO",IF(L104<=6,"MODERADO",IF(AND(H104=2,J104=5),"EXTREMO",IF(L104<=10,"ALTO",IF(AND(H104=4,J104=3),"ALTO","EXTREMO"))))))))))) | U104: =IF(OR(Q104="",S104=""),"",Q104*S104) | V104: =IF(U104="","",IF(AND(Q104=1,S104=3),"MODERADO",IF(AND(Q104=4,S104=1),"MODERADO",IF(AND(Q104=1,S104=4),"ALTO",IF(AND(Q104=1,S104=5),"ALTO",IF(U104<=4,"BAJO",IF(AND(Q104=5,S104=1),"ALTO",IF(U104<=6,"MODERADO",IF(AND(Q104=2,S104=5),"EXTREMO",IF(U104<=10,"ALTO",IF(AND(Q104=4,S104=3),"ALTO","EXTREMO")))))))))))

Sheet MAPA RIESGOS
B2: MAPA DE RIESGOS DE LA UNIVERSIDAD DE CUNDINAMARCA
B4: IMPACTO | D4: Insignificante (1) | E4: Menor (2) | F4: Moderado (3) | G4: Mayor (4) | I4: Catastrófico (5) | N4: =IF(N5<>""," -R","") | P4: =IF(P5<>""," -R","") | R4: =IF(R5<>""," -R","") | T4: =IF(T5<>""," -R","") | V4: =IF(V5<>""," -R","") | X4: =IF(X5<>""," -R","") | Z4: =IF(Z5<>""," -R","") | AB4: =IF(AB5<>""," -R","") | AD4: =IF(AD5<>""," -R","") -> -R | AF4: =IF(AF5<>""," -R","") -> -R | AH4: =IF(AH5<>""," -R","") | AJ4: =IF(AJ5<>""," -R","") | AL4: =IF(AL5<>""," -R","") -> -R | AN4: =IF(AN5<>""," -R","") | AP4: =IF(AP5<>""," -R","") | AR4: =IF(AR5<>""," -R","") | AT4: =IF(AT5<>""," -R","") | AV4: =IF(AV5<>""," -R","") | AX4: =IF(AX5<>""," -R","") | AZ4: =IF(AZ5<>""," -R","") | BB4: =IF(BB5<>""," -R","") | BD4: =IF(BD5<>""," -R","") | BF4: =IF(BF5<>""," -R","") | BH4: =IF(BH5<>""," -R","") | BJ4: =IF(BJ5<>""," -R","")
B5: PROBABILIDAD | M5: 1.01 | N5: =IFERROR(VLOOKUP(M5,'CRUCE RIESGOS'!$C$5:$D$104,2,FALSE),"") | O5: 2.01 | P5: =IFERROR(VLOOKUP(O5,'CRUCE RIESGOS'!$C$5:$D$104,2,FALSE),"") | Q5: 3.01 | R5: =IFERROR(VLOOKUP(Q5,'CRUCE RIESGOS'!$C$5:$D$104,2,FALSE),"") | S5: 4.01 | T5: =IFERROR(VLOOKUP(S5,'CRUCE RIESGOS'!$C$5:$D$104,2,FALSE),"") | U5: 5.01 | V5: =IFERROR(VLOOKUP(U5,'CRUCE RIESGOS'!$C$5:$D$104,2,FALSE),"") | W5: 6.01 | X5: =IFERROR(VLOOKUP(W5,'CRUCE RIESGOS'!$C$5:$D$104,2,FALSE),"") | Y5: 7.01 | Z5: =IFERROR(VLOOKUP(Y5,'CRUCE RIESGOS'!$C$5:$D$104,2,FALSE),"") | AA5: 8.01 | AB5: =IFERROR(VLOOKUP(AA5,'CRUCE RIESGOS'!$C$5:$D$104,2,FALSE),"") | AC5: 9.01 | AD5: =IFERROR(VLOOKUP(AC5,'CRUCE RIESGOS'!$C$5:$D$104,2,FALSE),"") -> 3 | AE5: 10.01 | AF5: =IFERROR(VLOOKUP(AE5,'CRUCE RIESGOS'!$C$5:$D$104,2,FALSE),"") -> 2 | AG5: 11.01 | AH5: =IFERROR(VLOOKUP(AG5,'CRUCE RIESGOS'!$C$5:$D$104,2,FALSE),"") | AI5: 12.01 | AJ5: =IFERROR(VLOOKUP(AI5,'CRUCE RIESGOS'!$C$5:$D$104,2,FALSE),"") | AK5: 13.01 | AL5: =IFERROR(VLOOKUP(AK5,'CRUCE RIESGOS'!$C$5:$D$104,2,FALSE),"") -> 1 | AM5: 14.01 | AN5: =IFERROR(VLOOKUP(AM5,'CRUCE RIESGOS'!$C$5:$D$104,2,FALSE),"") | AO5: 15.01 | AP5: =IFERROR(VLOOKUP(AO5,'CRUCE RIESGOS'!$C$5:$D$104,2,FALSE),"") | AQ5: 16.01 | AR5: =IFERROR(VLOOKUP(AQ5,'CRUCE RIESGOS'!$C$5:$D$104,2,FALSE),"") | AS5: 17.01 | AT5: =IFERROR(VLOOKUP(AS5,'CRUCE RIESGOS'!$C$5:$D$104,2,FALSE),"") | AU5: 18.01 | AV5: =IFERROR(VLOOKUP(AU5,'CRUCE RIESGOS'!$C$5:$D$104,2,FALSE),"") | AW5: 19.01 | AX5: =IFERROR(VLOOKUP(AW5,'CRUCE RIESGOS'!$C$5:$D$104,2,FALSE),"") | AY5: 20.01 | AZ5: =IFERROR(VLOOKUP(AY5,'CRUCE RIESGOS'!$C$5:$D$104,2,FALSE),"") | BA5: 21.01 | BB5: =IFERROR(VLOOKUP(BA5,'CRUCE RIESGOS'!$C$5:$D$104,2,FALSE),"") | BC5: 22.01 | BD5: =IFERROR(VLOOKUP(BC5,'CRUCE RIESGOS'!$C$5:$D$104,2,FALSE),"") | BE5: 23.01 | BF5: =IFERROR(VLOOKUP(BE5,'CRUCE RIESGOS'!$C$5:$D$104,2,FALSE),"") | BG5: 24.01 | BH5: =IFERROR(VLOOKUP(BG5,'CRUCE RIESGOS'!$C$5:$D$104,2,FALSE),"") | BI5: 25.01 | BJ5: =IFERROR(VLOOKUP(BI5,'CRUCE RIESGOS'!$C$5:$D$104,2,FALSE),"")
B6: Raro (1) | D6: =CONCATENATE(N4,N5,N6,N7,N8,N9,N10,N12,N13,N15,N16,N17,N18,N19,N20,N21,N22,N23,N24,N25,N26,N27,N28,N29,N30,N31,N32,N33,N34,N35,N36,N37,N38,N39,N40,N41,N42,N43,N44,N45,N46,N47,N48,N49,N50,N51,N52,N53,N54,N55,N56,N57,N58,N59,N60,N61,N62,N63,N64,N65,N66,N67,N68,N69,N70,N71,N72,N73,N74,N75,N76,N77,N78,N79,N80,N81,N82,N83,N84,N85,N86,N87,N88,N89,N90,N91,N92,N93,N94,N95,N96,N97,N98,N99,N100,N101,N102,N103,N104,N105,N106,N107,N108,N109,N110,N111,N112,N113,N114,N115,N116,N117,N118,N119,N120,N121,N122,N123,N124,N125,N126,N127,N128,N129,N130,N131,N132,N133,N134,N135,N136,N137,N138,N139,N140,N141,N142,N143,N144,N145,N146,N147,N148,N149,N150,N151,N152,N153,N154,N155,N156,N157,N158,N159,N160,N161,N162,N163,N164,N165,N166,N167,N168,N169,N170,N171,N172,N173,N174,N175,N176,N177,N178,N179,N180,N181,N182,N183,N184,N185,N186,N187,N188,N189,N190,N191,N192,N193,N194,N195,N196,N197,N198,N199,N200,N201,N202,N203) | E6: =CONCATENATE(P4,P5,P6,P7,P8,P9,P10,P12,P13,P15,P16,P17,P18,P19,P20,P21,P22,P23,P24,P25,P26,P27,P28,P29,P30,P31,P32,P33,P34,P35,P36,P37,P38,P39,P40,P41,P42,P43,P44,P45,P46,P47,P48,P49,P50,P51,P52,P53,P54,P55,P56,P57,P58,P59,P60,P61,P62,P63,P64,P65,P66,P67,P68,P69,P70,P71,P72,P73,P74,P75,P76,P77,P78,P79,P80,P81,P82,P83,P84,P85,P86,P87,P88,P89,P90,P91,P92,P93,P94,P95,P96,P97,P98,P99,P100,P101,P102,P103,P104,P105,P106,P107,P108,P109,P110,P111,P112,P113,P114,P115,P116,P117,P118,P119,P120,P121,P122,P123,P124,P125,P126,P127,P128,P129,P130,P131,P132,P133,P134,P135,P136,P137,P138,P139,P140,P141,P142,P143,P144,P145,P146,P147,P148,P149,P150,P151,P152,P153,P154,P155,P156,P157,P158,P159,P160,P161,P162,P163,P164,P165,P166,P167,P168,P169,P170,P171,P172,P173,P174,P175,P176,P177,P178,P179,P180,P181,P182,P183,P184,P185,P186,P187,P188,P189,P190,P191,P192,P193,P194,P195,P196,P197,P198,P199,P200,P201,P202,P203) | F6: =CONCATENATE(R4,R5,R6,R7,R8,R9,R10,R12,R13,R15,R16,R17,R18,R19,R20,R21,R22,R23,R24,R25,R26,R27,R28,R29,R30,R31,R32,R33,R34,R35,R36,R37,R38,R39,R40,R41,R42,R43,R44,R45,R46,R47,R48,R49,R50,R51,R52,R53,R54,R55,R56,R57,R58,R59,R60,R61,R62,R63,R64,R65,R66,R67,R68,R69,R70,R71,R72,R73,R74,R75,R76,R77,R78,R79,R80,R81,R82,R83,R84,R85,R86,R87,R88,R89,R90,R91,R92,R93,R94,R95,R96,R97,R98,R99,R100,R101,R102,R103,R104,R105,R106,R107,R108,R109,R110,R111,R112,R113,R114,R115,R116,R117,R118,R119,R120,R121,R122,R123,R124,R125,R126,R127,R128,R129,R130,R131,R132,R133,R134,R135,R136,R137,R138,R139,R140,R141,R142,R143,R144,R145,R146,R147,R148,R149,R150,R151,R152,R153,R154,R155,R156,R157,R158,R159,R160,R161,R162,R163,R164,R165,R166,R167,R168,R169,R170,R171,R172,R173,R174,R175,R176,R177,R178,R179,R180,R181,R182,R183,R184,R185,R186,R187,R188,R189,R190,R191,R192,R193,R194,R195,R196,R197,R198,R199,R200,R201,R202,R203) | G6: =CONCATENATE(T4,T5,T6,T7,T8,T9,T10,T12,T13,T15,T16,T17,T18,T19,T20,T21,T22,T23,T24,T25,T26,T27,T28,T29,T30,T31,T32,T33,T34,T35,T36,T37,T38,T39,T40,T41,T42,T43,T44,T45,T46,T47,T48,T49,T50,T51,T52,T53,T54,T55,T56,T57,T58,T59,T60,T61,T62,T63,T64,T65,T66,T67,T68,T69,T70,T71,T72,T73,T74,T75,T76,T77,T78,T79,T80,T81,T82,T83,T84,T85,T86,T87,T88,T89,T90,T91,T92,T93,T94,T95,T96,T97,T98,T99,T100,T101,T102,T103,T104,T105,T106,T107,T108,T109,T110,T111,T112,T113,T114,T115,T116,T117,T118,T119,T120,T121,T122,T123,T124,T125,T126,T127,T128,T129,T130,T131,T132,T133,T134,T135,T136,T137,T138,T139,T140,T141,T142,T143,T144,T145,T146,T147,T148,T149,T150,T151,T152,T153,T154,T155,T156,T157,T158,T159,T160,T161,T162,T163,T164,T165,T166,T167,T168,T169,T170,T171,T172,T173,T174,T175,T176,T177,T178,T179,T180,T181,T182,T183,T184,T185,T186,T187,T188,T189,T190,T191,T192,T193,T194,T195,T196,T197,T198,T199,T200,T201,T202,T203) | I6: =CONCATENATE(V4,V5,V6,V7,V8,V9,V10,V12,V13,V15,V16,V17,V18,V19,V20,V21,V22,V23,V24,V25,V26,V27,V28,V29,V30,V31,V32,V33,V34,V35,V36,V37,V38,V39,V40,V41,V42,V43,V44,V45,V46,V47,V48,V49,V50,V51,V52,V53,V54,V55,V56,V57,V58,V59,V60,V61,V62,V63,V64,V65,V66,V67,V68,V69,V70,V71,V72,V73,V74,V75,V76,V77,V78,V79,V80,V81,V82,V83,V84,V85,V86,V87,V88,V89,V90,V91,V92,V93,V94,V95,V96,V97,V98,V99,V100,V101,V102,V103,V104,V105,V106,V107,V108,V109,V110,V111,V112,V113,V114,V115,V116,V117,V118,V119,V120,V121,V122,V123,V124,V125,V126,V127,V128,V129,V130,V131,V132,V133,V134,V135,V136,V137,V138,V139,V140,V141,V142,V143,V144,V145,V146,V147,V148,V149,V150,V151,V152,V153,V154,V155,V156,V157,V158,V159,V160,V161,V162,V163,V164,V165,V166,V167,V168,V169,V170,V171,V172,V173,V174,V175,V176,V177,V178,V179,V180,V181,V182,V183,V184,V185,V186,V187,V188,V189,V190,V191,V192,V193,V194,V195,V196,V197,V198,V199,V200,V201,V202,V203) | N6: =IF(N7<>""," -R","") | P6: =IF(P7<>""," -R","") | R6: =IF(R7<>""," -R","") | T6: =IF(T7<>""," -R","") | V6: =IF(V7<>""," -R","") | X6: =IF(X7<>""," -R","") | Z6: =IF(Z7<>""," -R","") | AB6: =IF(AB7<>""," -R","") | AD6: =IF(AD7<>""," -R","") -> -R | AF6: =IF(AF7<>""," -R","") | AH6: =IF(AH7<>""," -R","") | AJ6: =IF(AJ7<>""," -R","") | AL6: =IF(AL7<>""," -R","") | AN6: =IF(AN7<>""," -R","") | AP6: =IF(AP7<>""," -R","") | AR6: =IF(AR7<>""," -R","") | AT6: =IF(AT7<>""," -R","") | AV6: =IF(AV7<>""," -R","") | AX6: =IF(AX7<>""," -R","") | AZ6: =IF(AZ7<>""," -R","") | BB6: =IF(BB7<>""," -R","") | BD6: =IF(BD7<>""," -R","") | BF6: =IF(BF7<>""," -R","") | BH6: =IF(BH7<>""," -R","") | BJ6: =IF(BJ7<>""," -R","")
B7: Improbable (2) | D7: =CONCATENATE(X4,X5,X6,X7,X8,X9,X10,X12,X13,X15,X16,X17,X18,X19,X20,X21,X22,X23,X24,X25,X26,X27,X28,X29,X30,X31,X32,X33,X34,X35,X36,X37,X38,X39,X40,X41,X42,X43,X44,X45,X46,X47,X48,X49,X50,X51,X52,X53,X54,X55,X56,X57,X58,X59,X60,X61,X62,X63,X64,X65,X66,X67,X68,X69,X70,X71,X72,X73,X74,X75,X76,X77,X78,X79,X80,X81,X82,X83,X84,X85,X86,X87,X88,X89,X90,X91,X92,X93,X94,X95,X96,X97,X98,X99,X100,X101,X102,X103,X104,X105,X106,X107,X108,X109,X110,X111,X112,X113,X114,X115,X116,X117,X118,X119,X120,X121,X122,X123,X124,X125,X126,X127,X128,X129,X130,X131,X132,X133,X134,X135,X136,X137,X138,X139,X140,X141,X142,X143,X144,X145,X146,X147,X148,X149,X150,X151,X152,X153,X154,X155,X156,X157,X158,X159,X160,X161,X162,X163,X164,X165,X166,X167,X168,X169,X170,X171,X172,X173,X174,X175,X176,X177,X178,X179,X180,X181,X182,X183,X184,X185,X186,X187,X188,X189,X190,X191,X192,X193,X194,X195,X196,X197,X198,X199,X200,X201,X202,X203) | E7: =CONCATENATE(Z4,Z5,Z6,Z7,Z8,Z9,Z10,Z12,Z13,Z15,Z16,Z17,Z18,Z19,Z20,Z21,Z22,Z23,Z24,Z25,Z26,Z27,Z28,Z29,Z30,Z31,Z32,Z33,Z34,Z35,Z36,Z37,Z38,Z39,Z40,Z41,Z42,Z43,Z44,Z45,Z46,Z47,Z48,Z49,Z50,Z51,Z52,Z53,Z54,Z55,Z56,Z57,Z58,Z59,Z60,Z61,Z62,Z63,Z64,Z65,Z66,Z67,Z68,Z69,Z70,Z71,Z72,Z73,Z74,Z75,Z76,Z77,Z78,Z79,Z80,Z81,Z82,Z83,Z84,Z85,Z86,Z87,Z88,Z89,Z90,Z91,Z92,Z93,Z94,Z95,Z96,Z97,Z98,Z99,Z100,Z101,Z102,Z103,Z104,Z105,Z106,Z107,Z108,Z109,Z110,Z111,Z112,Z113,Z114,Z115,Z116,Z117,Z118,Z119,Z120,Z121,Z122,Z123,Z124,Z125,Z126,Z127,Z128,Z129,Z130,Z131,Z132,Z133,Z134,Z135,Z136,Z137,Z138,Z139,Z140,Z141,Z142,Z143,Z144,Z145,Z146,Z147,Z148,Z149,Z150,Z151,Z152,Z153,Z154,Z155,Z156,Z157,Z158,Z159,Z160,Z161,Z162,Z163,Z164,Z165,Z166,Z167,Z168,Z169,Z170,Z171,Z172,Z173,Z174,Z175,Z176,Z177,Z178,Z179,Z180,Z181,Z182,Z183,Z184,Z185,Z186,Z187,Z188,Z189,Z190,Z191,Z192,Z193,Z194,Z195,Z196,Z197,Z198,Z199,Z200,Z201,Z202,Z203) | F7: =CONCATENATE(AB4,AB5,AB6,AB7,AB8,AB9,AB10,AB12,AB13,AB15,AB16,AB17,AB18,AB19,AB20,AB21,AB22,AB23,AB24,AB25,AB26,AB27,AB28,AB29,AB30,AB31,AB32,AB33,AB34,AB35,AB36,AB37,AB38,AB39,AB40,AB41,AB42,AB43,AB44,AB45,AB46,AB47,AB48,AB49,AB50,AB51,AB52,AB53,AB54,AB55,AB56,AB57,AB58,AB59,AB60,AB61,AB62,AB63,AB64,AB65,AB66,AB67,AB68,AB69,AB70,AB71,AB72,AB73,AB74,AB75,AB76,AB77,AB78,AB79,AB80,AB81,AB82,AB83,AB84,AB85,AB86,AB87,AB88,AB89,AB90,AB91,AB92,AB93,AB94,AB95,AB96,AB97,AB98,AB99,AB100,AB101,AB102,AB103,AB104,AB105,AB106,AB107,AB108,AB109,AB110,AB111,AB112,AB113,AB114,AB115,AB116,AB117,AB118,AB119,AB120,AB121,AB122,AB123,AB124,AB125,AB126,AB127,AB128,AB129,AB130,AB131,AB132,AB133,AB134,AB135,AB136,AB137,AB138,AB139,AB140,AB141,AB142,AB143,AB144,AB145,AB146,AB147,AB148,AB149,AB150,AB151,AB152,AB153,AB154,AB155,AB156,AB157,AB158,AB159,AB160,AB161,AB162,AB163,AB164,AB165,AB166,AB167,AB168,AB169,AB170,AB171,AB172,AB173,AB174,AB175,AB176,AB177,AB178,AB179,AB180,AB181,AB182,AB183,AB184,AB185,AB186,AB187,AB188,AB189,AB190,AB191,AB192,AB193,AB194,AB195,AB196,AB197,AB198,AB199,AB200,AB201,AB202,AB203) | G7: =CONCATENATE(AD4,AD5,AD6,AD7,AD8,AD9,AD10,AD12,AD13,AD15,AD16,AD17,AD18,AD19,AD20,AD21,AD22,AD23,AD24,AD25,AD26,AD27,AD28,AD29,AD30,AD31,AD32,AD33,AD34,AD35,AD36,AD37,AD38,AD39,AD40,AD41,AD42,AD43,AD44,AD45,AD46,AD47,AD48,AD49,AD50,AD51,AD52,AD53,AD54,AD55,AD56,AD57,AD58,AD59,AD60,AD61,AD62,AD63,AD64,AD65,AD66,AD67,AD68,AD69,AD70,AD71,AD72,AD73,AD74,AD75,AD76,AD77,AD78,AD79,AD80,AD81,AD82,AD83,AD84,AD85,AD86,AD87,AD88,AD89,AD90,AD91,AD92,AD93,AD94,AD95,AD96,AD97,AD98,AD99,AD100,AD101,AD102,AD103,AD104,AD105,AD106,AD107,AD108,AD109,AD110,AD111,AD112,AD113,AD114,AD115,AD116,AD117,AD118,AD119,AD120,AD121,AD122,AD123,AD124,AD125,AD126,AD127,AD128,AD129,AD130,AD131,AD132,AD133,AD134,AD135,AD136,AD137,AD138,AD139,AD140,AD141,AD142,AD143,AD144,AD145,AD146,AD147,AD148,AD149,AD150,AD151,AD152,AD153,AD154,AD155,AD156,AD157,AD158,AD159,AD160,AD161,AD162,AD163,AD164,AD165,AD166,AD167,AD168,AD169,AD170,AD171,AD172,AD173,AD174,AD175,AD176,AD177,AD178,AD179,AD180,AD181,AD182,AD183,AD184,AD185,AD186,AD187,AD188,AD189,AD190,AD191,AD192,AD193,AD194,AD195,AD196,AD197,AD198,AD199,AD200,AD201,AD202,AD203) -> -R3 -R4 | I7: =CONCATENATE(AF4,AF5,AF6,AF7,AF8,AF9,AF10,AF12,AF13,AF15,AF16,AF17,AF18,AF19,AF20,AF21,AF22,AF23,AF24,AF25,AF26,AF27,AF28,AF29,AF30,AF31,AF32,AF33,AF34,AF35,AF36,AF37,AF38,AF39,AF40,AF41,AF42,AF43,AF44,AF45,AF46,AF47,AF48,AF49,AF50,AF51,AF52,AF53,AF54,AF55,AF56,AF57,AF58,AF59,AF60,AF61,AF62,AF63,AF64,AF65,AF66,AF67,AF68,AF69,AF70,AF71,AF72,AF73,AF74,AF75,AF76,AF77,AF78,AF79,AF80,AF81,AF82,AF83,AF84,AF85,AF86,AF87,AF88,AF89,AF90,AF91,AF92,AF93,AF94,AF95,AF96,AF97,AF98,AF99,AF100,AF101,AF102,AF103,AF104,AF105,AF106,AF107,AF108,AF109,AF110,AF111,AF112,AF113,AF114,AF115,AF116,AF117,AF118,AF119,AF120,AF121,AF122,AF123,AF124,AF125,AF126,AF127,AF128,AF129,AF130,AF131,AF132,AF133,AF134,AF135,AF136,AF137,AF138,AF139,AF140,AF141,AF142,AF143,AF144,AF145,AF146,AF147,AF148,AF149,AF150,AF151,AF152,AF153,AF154,AF155,AF156,AF157,AF158,AF159,AF160,AF161,AF162,AF163,AF164,AF165,AF166,AF167,AF168,AF169,AF170,AF171,AF172,AF173,AF174,AF175,AF176,AF177,AF178,AF179,AF180,AF181,AF182,AF183,AF184,AF185,AF186,AF187,AF188,AF189,AF190,AF191,AF192,AF193,AF194,AF195,AF196,AF197,AF198,AF199,AF200,AF201,AF202,AF203) -> -R2 | M7: 1.02 | N7: =IFERROR(VLOOKUP(M7,'CRUCE RIESGOS'!$C$5:$D$104,2,FALSE),"") | O7: 2.02 | P7: =IFERROR(VLOOKUP(O7,'CRUCE RIESGOS'!$C$5:$D$104,2,FALSE),"") | Q7: 3.02 | R7: =IFERROR(VLOOKUP(Q7,'CRUCE RIESGOS'!$C$5:$D$104,2,FALSE),"") | S7: 4.02 | T7: =IFERROR(VLOOKUP(S7,'CRUCE RIESGOS'!$C$5:$D$104,2,FALSE),"") | U7: 5.02 | V7: =IFERROR(VLOOKUP(U7,'CRUCE RIESGOS'!$C$5:$D$104,2,FALSE),"") | W7: 6.02 | X7: =IFERROR(VLOOKUP(W7,'CRUCE RIESGOS'!$C$5:$D$104,2,FALSE),"") | Y7: 7.02 | Z7: =IFERROR(VLOOKUP(Y7,'CRUCE RIESGOS'!$C$5:$D$104,2,FALSE),"") | AA7: 8.02 | AB7: =IFERROR(VLOOKUP(AA7,'CRUCE RIESGOS'!$C$5:$D$104,2,FALSE),"") | AC7: 9.02 | AD7: =IFERROR(VLOOKUP(AC7,'CRUCE RIESGOS'!$C$5:$D$104,2,FALSE),"") -> 4 | AE7: 10.02 | AF7: =IFERROR(VLOOKUP(AE7,'CRUCE RIESGOS'!$C$5:$D$104,2,FALSE),"") | AG7: 11.02 | AH7: =IFERROR(VLOOKUP(AG7,'CRUCE RIESGOS'!$C$5:$D$104,2,FALSE),"") | AI7: 12.02 | AJ7: =IFERROR(VLOOKUP(AI7,'CRUCE RIESGOS'!$C$5:$D$104,2,FALSE),"") | AK7: 13.02 | AL7: =IFERROR(VLOOKUP(AK7,'CRUCE RIESGOS'!$C$5:$D$104,2,FALSE),"") | AM7: 14.02 | AN7: =IFERROR(VLOOKUP(AM7,'CRUCE RIESGOS'!$C$5:$D$104,2,FALSE),"") | AO7: 15.02 | AP7: =IFERROR(VLOOKUP(AO7,'CRUCE RIESGOS'!$C$5:$D$104,2,FALSE),"") | AQ7: 16.02 | AR7: =IFERROR(VLOOKUP(AQ7,'CRUCE RIESGOS'!$C$5:$D$104,2,FALSE),"") | AS7: 17.02 | AT7: =IFERROR(VLOOKUP(AS7,'CRUCE RIESGOS'!$C$5:$D$104,2,FALSE),"") | AU7: 18.02 | AV7: =IFERROR(VLOOKUP(AU7,'CRUCE RIESGOS'!$C$5:$D$104,2,FALSE),"") | AW7: 19.02 | AX7: =IFERROR(VLOOKUP(AW7,'CRUCE RIESGOS'!$C$5:$D$104,2,FALSE),"") | AY7: 20.02 | AZ7: =IFERROR(VLOOKUP(AY7,'CRUCE RIESGOS'!$C$5:$D$104,2,FALSE),"") | BA7: 21.02 | BB7: =IFERROR(VLOOKUP(BA7,'CRUCE RIESGOS'!$C$5:$D$104,2,FALSE),"") | BC7: 22.02 | BD7: =IFERROR(VLOOKUP(BC7,'CRUCE RIESGOS'!$C$5:$D$104,2,FALSE),"") | BE7: 23.02 | BF7: =IFERROR(VLOOKUP(BE7,'CRUCE RIESGOS'!$C$5:$D$104,2,FALSE),"") | BG7: 24.02 | BH7: =IFERROR(VLOOKUP(BG7,'CRUCE RIESGOS'!$C$5:$D$104,2,FALSE),"") | BI7: 25.02 | BJ7: =IFERROR(VLOOKUP(BI7,'CRUCE RIESGOS'!$C$5:$D$104,2,FALSE),"")
B8: Posible (3) | D8: =CONCATENATE(AH4,AH5,AH6,AH7,AH8,AH9,AH10,AH12,AH13,AH15,AH16,AH17,AH18,AH19,AH20,AH21,AH22,AH23,AH24,AH25,AH26,AH27,AH28,AH29,AH30,AH31,AH32,AH33,AH34,AH35,AH36,AH37,AH38,AH39,AH40,AH41,AH42,AH43,AH44,AH45,AH46,AH47,AH48,AH49,AH50,AH51,AH52,AH53,AH54,AH55,AH56,AH57,AH58,AH59,AH60,AH61,AH62,AH63,AH64,AH65,AH66,AH67,AH68,AH69,AH70,AH71,AH72,AH73,AH74,AH75,AH76,AH77,AH78,AH79,AH80,AH81,AH82,AH83,AH84,AH85,AH86,AH87,AH88,AH89,AH90,AH91,AH92,AH93,AH94,AH95,AH96,AH97,AH98,AH99,AH100,AH101,AH102,AH103,AH104,AH105,AH106,AH107,AH108,AH109,AH110,AH111,AH112,AH113,AH114,AH115,AH116,AH117,AH118,AH119,AH120,AH121,AH122,AH123,AH124,AH125,AH126,AH127,AH128,AH129,AH130,AH131,AH132,AH133,AH134,AH135,AH136,AH137,AH138,AH139,AH140,AH141,AH142,AH143,AH144,AH145,AH146,AH147,AH148,AH149,AH150,AH151,AH152,AH153,AH154,AH155,AH156,AH157,AH158,AH159,AH160,AH161,AH162,AH163,AH164,AH165,AH166,AH167,AH168,AH169,AH170,AH171,AH172,AH173,AH174,AH175,AH176,AH177,AH178,AH179,AH180,AH181,AH182,AH183,AH184,AH185,AH186,AH187,AH188,AH189,AH190,AH191,AH192,AH193,AH194,AH195,AH196,AH197,AH198,AH199,AH200,AH201,AH202,AH203) | E8: =CONCATENATE(AJ4,AJ5,AJ6,AJ7,AJ8,AJ9,AJ10,AJ12,AJ13,AJ15,AJ16,AJ17,AJ18,AJ19,AJ20,AJ21,AJ22,AJ23,AJ24,AJ25,AJ26,AJ27,AJ28,AJ29,AJ30,AJ31,AJ32,AJ33,AJ34,AJ35,AJ36,AJ37,AJ38,AJ39,AJ40,AJ41,AJ42,AJ43,AJ44,AJ45,AJ46,AJ47,AJ48,AJ49,AJ50,AJ51,AJ52,AJ53,AJ54,AJ55,AJ56,AJ57,AJ58,AJ59,AJ60,AJ61,AJ62,AJ63,AJ64,AJ65,AJ66,AJ67,AJ68,AJ69,AJ70,AJ71,AJ72,AJ73,AJ74,AJ75,AJ76,AJ77,AJ78,AJ79,AJ80,AJ81,AJ82,AJ83,AJ84,AJ85,AJ86,AJ87,AJ88,AJ89,AJ90,AJ91,AJ92,AJ93,AJ94,AJ95,AJ96,AJ97,AJ98,AJ99,AJ100,AJ101,AJ102,AJ103,AJ104,AJ105,AJ106,AJ107,AJ108,AJ109,AJ110,AJ111,AJ112,AJ113,AJ114,AJ115,AJ116,AJ117,AJ118,AJ119,AJ120,AJ121,AJ122,AJ123,AJ124,AJ125,AJ126,AJ127,AJ128,AJ129,AJ130,AJ131,AJ132,AJ133,AJ134,AJ135,AJ136,AJ137,AJ138,AJ139,AJ140,AJ141,AJ142,AJ143,AJ144,AJ145,AJ146,AJ147,AJ148,AJ149,AJ150,AJ151,AJ152,AJ153,AJ154,AJ155,AJ156,AJ157,AJ158,AJ159,AJ160,AJ161,AJ162,AJ163,AJ164,AJ165,AJ166,AJ167,AJ168,AJ169,AJ170,AJ171,AJ172,AJ173,AJ174,AJ175,AJ176,AJ177,AJ178,AJ179,AJ180,AJ181,AJ182,AJ183,AJ184,AJ185,AJ186,AJ187,AJ188,AJ189,AJ190,AJ191,AJ192,AJ193,AJ194,AJ195,AJ196,AJ197,AJ198,AJ199,AJ200,AJ201,AJ202,AJ203) | F8: =CONCATENATE(AL4,AL5,AL6,AL7,AL8,AL9,AL10,AL12,AL13,AL15,AL16,AL17,AL18,AL19,AL20,AL21,AL22,AL23,AL24,AL25,AL26,AL27,AL28,AL29,AL30,AL31,AL32,AL33,AL34,AL35,AL36,AL37,AL38,AL39,AL40,AL41,AL42,AL43,AL44,AL45,AL46,AL47,AL48,AL49,AL50,AL51,AL52,AL53,AL54,AL55,AL56,AL57,AL58,AL59,AL60,AL61,AL62,AL63,AL64,AL65,AL66,AL67,AL68,AL69,AL70,AL71,AL72,AL73,AL74,AL75,AL76,AL77,AL78,AL79,AL80,AL81,AL82,AL83,AL84,AL85,AL86,AL87,AL88,AL89,AL90,AL91,AL92,AL93,AL94,AL95,AL96,AL97,AL98,AL99,AL100,AL101,AL102,AL103,AL104,AL105,AL106,AL107,AL108,AL109,AL110,AL111,AL112,AL113,AL114,AL115,AL116,AL117,AL118,AL119,AL120,AL121,AL122,AL123,AL124,AL125,AL126,AL127,AL128,AL129,AL130,AL131,AL132,AL133,AL134,AL135,AL136,AL137,AL138,AL139,AL140,AL141,AL142,AL143,AL144,AL145,AL146,AL147,AL148,AL149,AL150,AL151,AL152,AL153,AL154,AL155,AL156,AL157,AL158,AL159,AL160,AL161,AL162,AL163,AL164,AL165,AL166,AL167,AL168,AL169,AL170,AL171,AL172,AL173,AL174,AL175,AL176,AL177,AL178,AL179,AL180,AL181,AL182,AL183,AL184,AL185,AL186,AL187,AL188,AL189,AL190,AL191,AL192,AL193,AL194,AL195,AL196,AL197,AL198,AL199,AL200,AL201,AL202,AL203) -> -R1 | G8: =CONCATENATE(AN4,AN5,AN6,AN7,AN8,AN9,AN10,AN12,AN13,AN15,AN16,AN17,AN18,AN19,AN20,AN21,AN22,AN23,AN24,AN25,AN26,AN27,AN28,AN29,AN30,AN31,AN32,AN33,AN34,AN35,AN36,AN37,AN38,AN39,AN40,AN41,AN42,AN43,AN44,AN45,AN46,AN47,AN48,AN49,AN50,AN51,AN52,AN53,AN54,AN55,AN56,AN57,AN58,AN59,AN60,AN61,AN62,AN63,AN64,AN65,AN66,AN67,AN68,AN69,AN70,AN71,AN72,AN73,AN74,AN75,AN76,AN77,AN78,AN79,AN80,AN81,AN82,AN83,AN84,AN85,AN86,AN87,AN88,AN89,AN90,AN91,AN92,AN93,AN94,AN95,AN96,AN97,AN98,AN99,AN100,AN101,AN102,AN103,AN104,AN105,AN106,AN107,AN108,AN109,AN110,AN111,AN112,AN113,AN114,AN115,AN116,AN117,AN118,AN119,AN120,AN121,AN122,AN123,AN124,AN125,AN126,AN127,AN128,AN129,AN130,AN131,AN132,AN133,AN134,AN135,AN136,AN137,AN138,AN139,AN140,AN141,AN142,AN143,AN144,AN145,AN146,AN147,AN148,AN149,AN150,AN151,AN152,AN153,AN154,AN155,AN156,AN157,AN158,AN159,AN160,AN161,AN162,AN163,AN164,AN165,AN166,AN167,AN168,AN169,AN170,AN171,AN172,AN173,AN174,AN175,AN176,AN177,AN178,AN179,AN180,AN181,AN182,AN183,AN184,AN185,AN186,AN187,AN188,AN189,AN190,AN191,AN192,AN193,AN194,AN195,AN196,AN197,AN198,AN199,AN200,AN201,AN202,AN203) | I8: =CONCATENATE(AP4,AP5,AP6,AP7,AP8,AP9,AP10,AP12,AP13,AP15,AP16,AP17,AP18,AP19,AP20,AP21,AP22,AP23,AP24,AP25,AP26,AP27,AP28,AP29,AP30,AP31,AP32,AP33,AP34,AP35,AP36,AP37,AP38,AP39,AP40,AP41,AP42,AP43,AP44,AP45,AP46,AP47,AP48,AP49,AP50,AP51,AP52,AP53,AP54,AP55,AP56,AP57,AP58,AP59,AP60,AP61,AP62,AP63,AP64,AP65,AP66,AP67,AP68,AP69,AP70,AP71,AP72,AP73,AP74,AP75,AP76,AP77,AP78,AP79,AP80,AP81,AP82,AP83,AP84,AP85,AP86,AP87,AP88,AP89,AP90,AP91,AP92,AP93,AP94,AP95,AP96,AP97,AP98,AP99,AP100,AP101,AP102,AP103,AP104,AP105,AP106,AP107,AP108,AP109,AP110,AP111,AP112,AP113,AP114,AP115,AP116,AP117,AP118,AP119,AP120,AP121,AP122,AP123,AP124,AP125,AP126,AP127,AP128,AP129,AP130,AP131,AP132,AP133,AP134,AP135,AP136,AP137,AP138,AP139,AP140,AP141,AP142,AP143,AP144,AP145,AP146,AP147,AP148,AP149,AP150,AP151,AP152,AP153,AP154,AP155,AP156,AP157,AP158,AP159,AP160,AP161,AP162,AP163,AP164,AP165,AP166,AP167,AP168,AP169,AP170,AP171,AP172,AP173,AP174,AP175,AP176,AP177,AP178,AP179,AP180,AP181,AP182,AP183,AP184,AP185,AP186,AP187,AP188,AP189,AP190,AP191,AP192,AP193,AP194,AP195,AP196,AP197,AP198,AP199,AP200,AP201,AP202,AP203) | N8: =IF(N9<>""," -R","") | P8: =IF(P9<>""," -R","") | R8: =IF(R9<>""," -R","") | T8: =IF(T9<>""," -R","") | V8: =IF(V9<>""," -R","") | X8: =IF(X9<>""," -R","") | Z8: =IF(Z9<>""," -R","") | AB8: =IF(AB9<>""," -R","") | AD8: =IF(AD9<>""," -R","") | AF8: =IF(AF9<>""," -R","") | AH8: =IF(AH9<>""," -R","") | AJ8: =IF(AJ9<>""," -R","") | AL8: =IF(AL9<>""," -R","") | AN8: =IF(AN9<>""," -R","") | AP8: =IF(AP9<>""," -R","") | AR8: =IF(AR9<>""," -R","") | AT8: =IF(AT9<>""," -R","") | AV8: =IF(AV9<>""," -R","") | AX8: =IF(AX9<>""," -R","") | AZ8: =IF(AZ9<>""," -R","") | BB8: =IF(BB9<>""," -R","") | BD8: =IF(BD9<>""," -R","") | BF8: =IF(BF9<>""," -R","") | BH8: =IF(BH9<>""," -R","") | BJ8: =IF(BJ9<>""," -R","")
B9: Probable (4) | D9: =CONCATENATE(AR4,AR5,AR6,AR7,AR8,AR9,AR10,AR12,AR13,AR15,AR16,AR17,AR18,AR19,AR20,AR21,AR22,AR23,AR24,AR25,AR26,AR27,AR28,AR29,AR30,AR31,AR32,AR33,AR34,AR35,AR36,AR37,AR38,AR39,AR40,AR41,AR42,AR43,AR44,AR45,AR46,AR47,AR48,AR49,AR50,AR51,AR52,AR53,AR54,AR55,AR56,AR57,AR58,AR59,AR60,AR61,AR62,AR63,AR64,AR65,AR66,AR67,AR68,AR69,AR70,AR71,AR72,AR73,AR74,AR75,AR76,AR77,AR78,AR79,AR80,AR81,AR82,AR83,AR84,AR85,AR86,AR87,AR88,AR89,AR90,AR91,AR92,AR93,AR94,AR95,AR96,AR97,AR98,AR99,AR100,AR101,AR102,AR103,AR104,AR105,AR106,AR107,AR108,AR109,AR110,AR111,AR112,AR113,AR114,AR115,AR116,AR117,AR118,AR119,AR120,AR121,AR122,AR123,AR124,AR125,AR126,AR127,AR128,AR129,AR130,AR131,AR132,AR133,AR134,AR135,AR136,AR137,AR138,AR139,AR140,AR141,AR142,AR143,AR144,AR145,AR146,AR147,AR148,AR149,AR150,AR151,AR152,AR153,AR154,AR155,AR156,AR157,AR158,AR159,AR160,AR161,AR162,AR163,AR164,AR165,AR166,AR167,AR168,AR169,AR170,AR171,AR172,AR173,AR174,AR175,AR176,AR177,AR178,AR179,AR180,AR181,AR182,AR183,AR184,AR185,AR186,AR187,AR188,AR189,AR190,AR191,AR192,AR193,AR194,AR195,AR196,AR197,AR198,AR199,AR200,AR201,AR202,AR203) | E9: =CONCATENATE(AT4,AT5,AT6,AT7,AT8,AT9,AT10,AT12,AT13,AT15,AT16,AT17,AT18,AT19,AT20,AT21,AT22,AT23,AT24,AT25,AT26,AT27,AT28,AT29,AT30,AT31,AT32,AT33,AT34,AT35,AT36,AT37,AT38,AT39,AT40,AT41,AT42,AT43,AT44,AT45,AT46,AT47,AT48,AT49,AT50,AT51,AT52,AT53,AT54,AT55,AT56,AT57,AT58,AT59,AT60,AT61,AT62,AT63,AT64,AT65,AT66,AT67,AT68,AT69,AT70,AT71,AT72,AT73,AT74,AT75,AT76,AT77,AT78,AT79,AT80,AT81,AT82,AT83,AT84,AT85,AT86,AT87,AT88,AT89,AT90,AT91,AT92,AT93,AT94,AT95,AT96,AT97,AT98,AT99,AT100,AT101,AT102,AT103,AT104,AT105,AT106,AT107,AT108,AT109,AT110,AT111,AT112,AT113,AT114,AT115,AT116,AT117,AT118,AT119,AT120,AT121,AT122,AT123,AT124,AT125,AT126,AT127,AT128,AT129,AT130,AT131,AT132,AT133,AT134,AT135,AT136,AT137,AT138,AT139,AT140,AT141,AT142,AT143,AT144,AT145,AT146,AT147,AT148,AT149,AT150,AT151,AT152,AT153,AT154,AT155,AT156,AT157,AT158,AT159,AT160,AT161,AT162,AT163,AT164,AT165,AT166,AT167,AT168,AT169,AT170,AT171,AT172,AT173,AT174,AT175,AT176,AT177,AT178,AT179,AT180,AT181,AT182,AT183,AT184,AT185,AT186,AT187,AT188,AT189,AT190,AT191,AT192,AT193,AT194,AT195,AT196,AT197,AT198,AT199,AT200,AT201,AT202,AT203) | F9: =CONCATENATE(AV4,AV5,AV6,AV7,AV8,AV9,AV10,AV12,AV13,AV15,AV16,AV17,AV18,AV19,AV20,AV21,AV22,AV23,AV24,AV25,AV26,AV27,AV28,AV29,AV30,AV31,AV32,AV33,AV34,AV35,AV36,AV37,AV38,AV39,AV40,AV41,AV42,AV43,AV44,AV45,AV46,AV47,AV48,AV49,AV50,AV51,AV52,AV53,AV54,AV55,AV56,AV57,AV58,AV59,AV60,AV61,AV62,AV63,AV64,AV65,AV66,AV67,AV68,AV69,AV70,AV71,AV72,AV73,AV74,AV75,AV76,AV77,AV78,AV79,AV80,AV81,AV82,AV83,AV84,AV85,AV86,AV87,AV88,AV89,AV90,AV91,AV92,AV93,AV94,AV95,AV96,AV97,AV98,AV99,AV100,AV101,AV102,AV103,AV104,AV105,AV106,AV107,AV108,AV109,AV110,AV111,AV112,AV113,AV114,AV115,AV116,AV117,AV118,AV119,AV120,AV121,AV122,AV123,AV124,AV125,AV126,AV127,AV128,AV129,AV130,AV131,AV132,AV133,AV134,AV135,AV136,AV137,AV138,AV139,AV140,AV141,AV142,AV143,AV144,AV145,AV146,AV147,AV148,AV149,AV150,AV151,AV152,AV153,AV154,AV155,AV156,AV157,AV158,AV159,AV160,AV161,AV162,AV163,AV164,AV165,AV166,AV167,AV168,AV169,AV170,AV171,AV172,AV173,AV174,AV175,AV176,AV177,AV178,AV179,AV180,AV181,AV182,AV183,AV184,AV185,AV186,AV187,AV188,AV189,AV190,AV191,AV192,AV193,AV194,AV195,AV196,AV197,AV198,AV199,AV200,AV201,AV202,AV203) | G9: =CONCATENATE(AX4,AX5,AX6,AX7,AX8,AX9,AX10,AX12,AX13,AX15,AX16,AX17,AX18,AX19,AX20,AX21,AX22,AX23,AX24,AX25,AX26,AX27,AX28,AX29,AX30,AX31,AX32,AX33,AX34,AX35,AX36,AX37,AX38,AX39,AX40,AX41,AX42,AX43,AX44,AX45,AX46,AX47,AX48,AX49,AX50,AX51,AX52,AX53,AX54,AX55,AX56,AX57,AX58,AX59,AX60,AX61,AX62,AX63,AX64,AX65,AX66,AX67,AX68,AX69,AX70,AX71,AX72,AX73,AX74,AX75,AX76,AX77,AX78,AX79,AX80,AX81,AX82,AX83,AX84,AX85,AX86,AX87,AX88,AX89,AX90,AX91,AX92,AX93,AX94,AX95,AX96,AX97,AX98,AX99,AX100,AX101,AX102,AX103,AX104,AX105,AX106,AX107,AX108,AX109,AX110,AX111,AX112,AX113,AX114,AX115,AX116,AX117,AX118,AX119,AX120,AX121,AX122,AX123,AX124,AX125,AX126,AX127,AX128,AX129,AX130,AX131,AX132,AX133,AX134,AX135,AX136,AX137,AX138,AX139,AX140,AX141,AX142,AX143,AX144,AX145,AX146,AX147,AX148,AX149,AX150,AX151,AX152,AX153,AX154,AX155,AX156,AX157,AX158,AX159,AX160,AX161,AX162,AX163,AX164,AX165,AX166,AX167,AX168,AX169,AX170,AX171,AX172,AX173,AX174,AX175,AX176,AX177,AX178,AX179,AX180,AX181,AX182,AX183,AX184,AX185,AX186,AX187,AX188,AX189,AX190,AX191,AX192,AX193,AX194,AX195,AX196,AX197,AX198,AX199,AX200,AX201,AX202,AX203) | I9: =CONCATENATE(AZ4,AZ5,AZ6,AZ7,AZ8,AZ9,AZ10,AZ12,AZ13,AZ15,AZ16,AZ17,AZ18,AZ19,AZ20,AZ21,AZ22,AZ23,AZ24,AZ25,AZ26,AZ27,AZ28,AZ29,AZ30,AZ31,AZ32,AZ33,AZ34,AZ35,AZ36,AZ37,AZ38,AZ39,AZ40,AZ41,AZ42,AZ43,AZ44,AZ45,AZ46,AZ47,AZ48,AZ49,AZ50,AZ51,AZ52,AZ53,AZ54,AZ55,AZ56,AZ57,AZ58,AZ59,AZ60,AZ61,AZ62,AZ63,AZ64,AZ65,AZ66,AZ67,AZ68,AZ69,AZ70,AZ71,AZ72,AZ73,AZ74,AZ75,AZ76,AZ77,AZ78,AZ79,AZ80,AZ81,AZ82,AZ83,AZ84,AZ85,AZ86,AZ87,AZ88,AZ89,AZ90,AZ91,AZ92,AZ93,AZ94,AZ95,AZ96,AZ97,AZ98,AZ99,AZ100,AZ101,AZ102,AZ103,AZ104,AZ105,AZ106,AZ107,AZ108,AZ109,AZ110,AZ111,AZ112,AZ113,AZ114,AZ115,AZ116,AZ117,AZ118,AZ119,AZ120,AZ121,AZ122,AZ123,AZ124,AZ125,AZ126,AZ127,AZ128,AZ129,AZ130,AZ131,AZ132,AZ133,AZ134,AZ135,AZ136,AZ137,AZ138,AZ139,AZ140,AZ141,AZ142,AZ143,AZ144,AZ145,AZ146,AZ147,AZ148,AZ149,AZ150,AZ151,AZ152,AZ153,AZ154,AZ155,AZ156,AZ157,AZ158,AZ159,AZ160,AZ161,AZ162,AZ163,AZ164,AZ165,AZ166,AZ167,AZ168,AZ169,AZ170,AZ171,AZ172,AZ173,AZ174,AZ175,AZ176,AZ177,AZ178,AZ179,AZ180,AZ181,AZ182,AZ183,AZ184,AZ185,AZ186,AZ187,AZ188,AZ189,AZ190,AZ191,AZ192,AZ193,AZ194,AZ195,AZ196,AZ197,AZ198,AZ199,AZ200,AZ201,AZ202,AZ203) | M9: 1.03 | N9: =IFERROR(VLOOKUP(M9,'CRUCE RIESGOS'!$C$5:$D$104,2,FALSE),"") | O9: 2.03 | P9: =IFERROR(VLOOKUP(O9,'CRUCE RIESGOS'!$C$5:$D$104,2,FALSE),"") | Q9: 3.03 | R9: =IFERROR(VLOOKUP(Q9,'CRUCE RIESGOS'!$C$5:$D$104,2,FALSE),"") | S9: 4.03 | T9: =IFERROR(VLOOKUP(S9,'CRUCE RIESGOS'!$C$5:$D$104,2,FALSE),"") | U9: 5.03 | V9: =IFERROR(VLOOKUP(U9,'CRUCE RIESGOS'!$C$5:$D$104,2,FALSE),"") | W9: 6.03 | X9: =IFERROR(VLOOKUP(W9,'CRUCE RIESGOS'!$C$5:$D$104,2,FALSE),"") | Y9: 7.03 | Z9: =IFERROR(VLOOKUP(Y9,'CRUCE RIESGOS'!$C$5:$D$104,2,FALSE),"") | AA9: 8.03 | AB9: =IFERROR(VLOOKUP(AA9,'CRUCE RIESGOS'!$C$5:$D$104,2,FALSE),"") | AC9: 9.03 | AD9: =IFERROR(VLOOKUP(AC9,'CRUCE RIESGOS'!$C$5:$D$104,2,FALSE),"") | AE9: 10.03 | AF9: =IFERROR(VLOOKUP(AE9,'CRUCE RIESGOS'!$C$5:$D$104,2,FALSE),"") | AG9: 11.03 | AH9: =IFERROR(VLOOKUP(AG9,'CRUCE RIESGOS'!$C$5:$D$104,2,FALSE),"") | AI9: 12.03 | AJ9: =IFERROR(VLOOKUP(AI9,'CRUCE RIESGOS'!$C$5:$D$104,2,FALSE),"") | AK9: 13.03 | AL9: =IFERROR(VLOOKUP(AK9,'CRUCE RIESGOS'!$C$5:$D$104,2,FALSE),"") | AM9: 14.03 | AN9: =IFERROR(VLOOKUP(AM9,'CRUCE RIESGOS'!$C$5:$D$104,2,FALSE),"") | AO9: 15.03 | AP9: =IFERROR(VLOOKUP(AO9,'CRUCE RIESGOS'!$C$5:$D$104,2,FALSE),"") | AQ9: 16.03 | AR9: =IFERROR(VLOOKUP(AQ9,'CRUCE RIESGOS'!$C$5:$D$104,2,FALSE),"") | AS9: 17.03 | AT9: =IFERROR(VLOOKUP(AS9,'CRUCE RIESGOS'!$C$5:$D$104,2,FALSE),"") | AU9: 18.03 | AV9: =IFERROR(VLOOKUP(AU9,'CRUCE RIESGOS'!$C$5:$D$104,2,FALSE),"") | AW9: 19.03 | AX9: =IFERROR(VLOOKUP(AW9,'CRUCE RIESGOS'!$C$5:$D$104,2,FALSE),"") | AY9: 20.03 | AZ9: =IFERROR(VLOOKUP(AY9,'CRUCE RIESGOS'!$C$5:$D$104,2,FALSE),"") | BA9: 21.03 | BB9: =IFERROR(VLOOKUP(BA9,'CRUCE RIESGOS'!$C$5:$D$104,2,FALSE),"") | BC9: 22.03 | BD9: =IFERROR(VLOOKUP(BC9,'CRUCE RIESGOS'!$C$5:$D$104,2,FALSE),"") | BE9: 23.03 | BF9: =IFERROR(VLOOKUP(BE9,'CRUCE RIESGOS'!$C$5:$D$104,2,FALSE),"") | BG9: 24.03 | BH9: =IFERROR(VLOOKUP(BG9,'CRUCE RIESGOS'!$C$5:$D$104,2,FALSE),"") | BI9: 25.03 | BJ9: =IFERROR(VLOOKUP(BI9,'CRUCE RIESGOS'!$C$5:$D$104,2,FALSE),"")
B10: Casi seguro (5) | D10: =CONCATENATE(BB4,BB5,BB6,BB7,BB8,BB9,BB10,BB12,BB13,BB15,BB16,BB17,BB18,BB19,BB20,BB21,BB22,BB23,BB24,BB25,BB26,BB27,BB28,BB29,BB30,BB31,BB32,BB33,BB34,BB35,BB36,BB37,BB38,BB39,BB40,BB41,BB42,BB43,BB44,BB45,BB46,BB47,BB48,BB49,BB50,BB51,BB52,BB53,BB54,BB55,BB56,BB57,BB58,BB59,BB60,BB61,BB62,BB63,BB64,BB65,BB66,BB67,BB68,BB69,BB70,BB71,BB72,BB73,BB74,BB75,BB76,BB77,BB78,BB79,BB80,BB81,BB82,BB83,BB84,BB85,BB86,BB87,BB88,BB89,BB90,BB91,BB92,BB93,BB94,BB95,BB96,BB97,BB98,BB99,BB100,BB101,BB102,BB103,BB104,BB105,BB106,BB107,BB108,BB109,BB110,BB111,BB112,BB113,BB114,BB115,BB116,BB117,BB118,BB119,BB120,BB121,BB122,BB123,BB124,BB125,BB126,BB127,BB128,BB129,BB130,BB131,BB132,BB133,BB134,BB135,BB136,BB137,BB138,BB139,BB140,BB141,BB142,BB143,BB144,BB145,BB146,BB147,BB148,BB149,BB150,BB151,BB152,BB153,BB154,BB155,BB156,BB157,BB158,BB159,BB160,BB161,BB162,BB163,BB164,BB165,BB166,BB167,BB168,BB169,BB170,BB171,BB172,BB173,BB174,BB175,BB176,BB177,BB178,BB179,BB180,BB181,BB182,BB183,BB184,BB185,BB186,BB187,BB188,BB189,BB190,BB191,BB192,BB193,BB194,BB195,BB196,BB197,BB198,BB199,BB200,BB201,BB202,BB203) | E10: =CONCATENATE(BD4,BD5,BD6,BD7,BD8,BD9,BD10,BD12,BD13,BD15,BD16,BD17,BD18,BD19,BD20,BD21,BD22,BD23,BD24,BD25,BD26,BD27,BD28,BD29,BD30,BD31,BD32,BD33,BD34,BD35,BD36,BD37,BD38,BD39,BD40,BD41,BD42,BD43,BD44,BD45,BD46,BD47,BD48,BD49,BD50,BD51,BD52,BD53,BD54,BD55,BD56,BD57,BD58,BD59,BD60,BD61,BD62,BD63,BD64,BD65,BD66,BD67,BD68,BD69,BD70,BD71,BD72,BD73,BD74,BD75,BD76,BD77,BD78,BD79,BD80,BD81,BD82,BD83,BD84,BD85,BD86,BD87,BD88,BD89,BD90,BD91,BD92,BD93,BD94,BD95,BD96,BD97,BD98,BD99,BD100,BD101,BD102,BD103,BD104,BD105,BD106,BD107,BD108,BD109,BD110,BD111,BD112,BD113,BD114,BD115,BD116,BD117,BD118,BD119,BD120,BD121,BD122,BD123,BD124,BD125,BD126,BD127,BD128,BD129,BD130,BD131,BD132,BD133,BD134,BD135,BD136,BD137,BD138,BD139,BD140,BD141,BD142,BD143,BD144,BD145,BD146,BD147,BD148,BD149,BD150,BD151,BD152,BD153,BD154,BD155,BD156,BD157,BD158,BD159,BD160,BD161,BD162,BD163,BD164,BD165,BD166,BD167,BD168,BD169,BD170,BD171,BD172,BD173,BD174,BD175,BD176,BD177,BD178,BD179,BD180,BD181,BD182,BD183,BD184,BD185,BD186,BD187,BD188,BD189,BD190,BD191,BD192,BD193,BD194,BD195,BD196,BD197,BD198,BD199,BD200,BD201,BD202,BD203) | F10: =CONCATENATE(BF4,BF5,BF6,BF7,BF8,BF9,BF10,BF12,BF13,BF15,BF16,BF17,BF18,BF19,BF20,BF21,BF22,BF23,BF24,BF25,BF26,BF27,BF28,BF29,BF30,BF31,BF32,BF33,BF34,BF35,BF36,BF37,BF38,BF39,BF40,BF41,BF42,BF43,BF44,BF45,BF46,BF47,BF48,BF49,BF50,BF51,BF52,BF53,BF54,BF55,BF56,BF57,BF58,BF59,BF60,BF61,BF62,BF63,BF64,BF65,BF66,BF67,BF68,BF69,BF70,BF71,BF72,BF73,BF74,BF75,BF76,BF77,BF78,BF79,BF80,BF81,BF82,BF83,BF84,BF85,BF86,BF87,BF88,BF89,BF90,BF91,BF92,BF93,BF94,BF95,BF96,BF97,BF98,BF99,BF100,BF101,BF102,BF103,BF104,BF105,BF106,BF107,BF108,BF109,BF110,BF111,BF112,BF113,BF114,BF115,BF116,BF117,BF118,BF119,BF120,BF121,BF122,BF123,BF124,BF125,BF126,BF127,BF128,BF129,BF130,BF131,BF132,BF133,BF134,BF135,BF136,BF137,BF138,BF139,BF140,BF141,BF142,BF143,BF144,BF145,BF146,BF147,BF148,BF149,BF150,BF151,BF152,BF153,BF154,BF155,BF156,BF157,BF158,BF159,BF160,BF161,BF162,BF163,BF164,BF165,BF166,BF167,BF168,BF169,BF170,BF171,BF172,BF173,BF174,BF175,BF176,BF177,BF178,BF179,BF180,BF181,BF182,BF183,BF184,BF185,BF186,BF187,BF188,BF189,BF190,BF191,BF192,BF193,BF194,BF195,BF196,BF197,BF198,BF199,BF200,BF201,BF202,BF203) | G10: =CONCATENATE(BH4,BH5,BH6,BH7,BH8,BH9,BH10,BH12,BH13,BH15,BH16,BH17,BH18,BH19,BH20,BH21,BH22,BH23,BH24,BH25,BH26,BH27,BH28,BH29,BH30,BH31,BH32,BH33,BH34,BH35,BH36,BH37,BH38,BH39,BH40,BH41,BH42,BH43,BH44,BH45,BH46,BH47,BH48,BH49,BH50,BH51,BH52,BH53,BH54,BH55,BH56,BH57,BH58,BH59,BH60,BH61,BH62,BH63,BH64,BH65,BH66,BH67,BH68,BH69,BH70,BH71,BH72,BH73,BH74,BH75,BH76,BH77,BH78,BH79,BH80,BH81,BH82,BH83,BH84,BH85,BH86,BH87,BH88,BH89,BH90,BH91,BH92,BH93,BH94,BH95,BH96,BH97,BH98,BH99,BH100,BH101,BH102,BH103,BH104,BH105,BH106,BH107,BH108,BH109,BH110,BH111,BH112,BH113,BH114,BH115,BH116,BH117,BH118,BH119,BH120,BH121,BH122,BH123,BH124,BH125,BH126,BH127,BH128,BH129,BH130,BH131,BH132,BH133,BH134,BH135,BH136,BH137,BH138,BH139,BH140,BH141,BH142,BH143,BH144,BH145,BH146,BH147,BH148,BH149,BH150,BH151,BH152,BH153,BH154,BH155,BH156,BH157,BH158,BH159,BH160,BH161,BH162,BH163,BH164,BH165,BH166,BH167,BH168,BH169,BH170,BH171,BH172,BH173,BH174,BH175,BH176,BH177,BH178,BH179,BH180,BH181,BH182,BH183,BH184,BH185,BH186,BH187,BH188,BH189,BH190,BH191,BH192,BH193,BH194,BH195,BH196,BH197,BH198,BH199,BH200,BH201,BH202,BH203) | I10: =CONCATENATE(BJ4,BJ5,BJ6,BJ7,BJ8,BJ9,BJ10,BJ12,BJ13,BJ15,BJ16,BJ17,BJ18,BJ19,BJ20,BJ21,BJ22,BJ23,BJ24,BJ25,BJ26,BJ27,BJ28,BJ29,BJ30,BJ31,BJ32,BJ33,BJ34,BJ35,BJ36,BJ37,BJ38,BJ39,BJ40,BJ41,BJ42,BJ43,BJ44,BJ45,BJ46,BJ47,BJ48,BJ49,BJ50,BJ51,BJ52,BJ53,BJ54,BJ55,BJ56,BJ57,BJ58,BJ59,BJ60,BJ61,BJ62,BJ63,BJ64,BJ65,BJ66,BJ67,BJ68,BJ69,BJ70,BJ71,BJ72,BJ73,BJ74,BJ75,BJ76,BJ77,BJ78,BJ79,BJ80,BJ81,BJ82,BJ83,BJ84,BJ85,BJ86,BJ87,BJ88,BJ89,BJ90,BJ91,BJ92,BJ93,BJ94,BJ95,BJ96,BJ97,BJ98,BJ99,BJ100,BJ101,BJ102,BJ103,BJ104,BJ105,BJ106,BJ107,BJ108,BJ109,BJ110,BJ111,BJ112,BJ113,BJ114,BJ115,BJ116,BJ117,BJ118,BJ119,BJ120,BJ121,BJ122,BJ123,BJ124,BJ125,BJ126,BJ127,BJ128,BJ129,BJ130,BJ131,BJ132,BJ133,BJ134,BJ135,BJ136,BJ137,BJ138,BJ139,BJ140,BJ141,BJ142,BJ143,BJ144,BJ145,BJ146,BJ147,BJ148,BJ149,BJ150,BJ151,BJ152,BJ153,BJ154,BJ155,BJ156,BJ157,BJ158,BJ159,BJ160,BJ161,BJ162,BJ163,BJ164,BJ165,BJ166,BJ167,BJ168,BJ169,BJ170,BJ171,BJ172,BJ173,BJ174,BJ175,BJ176,BJ177,BJ178,BJ179,BJ180,BJ181,BJ182,BJ183,BJ184,BJ185,BJ186,BJ187,BJ188,BJ189,BJ190,BJ191,BJ192,BJ193,BJ194,BJ195,BJ196,BJ197,BJ198,BJ199,BJ200,BJ201,BJ202,BJ203) | N10: =IF(N12<>""," -R","") | P10: =IF(P12<>""," -R","") | R10: =IF(R12<>""," -R","") | T10: =IF(T12<>""," -R","") | V10: =IF(V12<>""," -R","") | X10: =IF(X12<>""," -R","") | Z10: =IF(Z12<>""," -R","") | AB10: =IF(AB12<>""," -R","") | AD10: =IF(AD12<>""," -R","") | AF10: =IF(AF12<>""," -R","") | AH10: =IF(AH12<>""," -R","") | AJ10: =IF(AJ12<>""," -R","") | AL10: =IF(AL12<>""," -R","") | AN10: =IF(AN12<>""," -R","") | AP10: =IF(AP12<>""," -R","") | AR10: =IF(AR12<>""," -R","") | AT10: =IF(AT12<>""," -R","") | AV10: =IF(AV12<>""," -R","") | AX10: =IF(AX12<>""," -R","") | AZ10: =IF(AZ12<>""," -R","") | BB10: =IF(BB12<>""," -R","") | BD10: =IF(BD12<>""," -R","") | BF10: =IF(BF12<>""," -R","") | BH10: =IF(BH12<>""," -R","") | BJ10: =IF(BJ12<>""," -R","")
B11: COLOR | C11: INTERPRETACIÓN DE LA ZONA | F11: CANTIDAD DE RIESGOS POR ZONA | G11: PROMEDIO DE RIESGO DEL PROCESO
C12: Zona de riesgo baja: Asumir el riesgo | F12: =COUNTIF('CRUCE RIESGOS'!$V$5:$V$104,"BAJO") -> 0 | G12: PROBABILIDAD | H12: IMPACTO | I12: VALORACIÓN | J12: NIVEL | M12: 1.04 | N12: =IFERROR(VLOOKUP(M12,'CRUCE RIESGOS'!$C$5:$D$104,2,FALSE),"") | O12: 2.04 | P12: =IFERROR(VLOOKUP(O12,'CRUCE RIESGOS'!$C$5:$D$104,2,FALSE),"") | Q12: 3.04 | R12: =IFERROR(VLOOKUP(Q12,'CRUCE RIESGOS'!$C$5:$D$104,2,FALSE),"") | S12: 4.04 | T12: =IFERROR(VLOOKUP(S12,'CRUCE RIESGOS'!$C$5:$D$104,2,FALSE),"") | U12: 5.04 | V12: =IFERROR(VLOOKUP(U12,'CRUCE RIESGOS'!$C$5:$D$104,2,FALSE),"") | W12: 6.04 | X12: =IFERROR(VLOOKUP(W12,'CRUCE RIESGOS'!$C$5:$D$104,2,FALSE),"") | Y12: 7.04 | Z12: =IFERROR(VLOOKUP(Y12,'CRUCE RIESGOS'!$C$5:$D$104,2,FALSE),"") | AA12: 8.04 | AB12: =IFERROR(VLOOKUP(AA12,'CRUCE RIESGOS'!$C$5:$D$104,2,FALSE),"") | AC12: 9.04 | AD12: =IFERROR(VLOOKUP(AC12,'CRUCE RIESGOS'!$C$5:$D$104,2,FALSE),"") | AE12: 10.04 | AF12: =IFERROR(VLOOKUP(AE12,'CRUCE RIESGOS'!$C$5:$D$104,2,FALSE),"") | AG12: 11.04 | AH12: =IFERROR(VLOOKUP(AG12,'CRUCE RIESGOS'!$C$5:$D$104,2,FALSE),"") | AI12: 12.04 | AJ12: =IFERROR(VLOOKUP(AI12,'CRUCE RIESGOS'!$C$5:$D$104,2,FALSE),"") | AK12: 13.04 | AL12: =IFERROR(VLOOKUP(AK12,'CRUCE RIESGOS'!$C$5:$D$104,2,FALSE),"") | AM12: 14.04 | AN12: =IFERROR(VLOOKUP(AM12,'CRUCE RIESGOS'!$C$5:$D$104,2,FALSE),"") | AO12: 15.04 | AP12: =IFERROR(VLOOKUP(AO12,'CRUCE RIESGOS'!$C$5:$D$104,2,FALSE),"") | AQ12: 16.04 | AR12: =IFERROR(VLOOKUP(AQ12,'CRUCE RIESGOS'!$C$5:$D$104,2,FALSE),"") | AS12: 17.04 | AT12: =IFERROR(VLOOKUP(AS12,'CRUCE RIESGOS'!$C$5:$D$104,2,FALSE),"") | AU12: 18.04 | AV12: =IFERROR(VLOOKUP(AU12,'CRUCE RIESGOS'!$C$5:$D$104,2,FALSE),"") | AW12: 19.04 | AX12: =IFERROR(VLOOKUP(AW12,'CRUCE RIESGOS'!$C$5:$D$104,2,FALSE),"") | AY12: 20.04 | AZ12: =IFERROR(VLOOKUP(AY12,'CRUCE RIESGOS'!$C$5:$D$104,2,FALSE),"") | BA12: 21.04 | BB12: =IFERROR(VLOOKUP(BA12,'CRUCE RIESGOS'!$C$5:$D$104,2,FALSE),"") | BC12: 22.04 | BD12: =IFERROR(VLOOKUP(BC12,'CRUCE RIESGOS'!$C$5:$D$104,2,FALSE),"") | BE12: 23.04 | BF12: =IFERROR(VLOOKUP(BE12,'CRUCE RIESGOS'!$C$5:$D$104,2,FALSE),"") | BG12: 24.04 | BH12: =IFERROR(VLOOKUP(BG12,'CRUCE RIESGOS'!$C$5:$D$104,2,FALSE),"") | BI12: 25.04 | BJ12: =IFERROR(VLOOKUP(BI12,'CRUCE RIESGOS'!$C$5:$D$104,2,FALSE),"")
C13: Zona de riesgo moderada: Asumir el riesgo, reducir el riesgo | F13: =COUNTIF('CRUCE RIESGOS'!$V$5:$V$104,"MODERADO") -> 0 | G13: =AVERAGE('CRUCE RIESGOS'!Q5:Q104) -> 2.25 | H13: =AVERAGE('CRUCE RIESGOS'!S5:S104) -> 4 | I13: =ROUND(G13,0)*ROUND(H13,0) -> 8 | J13: =IF(OR(I13="",I13=0),"",IF(AND(G13=1,H13=3),"MODERADO",IF(AND(G13=4,H13=1),"MODERADO",IF(AND(G13=1,H13=4),"ALTO",IF(AND(G13=1,H13=5),"ALTO",IF(I13<=4,"BAJO",IF(AND(G13=5,H13=1),"ALTO",IF(I13<=6,"MODERADO",IF(AND(G13=2,H13=5),"EXTREMO",IF(I13<=10,"ALTO",IF(AND(G13=4,H13=3),"ALTO","EXTREMO"))))))))))) -> ALTO | N13: =IF(N15<>""," -R","") | P13: =IF(P15<>""," -R","") | R13: =IF(R15<>""," -R","") | T13: =IF(T15<>""," -R","") | V13: =IF(V15<>""," -R","") | X13: =IF(X15<>""," -R","") | Z13: =IF(Z15<>""," -R","") | AB13: =IF(AB15<>""," -R","") | AD13: =IF(AD15<>""," -R","") | AF13: =IF(AF15<>""," -R","") | AH13: =IF(AH15<>""," -R","") | AJ13: =IF(AJ15<>""," -R","") | AL13: =IF(AL15<>""," -R","") | AN13: =IF(AN15<>""," -R","") | AP13: =IF(AP15<>""," -R","") | AR13: =IF(AR15<>""," -R","") | AT13: =IF(AT15<>""," -R","") | AV13: =IF(AV15<>""," -R","") | AX13: =IF(AX15<>""," -R","") | AZ13: =IF(AZ15<>""," -R","") | BB13: =IF(BB15<>""," -R","") | BD13: =IF(BD15<>""," -R","") | BF13: =IF(BF15<>""," -R","") | BH13: =IF(BH15<>""," -R","") | BJ13: =IF(BJ15<>""," -R","")
C14: Zona de riesgo alta: reducir el riesgo, evitar, compartir o transferir | F14: =COUNTIF('CRUCE RIESGOS'!$V$5:$V$104,"ALTO") -> 3
C15: Zona de riesgo extrema: Reducir el riesgo, Evitar, Compartir o Transferir | F15: =COUNTIF('CRUCE RIESGOS'!$V$5:$V$104,"EXTREMO") -> 1 | M15: 1.05 | N15: =IFERROR(VLOOKUP(M15,'CRUCE RIESGOS'!$C$5:$D$104,2,FALSE),"") | O15: 2.05 | P15: =IFERROR(VLOOKUP(O15,'CRUCE RIESGOS'!$C$5:$D$104,2,FALSE),"") | Q15: 3.05 | R15: =IFERROR(VLOOKUP(Q15,'CRUCE RIESGOS'!$C$5:$D$104,2,FALSE),"") | S15: 4.05 | T15: =IFERROR(VLOOKUP(S15,'CRUCE RIESGOS'!$C$5:$D$104,2,FALSE),"") | U15: 5.05 | V15: =IFERROR(VLOOKUP(U15,'CRUCE RIESGOS'!$C$5:$D$104,2,FALSE),"") | W15: 6.05 | X15: =IFERROR(VLOOKUP(W15,'CRUCE RIESGOS'!$C$5:$D$104,2,FALSE),"") | Y15: 7.05 | Z15: =IFERROR(VLOOKUP(Y15,'CRUCE RIESGOS'!$C$5:$D$104,2,FALSE),"") | AA15: 8.05 | AB15: =IFERROR(VLOOKUP(AA15,'CRUCE RIESGOS'!$C$5:$D$104,2,FALSE),"") | AC15: 9.05 | AD15: =IFERROR(VLOOKUP(AC15,'CRUCE RIESGOS'!$C$5:$D$104,2,FALSE),"") | AE15: 10.05 | AF15: =IFERROR(VLOOKUP(AE15,'CRUCE RIESGOS'!$C$5:$D$104,2,FALSE),"") | AG15: 11.05 | AH15: =IFERROR(VLOOKUP(AG15,'CRUCE RIESGOS'!$C$5:$D$104,2,FALSE),"") | AI15: 12.05 | AJ15: =IFERROR(VLOOKUP(AI15,'CRUCE RIESGOS'!$C$5:$D$104,2,FALSE),"") | AK15: 13.05 | AL15: =IFERROR(VLOOKUP(AK15,'CRUCE RIESGOS'!$C$5:$D$104,2,FALSE),"") | AM15: 14.05 | AN15: =IFERROR(VLOOKUP(AM15,'CRUCE RIESGOS'!$C$5:$D$104,2,FALSE),"") | AO15: 15.05 | AP15: =IFERROR(VLOOKUP(AO15,'CRUCE RIESGOS'!$C$5:$D$104,2,FALSE),"") | AQ15: 16.05 | AR15: =IFERROR(VLOOKUP(AQ15,'CRUCE RIESGOS'!$C$5:$D$104,2,FALSE),"") | AS15: 17.05 | AT15: =IFERROR(VLOOKUP(AS15,'CRUCE RIESGOS'!$C$5:$D$104,2,FALSE),"") | AU15: 18.05 | AV15: =IFERROR(VLOOKUP(AU15,'CRUCE RIESGOS'!$C$5:$D$104,2,FALSE),"") | AW15: 19.05 | AX15: =IFERROR(VLOOKUP(AW15,'CRUCE RIESGOS'!$C$5:$D$104,2,FALSE),"") | AY15: 20.05 | AZ15: =IFERROR(VLOOKUP(AY15,'CRUCE RIESGOS'!$C$5:$D$104,2,FALSE),"") | BA15: 21.05 | BB15: =IFERROR(VLOOKUP(BA15,'CRUCE RIESGOS'!$C$5:$D$104,2,FALSE),"") | BC15: 22.05 | BD15: =IFERROR(VLOOKUP(BC15,'CRUCE RIESGOS'!$C$5:$D$104,2,FALSE),"") | BE15: 23.05 | BF15: =IFERROR(VLOOKUP(BE15,'CRUCE RIESGOS'!$C$5:$D$104,2,FALSE),"") | BG15: 24.05 | BH15: =IFERROR(VLOOKUP(BG15,'CRUCE RIESGOS'!$C$5:$D$104,2,FALSE),"") | BI15: 25.05 | BJ15: =IFERROR(VLOOKUP(BI15,'CRUCE RIESGOS'!$C$5:$D$104,2,FALSE),"")
N16: =IF(N17<>""," -R","") | P16: =IF(P17<>""," -R","") | R16: =IF(R17<>""," -R","") | T16: =IF(T17<>""," -R","") | V16: =IF(V17<>""," -R","") | X16: =IF(X17<>""," -R","") | Z16: =IF(Z17<>""," -R","") | AB16: =IF(AB17<>""," -R","") | AD16: =IF(AD17<>""," -R","") | AF16: =IF(AF17<>""," -R","") | AH16: =IF(AH17<>""," -R","") | AJ16: =IF(AJ17<>""," -R","") | AL16: =IF(AL17<>""," -R","") | AN16: =IF(AN17<>""," -R","") | AP16: =IF(AP17<>""," -R","") | AR16: =IF(AR17<>""," -R","") | AT16: =IF(AT17<>""," -R","") | AV16: =IF(AV17<>""," -R","") | AX16: =IF(AX17<>""," -R","") | AZ16: =IF(AZ17<>""," -R","") | BB16: =IF(BB17<>""," -R","") | BD16: =IF(BD17<>""," -R","") | BF16: =IF(BF17<>""," -R","") | BH16: =IF(BH17<>""," -R","") | BJ16: =IF(BJ17<>""," -R","")
M17: 1.06 | N17: =IFERROR(VLOOKUP(M17,'CRUCE RIESGOS'!$C$5:$D$104,2,FALSE),"") | O17: 2.06 | P17: =IFERROR(VLOOKUP(O17,'CRUCE RIESGOS'!$C$5:$D$104,2,FALSE),"") | Q17: 3.06 | R17: =IFERROR(VLOOKUP(Q17,'CRUCE RIESGOS'!$C$5:$D$104,2,FALSE),"") | S17: 4.06 | T17: =IFERROR(VLOOKUP(S17,'CRUCE RIESGOS'!$C$5:$D$104,2,FALSE),"") | U17: 5.06 | V17: =IFERROR(VLOOKUP(U17,'CRUCE RIESGOS'!$C$5:$D$104,2,FALSE),"") | W17: 6.06 | X17: =IFERROR(VLOOKUP(W17,'CRUCE RIESGOS'!$C$5:$D$104,2,FALSE),"") | Y17: 7.06 | Z17: =IFERROR(VLOOKUP(Y17,'CRUCE RIESGOS'!$C$5:$D$104,2,FALSE),"") | AA17: 8.06 | AB17: =IFERROR(VLOOKUP(AA17,'CRUCE RIESGOS'!$C$5:$D$104,2,FALSE),"") | AC17: 9.06 | AD17: =IFERROR(VLOOKUP(AC17,'CRUCE RIESGOS'!$C$5:$D$104,2,FALSE),"") | AE17: 10.06 | AF17: =IFERROR(VLOOKUP(AE17,'CRUCE RIESGOS'!$C$5:$D$104,2,FALSE),"") | AG17: 11.06 | AH17: =IFERROR(VLOOKUP(AG17,'CRUCE RIESGOS'!$C$5:$D$104,2,FALSE),"") | AI17: 12.06 | AJ17: =IFERROR(VLOOKUP(AI17,'CRUCE RIESGOS'!$C$5:$D$104,2,FALSE),"") | AK17: 13.06 | AL17: =IFERROR(VLOOKUP(AK17,'CRUCE RIESGOS'!$C$5:$D$104,2,FALSE),"") | AM17: 14.06 | AN17: =IFERROR(VLOOKUP(AM17,'CRUCE RIESGOS'!$C$5:$D$104,2,FALSE),"") | AO17: 15.06 | AP17: =IFERROR(VLOOKUP(AO17,'CRUCE RIESGOS'!$C$5:$D$104,2,FALSE),"") | AQ17: 16.06 | AR17: =IFERROR(VLOOKUP(AQ17,'CRUCE RIESGOS'!$C$5:$D$104,2,FALSE),"") | AS17: 17.06 | AT17: =IFERROR(VLOOKUP(AS17,'CRUCE RIESGOS'!$C$5:$D$104,2,FALSE),"") | AU17: 18.06 | AV17: =IFERROR(VLOOKUP(AU17,'CRUCE RIESGOS'!$C$5:$D$104,2,FALSE),"") | AW17: 19.06 | AX17: =IFERROR(VLOOKUP(AW17,'CRUCE RIESGOS'!$C$5:$D$104,2,FALSE),"") | AY17: 20.06 | AZ17: =IFERROR(VLOOKUP(AY17,'CRUCE RIESGOS'!$C$5:$D$104,2,FALSE),"") | BA17: 21.06 | BB17: =IFERROR(VLOOKUP(BA17,'CRUCE RIESGOS'!$C$5:$D$104,2,FALSE),"") | BC17: 22.06 | BD17: =IFERROR(VLOOKUP(BC17,'CRUCE RIESGOS'!$C$5:$D$104,2,FALSE),"") | BE17: 23.06 | BF17: =IFERROR(VLOOKUP(BE17,'CRUCE RIESGOS'!$C$5:$D$104,2,FALSE),"") | BG17: 24.06 | BH17: =IFERROR(VLOOKUP(BG17,'CRUCE RIESGOS'!$C$5:$D$104,2,FALSE),"") | BI17: 25.06 | BJ17: =IFERROR(VLOOKUP(BI17,'CRUCE RIESGOS'!$C$5:$D$104,2,FALSE),"")
N18: =IF(N19<>""," -R","") | P18: =IF(P19<>""," -R","") | R18: =IF(R19<>""," -R","") | T18: =IF(T19<>""," -R","") | V18: =IF(V19<>""," -R","") | X18: =IF(X19<>""," -R","") | Z18: =IF(Z19<>""," -R","") | AB18: =IF(AB19<>""," -R","") | AD18: =IF(AD19<>""," -R","") | AF18: =IF(AF19<>""," -R","") | AH18: =IF(AH19<>""," -R","") | AJ18: =IF(AJ19<>""," -R","") | AL18: =IF(AL19<>""," -R","") | AN18: =IF(AN19<>""," -R","") | AP18: =IF(AP19<>""," -R","") | AR18: =IF(AR19<>""," -R","") | AT18: =IF(AT19<>""," -R","") | AV18: =IF(AV19<>""," -R","") | AX18: =IF(AX19<>""," -R","") | AZ18: =IF(AZ19<>""," -R","") | BB18: =IF(BB19<>""," -R","") | BD18: =IF(BD19<>""," -R","") | BF18: =IF(BF19<>""," -R","") | BH18: =IF(BH19<>""," -R","") | BJ18: =IF(BJ19<>""," -R","")
M19: 1.07 | N19: =IFERROR(VLOOKUP(M19,'CRUCE RIESGOS'!$C$5:$D$104,2,FALSE),"") | O19: 2.07 | P19: =IFERROR(VLOOKUP(O19,'CRUCE RIESGOS'!$C$5:$D$104,2,FALSE),"") | Q19: 3.07 | R19: =IFERROR(VLOOKUP(Q19,'CRUCE RIESGOS'!$C$5:$D$104,2,FALSE),"") | S19: 4.07 | T19: =IFERROR(VLOOKUP(S19,'CRUCE RIESGOS'!$C$5:$D$104,2,FALSE),"") | U19: 5.07 | V19: =IFERROR(VLOOKUP(U19,'CRUCE RIESGOS'!$C$5:$D$104,2,FALSE),"") | W19: 6.07 | X19: =IFERROR(VLOOKUP(W19,'CRUCE RIESGOS'!$C$5:$D$104,2,FALSE),"") | Y19: 7.07 | Z19: =IFERROR(VLOOKUP(Y19,'CRUCE RIESGOS'!$C$5:$D$104,2,FALSE),"") | AA19: 8.07 | AB19: =IFERROR(VLOOKUP(AA19,'CRUCE RIESGOS'!$C$5:$D$104,2,FALSE),"") | AC19: 9.07 | AD19: =IFERROR(VLOOKUP(AC19,'CRUCE RIESGOS'!$C$5:$D$104,2,FALSE),"") | AE19: 10.07 | AF19: =IFERROR(VLOOKUP(AE19,'CRUCE RIESGOS'!$C$5:$D$104,2,FALSE),"") | AG19: 11.07 | AH19: =IFERROR(VLOOKUP(AG19,'CRUCE RIESGOS'!$C$5:$D$104,2,FALSE),"") | AI19: 12.07 | AJ19: =IFERROR(VLOOKUP(AI19,'CRUCE RIESGOS'!$C$5:$D$104,2,FALSE),"") | AK19: 13.07 | AL19: =IFERROR(VLOOKUP(AK19,'CRUCE RIESGOS'!$C$5:$D$104,2,FALSE),"") | AM19: 14.07 | AN19: =IFERROR(VLOOKUP(AM19,'CRUCE RIESGOS'!$C$5:$D$104,2,FALSE),"") | AO19: 15.07 | AP19: =IFERROR(VLOOKUP(AO19,'CRUCE RIESGOS'!$C$5:$D$104,2,FALSE),"") | AQ19: 16.07 | AR19: =IFERROR(VLOOKUP(AQ19,'CRUCE RIESGOS'!$C$5:$D$104,2,FALSE),"") | AS19: 17.07 | AT19: =IFERROR(VLOOKUP(AS19,'CRUCE RIESGOS'!$C$5:$D$104,2,FALSE),"") | AU19: 18.07 | AV19: =IFERROR(VLOOKUP(AU19,'CRUCE RIESGOS'!$C$5:$D$104,2,FALSE),"") | AW19: 19.07 | AX19: =IFERROR(VLOOKUP(AW19,'CRUCE RIESGOS'!$C$5:$D$104,2,FALSE),"") | AY19: 20.07 | AZ19: =IFERROR(VLOOKUP(AY19,'CRUCE RIESGOS'!$C$5:$D$104,2,FALSE),"") | BA19: 21.07 | BB19: =IFERROR(VLOOKUP(BA19,'CRUCE RIESGOS'!$C$5:$D$104,2,FALSE),"") | BC19: 22.07 | BD19: =IFERROR(VLOOKUP(BC19,'CRUCE RIESGOS'!$C$5:$D$104,2,FALSE),"") | BE19: 23.07 | BF19: =IFERROR(VLOOKUP(BE19,'CRUCE RIESGOS'!$C$5:$D$104,2,FALSE),"") | BG19: 24.07 | BH19: =IFERROR(VLOOKUP(BG19,'CRUCE RIESGOS'!$C$5:$D$104,2,FALSE),"") | BI19: 25.07 | BJ19: =IFERROR(VLOOKUP(BI19,'CRUCE RIESGOS'!$C$5:$D$104,2,FALSE),"")
N20: =IF(N21<>""," -R","") | P20: =IF(P21<>""," -R","") | R20: =IF(R21<>""," -R","") | T20: =IF(T21<>""," -R","") | V20: =IF(V21<>""," -R","") | X20: =IF(X21<>""," -R","") | Z20: =IF(Z21<>""," -R","") | AB20: =IF(AB21<>""," -R","") | AD20: =IF(AD21<>""," -R","") | AF20: =IF(AF21<>""," -R","") | AH20: =IF(AH21<>""," -R","") | AJ20: =IF(AJ21<>""," -R","") | AL20: =IF(AL21<>""," -R","") | AN20: =IF(AN21<>""," -R","") | AP20: =IF(AP21<>""," -R","") | AR20: =IF(AR21<>""," -R","") | AT20: =IF(AT21<>""," -R","") | AV20: =IF(AV21<>""," -R","") | AX20: =IF(AX21<>""," -R","") | AZ20: =IF(AZ21<>""," -R","") | BB20: =IF(BB21<>""," -R","") | BD20: =IF(BD21<>""," -R","") | BF20: =IF(BF21<>""," -R","") | BH20: =IF(BH21<>""," -R","") | BJ20: =IF(BJ21<>""," -R","")
M21: 1.08 | N21: =IFERROR(VLOOKUP(M21,'CRUCE RIESGOS'!$C$5:$D$104,2,FALSE),"") | O21: 2.08 | P21: =IFERROR(VLOOKUP(O21,'CRUCE RIESGOS'!$C$5:$D$104,2,FALSE),"") | Q21: 3.08 | R21: =IFERROR(VLOOKUP(Q21,'CRUCE RIESGOS'!$C$5:$D$104,2,FALSE),"") | S21: 4.08 | T21: =IFERROR(VLOOKUP(S21,'CRUCE RIESGOS'!$C$5:$D$104,2,FALSE),"") | U21: 5.08 | V21: =IFERROR(VLOOKUP(U21,'CRUCE RIESGOS'!$C$5:$D$104,2,FALSE),"") | W21: 6.08 | X21: =IFERROR(VLOOKUP(W21,'CRUCE RIESGOS'!$C$5:$D$104,2,FALSE),"") | Y21: 7.08 | Z21: =IFERROR(VLOOKUP(Y21,'CRUCE RIESGOS'!$C$5:$D$104,2,FALSE),"") | AA21: 8.08 | AB21: =IFERROR(VLOOKUP(AA21,'CRUCE RIESGOS'!$C$5:$D$104,2,FALSE),"") | AC21: 9.08 | AD21: =IFERROR(VLOOKUP(AC21,'CRUCE RIESGOS'!$C$5:$D$104,2,FALSE),"") | AE21: 10.08 | AF21: =IFERROR(VLOOKUP(AE21,'CRUCE RIESGOS'!$C$5:$D$104,2,FALSE),"") | AG21: 11.08 | AH21: =IFERROR(VLOOKUP(AG21,'CRUCE RIESGOS'!$C$5:$D$104,2,FALSE),"") | AI21: 12.08 | AJ21: =IFERROR(VLOOKUP(AI21,'CRUCE RIESGOS'!$C$5:$D$104,2,FALSE),"") | AK21: 13.08 | AL21: =IFERROR(VLOOKUP(AK21,'CRUCE RIESGOS'!$C$5:$D$104,2,FALSE),"") | AM21: 14.08 | AN21: =IFERROR(VLOOKUP(AM21,'CRUCE RIESGOS'!$C$5:$D$104,2,FALSE),"") | AO21: 15.08 | AP21: =IFERROR(VLOOKUP(AO21,'CRUCE RIESGOS'!$C$5:$D$104,2,FALSE),"") | AQ21: 16.08 | AR21: =IFERROR(VLOOKUP(AQ21,'CRUCE RIESGOS'!$C$5:$D$104,2,FALSE),"") | AS21: 17.08 | AT21: =IFERROR(VLOOKUP(AS21,'CRUCE RIESGOS'!$C$5:$D$104,2,FALSE),"") | AU21: 18.08 | AV21: =IFERROR(VLOOKUP(AU21,'CRUCE RIESGOS'!$C$5:$D$104,2,FALSE),"") | AW21: 19.08 | AX21: =IFERROR(VLOOKUP(AW21,'CRUCE RIESGOS'!$C$5:$D$104,2,FALSE),"") | AY21: 20.08 | AZ21: =IFERROR(VLOOKUP(AY21,'CRUCE RIESGOS'!$C$5:$D$104,2,FALSE),"") | BA21: 21.08 | BB21: =IFERROR(VLOOKUP(BA21,'CRUCE RIESGOS'!$C$5:$D$104,2,FALSE),"") | BC21: 22.08 | BD21: =IFERROR(VLOOKUP(BC21,'CRUCE RIESGOS'!$C$5:$D$104,2,FALSE),"") | BE21: 23.08 | BF21: =IFERROR(VLOOKUP(BE21,'CRUCE RIESGOS'!$C$5:$D$104,2,FALSE),"") | BG21: 24.08 | BH21: =IFERROR(VLOOKUP(BG21,'CRUCE RIESGOS'!$C$5:$D$104,2,FALSE),"") | BI21: 25.08 | BJ21: =IFERROR(VLOOKUP(BI21,'CRUCE RIESGOS'!$C$5:$D$104,2,FALSE),"")
N22: =IF(N23<>""," -R","") | P22: =IF(P23<>""," -R","") | R22: =IF(R23<>""," -R","") | T22: =IF(T23<>""," -R","") | V22: =IF(V23<>""," -R","") | X22: =IF(X23<>""," -R","") | Z22: =IF(Z23<>""," -R","") | AB22: =IF(AB23<>""," -R","") | AD22: =IF(AD23<>""," -R","") | AF22: =IF(AF23<>""," -R","") | AH22: =IF(AH23<>""," -R","") | AJ22: =IF(AJ23<>""," -R","") | AL22: =IF(AL23<>""," -R","") | AN22: =IF(AN23<>""," -R","") | AP22: =IF(AP23<>""," -R","") | AR22: =IF(AR23<>""," -R","") | AT22: =IF(AT23<>""," -R","") | AV22: =IF(AV23<>""," -R","") | AX22: =IF(AX23<>""," -R","") | AZ22: =IF(AZ23<>""," -R","") | BB22: =IF(BB23<>""," -R","") | BD22: =IF(BD23<>""," -R","") | BF22: =IF(BF23<>""," -R","") | BH22: =IF(BH23<>""," -R","") | BJ22: =IF(BJ23<>""," -R","")
M23: 1.09 | N23: =IFERROR(VLOOKUP(M23,'CRUCE RIESGOS'!$C$5:$D$104,2,FALSE),"") | O23: 2.09 | P23: =IFERROR(VLOOKUP(O23,'CRUCE RIESGOS'!$C$5:$D$104,2,FALSE),"") | Q23: 3.09 | R23: =IFERROR(VLOOKUP(Q23,'CRUCE RIESGOS'!$C$5:$D$104,2,FALSE),"") | S23: 4.09 | T23: =IFERROR(VLOOKUP(S23,'CRUCE RIESGOS'!$C$5:$D$104,2,FALSE),"") | U23: 5.09 | V23: =IFERROR(VLOOKUP(U23,'CRUCE RIESGOS'!$C$5:$D$104,2,FALSE),"") | W23: 6.09 | X23: =IFERROR(VLOOKUP(W23,'CRUCE RIESGOS'!$C$5:$D$104,2,FALSE),"") | Y23: 7.09 | Z23: =IFERROR(VLOOKUP(Y23,'CRUCE RIESGOS'!$C$5:$D$104,2,FALSE),"") | AA23: 8.09 | AB23: =IFERROR(VLOOKUP(AA23,'CRUCE RIESGOS'!$C$5:$D$104,2,FALSE),"") | AC23: 9.09 | AD23: =IFERROR(VLOOKUP(AC23,'CRUCE RIESGOS'!$C$5:$D$104,2,FALSE),"") | AE23: 10.09 | AF23: =IFERROR(VLOOKUP(AE23,'CRUCE RIESGOS'!$C$5:$D$104,2,FALSE),"") | AG23: 11.09 | AH23: =IFERROR(VLOOKUP(AG23,'CRUCE RIESGOS'!$C$5:$D$104,2,FALSE),"") | AI23: 12.09 | AJ23: =IFERROR(VLOOKUP(AI23,'CRUCE RIESGOS'!$C$5:$D$104,2,FALSE),"") | AK23: 13.09 | AL23: =IFERROR(VLOOKUP(AK23,'CRUCE RIESGOS'!$C$5:$D$104,2,FALSE),"") | AM23: 14.09 | AN23: =IFERROR(VLOOKUP(AM23,'CRUCE RIESGOS'!$C$5:$D$104,2,FALSE),"") | AO23: 15.09 | AP23: =IFERROR(VLOOKUP(AO23,'CRUCE RIESGOS'!$C$5:$D$104,2,FALSE),"") | AQ23: 16.09 | AR23: =IFERROR(VLOOKUP(AQ23,'CRUCE RIESGOS'!$C$5:$D$104,2,FALSE),"") | AS23: 17.09 | AT23: =IFERROR(VLOOKUP(AS23,'CRUCE RIESGOS'!$C$5:$D$104,2,FALSE),"") | AU23: 18.09 | AV23: =IFERROR(VLOOKUP(AU23,'CRUCE RIESGOS'!$C$5:$D$104,2,FALSE),"") | AW23: 19.09 | AX23: =IFERROR(VLOOKUP(AW23,'CRUCE RIESGOS'!$C$5:$D$104,2,FALSE),"") | AY23: 20.09 | AZ23: =IFERROR(VLOOKUP(AY23,'CRUCE RIESGOS'!$C$5:$D$104,2,FALSE),"") | BA23: 21.09 | BB23: =IFERROR(VLOOKUP(BA23,'CRUCE RIESGOS'!$C$5:$D$104,2,FALSE),"") | BC23: 22.09 | BD23: =IFERROR(VLOOKUP(BC23,'CRUCE RIESGOS'!$C$5:$D$104,2,FALSE),"") | BE23: 23.09 | BF23: =IFERROR(VLOOKUP(BE23,'CRUCE RIESGOS'!$C$5:$D$104,2,FALSE),"") | BG23: 24.09 | BH23: =IFERROR(VLOOKUP(BG23,'CRUCE RIESGOS'!$C$5:$D$104,2,FALSE),"") | BI23: 25.09 | BJ23: =IFERROR(VLOOKUP(BI23,'CRUCE RIESGOS'!$C$5:$D$104,2,FALSE),"")
N24: =IF(N25<>""," -R","") | P24: =IF(P25<>""," -R","") | R24: =IF(R25<>""," -R","") | T24: =IF(T25<>""," -R","") | V24: =IF(V25<>""," -R","") | X24: =IF(X25<>""," -R","") | Z24: =IF(Z25<>""," -R","") | AB24: =IF(AB25<>""," -R","") | AD24: =IF(AD25<>""," -R","") | AF24: =IF(AF25<>""," -R","") | AH24: =IF(AH25<>""," -R","") | AJ24: =IF(AJ25<>""," -R","") | AL24: =IF(AL25<>""," -R","") | AN24: =IF(AN25<>""," -R","") | AP24: =IF(AP25<>""," -R","") | AR24: =IF(AR25<>""," -R","") | AT24: =IF(AT25<>""," -R","") | AV24: =IF(AV25<>""," -R","") | AX24: =IF(AX25<>""," -R","") | AZ24: =IF(AZ25<>""," -R","") | BB24: =IF(BB25<>""," -R","") | BD24: =IF(BD25<>""," -R","") | BF24: =IF(BF25<>""," -R","") | BH24: =IF(BH25<>""," -R","") | BJ24: =IF(BJ25<>""," -R","")
M25: 1.1 | N25: =IFERROR(VLOOKUP(M25,'CRUCE RIESGOS'!$C$5:$D$104,2,FALSE),"") | O25: 2.1 | P25: =IFERROR(VLOOKUP(O25,'CRUCE RIESGOS'!$C$5:$D$104,2,FALSE),"") | Q25: 3.1 | R25: =IFERROR(VLOOKUP(Q25,'CRUCE RIESGOS'!$C$5:$D$104,2,FALSE),"") | S25: 4.1 | T25: =IFERROR(VLOOKUP(S25,'CRUCE RIESGOS'!$C$5:$D$104,2,FALSE),"") | U25: 5.1 | V25: =IFERROR(VLOOKUP(U25,'CRUCE RIESGOS'!$C$5:$D$104,2,FALSE),"") | W25: 6.1 | X25: =IFERROR(VLOOKUP(W25,'CRUCE RIESGOS'!$C$5:$D$104,2,FALSE),"") | Y25: 7.1 | Z25: =IFERROR(VLOOKUP(Y25,'CRUCE RIESGOS'!$C$5:$D$104,2,FALSE),"") | AA25: 8.1 | AB25: =IFERROR(VLOOKUP(AA25,'CRUCE RIESGOS'!$C$5:$D$104,2,FALSE),"") | AC25: 9.1 | AD25: =IFERROR(VLOOKUP(AC25,'CRUCE RIESGOS'!$C$5:$D$104,2,FALSE),"") | AE25: 10.1 | AF25: =IFERROR(VLOOKUP(AE25,'CRUCE RIESGOS'!$C$5:$D$104,2,FALSE),"") | AG25: 11.1 | AH25: =IFERROR(VLOOKUP(AG25,'CRUCE RIESGOS'!$C$5:$D$104,2,FALSE),"") | AI25: 12.1 | AJ25: =IFERROR(VLOOKUP(AI25,'CRUCE RIESGOS'!$C$5:$D$104,2,FALSE),"") | AK25: 13.1 | AL25: =IFERROR(VLOOKUP(AK25,'CRUCE RIESGOS'!$C$5:$D$104,2,FALSE),"") | AM25: 14.1 | AN25: =IFERROR(VLOOKUP(AM25,'CRUCE RIESGOS'!$C$5:$D$104,2,FALSE),"") | AO25: 15.1 | AP25: =IFERROR(VLOOKUP(AO25,'CRUCE RIESGOS'!$C$5:$D$104,2,FALSE),"") | AQ25: 16.1 | AR25: =IFERROR(VLOOKUP(AQ25,'CRUCE RIESGOS'!$C$5:$D$104,2,FALSE),"") | AS25: 17.1 | AT25: =IFERROR(VLOOKUP(AS25,'CRUCE RIESGOS'!$C$5:$D$104,2,FALSE),"") | AU25: 18.1 | AV25: =IFERROR(VLOOKUP(AU25,'CRUCE RIESGOS'!$C$5:$D$104,2,FALSE),"") | AW25: 19.1 | AX25: =IFERROR(VLOOKUP(AW25,'CRUCE RIESGOS'!$C$5:$D$104,2,FALSE),"") | AY25: 20.1 | AZ25: =IFERROR(VLOOKUP(AY25,'CRUCE RIESGOS'!$C$5:$D$104,2,FALSE),"") | BA25: 21.1 | BB25: =IFERROR(VLOOKUP(BA25,'CRUCE RIESGOS'!$C$5:$D$104,2,FALSE),"") | BC25: 22.1 | BD25: =IFERROR(VLOOKUP(BC25,'CRUCE RIESGOS'!$C$5:$D$104,2,FALSE),"") | BE25: 23.1 | BF25: =IFERROR(VLOOKUP(BE25,'CRUCE RIESGOS'!$C$5:$D$104,2,FALSE),"") | BG25: 24.1 | BH25: =IFERROR(VLOOKUP(BG25,'CRUCE RIESGOS'!$C$5:$D$104,2,FALSE),"") | BI25: 25.1 | BJ25: =IFERROR(VLOOKUP(BI25,'CRUCE RIESGOS'!$C$5:$D$104,2,FALSE),"")
N26: =IF(N27<>""," -R","") | P26: =IF(P27<>""," -R","") | R26: =IF(R27<>""," -R","") | T26: =IF(T27<>""," -R","") | V26: =IF(V27<>""," -R","") | X26: =IF(X27<>""," -R","") | Z26: =IF(Z27<>""," -R","") | AB26: =IF(AB27<>""," -R","") | AD26: =IF(AD27<>""," -R","") | AF26: =IF(AF27<>""," -R","") | AH26: =IF(AH27<>""," -R","") | AJ26: =IF(AJ27<>""," -R","") | AL26: =IF(AL27<>""," -R","") | AN26: =IF(AN27<>""," -R","") | AP26: =IF(AP27<>""," -R","") | AR26: =IF(AR27<>""," -R","") | AT26: =IF(AT27<>""," -R","") | AV26: =IF(AV27<>""," -R","") | AX26: =IF(AX27<>""," -R","") | AZ26: =IF(AZ27<>""," -R","") | BB26: =IF(BB27<>""," -R","") | BD26: =IF(BD27<>""," -R","") | BF26: =IF(BF27<>""," -R","") | BH26: =IF(BH27<>""," -R","") | BJ26: =IF(BJ27<>""," -R","")
M27: 1.11 | N27: =IFERROR(VLOOKUP(M27,'CRUCE RIESGOS'!$C$5:$D$104,2,FALSE),"") | O27: 2.11 | P27: =IFERROR(VLOOKUP(O27,'CRUCE RIESGOS'!$C$5:$D$104,2,FALSE),"") | Q27: 3.11 | R27: =IFERROR(VLOOKUP(Q27,'CRUCE RIESGOS'!$C$5:$D$104,2,FALSE),"") | S27: 4.11 | T27: =IFERROR(VLOOKUP(S27,'CRUCE RIESGOS'!$C$5:$D$104,2,FALSE),"") | U27: 5.11 | V27: =IFERROR(VLOOKUP(U27,'CRUCE RIESGOS'!$C$5:$D$104,2,FALSE),"") | W27: 6.11 | X27: =IFERROR(VLOOKUP(W27,'CRUCE RIESGOS'!$C$5:$D$104,2,FALSE),"") | Y27: 7.11 | Z27: =IFERROR(VLOOKUP(Y27,'CRUCE RIESGOS'!$C$5:$D$104,2,FALSE),"") | AA27: 8.11 | AB27: =IFERROR(VLOOKUP(AA27,'CRUCE RIESGOS'!$C$5:$D$104,2,FALSE),"") | AC27: 9.11 | AD27: =IFERROR(VLOOKUP(AC27,'CRUCE RIESGOS'!$C$5:$D$104,2,FALSE),"") | AE27: 10.11 | AF27: =IFERROR(VLOOKUP(AE27,'CRUCE RIESGOS'!$C$5:$D$104,2,FALSE),"") | AG27: 11.11 | AH27: =IFERROR(VLOOKUP(AG27,'CRUCE RIESGOS'!$C$5:$D$104,2,FALSE),"") | AI27: 12.11 | AJ27: =IFERROR(VLOOKUP(AI27,'CRUCE RIESGOS'!$C$5:$D$104,2,FALSE),"") | AK27: 13.11 | AL27: =IFERROR(VLOOKUP(AK27,'CRUCE RIESGOS'!$C$5:$D$104,2,FALSE),"") | AM27: 14.11 | AN27: =IFERROR(VLOOKUP(AM27,'CRUCE RIESGOS'!$C$5:$D$104,2,FALSE),"") | AO27: 15.11 | AP27: =IFERROR(VLOOKUP(AO27,'CRUCE RIESGOS'!$C$5:$D$104,2,FALSE),"") | AQ27: 16.11 | AR27: =IFERROR(VLOOKUP(AQ27,'CRUCE RIESGOS'!$C$5:$D$104,2,FALSE),"") | AS27: 17.11 | AT27: =IFERROR(VLOOKUP(AS27,'CRUCE RIESGOS'!$C$5:$D$104,2,FALSE),"") | AU27: 18.11 | AV27: =IFERROR(VLOOKUP(AU27,'CRUCE RIESGOS'!$C$5:$D$104,2,FALSE),"") | AW27: 19.11 | AX27: =IFERROR(VLOOKUP(AW27,'CRUCE RIESGOS'!$C$5:$D$104,2,FALSE),"") | AY27: 20.11 | AZ27: =IFERROR(VLOOKUP(AY27,'CRUCE RIESGOS'!$C$5:$D$104,2,FALSE),"") | BA27: 21.11 | BB27: =IFERROR(VLOOKUP(BA27,'CRUCE RIESGOS'!$C$5:$D$104,2,FALSE),"") | BC27: 22.11 | BD27: =IFERROR(VLOOKUP(BC27,'CRUCE RIESGOS'!$C$5:$D$104,2,FALSE),"") | BE27: 23.11 | BF27: =IFERROR(VLOOKUP(BE27,'CRUCE RIESGOS'!$C$5:$D$104,2,FALSE),"") | BG27: 24.11 | BH27: =IFERROR(VLOOKUP(BG27,'CRUCE RIESGOS'!$C$5:$D$104,2,FALSE),"") | BI27: 25.11 | BJ27: =IFERROR(VLOOKUP(BI27,'CRUCE RIESGOS'!$C$5:$D$104,2,FALSE),"")
N28: =IF(N29<>""," -R","") | P28: =IF(P29<>""," -R","") | R28: =IF(R29<>""," -R","") | T28: =IF(T29<>""," -R","") | V28: =IF(V29<>""," -R","") | X28: =IF(X29<>""," -R","") | Z28: =IF(Z29<>""," -R","") | AB28: =IF(AB29<>""," -R","") | AD28: =IF(AD29<>""," -R","") | AF28: =IF(AF29<>""," -R","") | AH28: =IF(AH29<>""," -R","") | AJ28: =IF(AJ29<>""," -R","") | AL28: =IF(AL29<>""," -R","") | AN28: =IF(AN29<>""," -R","") | AP28: =IF(AP29<>""," -R","") | AR28: =IF(AR29<>""," -R","") | AT28: =IF(AT29<>""," -R","") | AV28: =IF(AV29<>""," -R","") | AX28: =IF(AX29<>""," -R","") | AZ28: =IF(AZ29<>""," -R","") | BB28: =IF(BB29<>""," -R","") | BD28: =IF(BD29<>""," -R","") | BF28: =IF(BF29<>""," -R","") | BH28: =IF(BH29<>""," -R","") | BJ28: =IF(BJ29<>""," -R","")
M29: 1.12 | N29: =IFERROR(VLOOKUP(M29,'CRUCE RIESGOS'!$C$5:$D$104,2,FALSE),"") | O29: 2.12 | P29: =IFERROR(VLOOKUP(O29,'CRUCE RIESGOS'!$C$5:$D$104,2,FALSE),"") | Q29: 3.12 | R29: =IFERROR(VLOOKUP(Q29,'CRUCE RIESGOS'!$C$5:$D$104,2,FALSE),"") | S29: 4.12 | T29: =IFERROR(VLOOKUP(S29,'CRUCE RIESGOS'!$C$5:$D$104,2,FALSE),"") | U29: 5.12 | V29: =IFERROR(VLOOKUP(U29,'CRUCE RIESGOS'!$C$5:$D$104,2,FALSE),"") | W29: 6.12 | X29: =IFERROR(VLOOKUP(W29,'CRUCE RIESGOS'!$C$5:$D$104,2,FALSE),"") | Y29: 7.12 | Z29: =IFERROR(VLOOKUP(Y29,'CRUCE RIESGOS'!$C$5:$D$104,2,FALSE),"") | AA29: 8.12 | AB29: =IFERROR(VLOOKUP(AA29,'CRUCE RIESGOS'!$C$5:$D$104,2,FALSE),"") | AC29: 9.12 | AD29: =IFERROR(VLOOKUP(AC29,'CRUCE RIESGOS'!$C$5:$D$104,2,FALSE),"") | AE29: 10.12 | AF29: =IFERROR(VLOOKUP(AE29,'CRUCE RIESGOS'!$C$5:$D$104,2,FALSE),"") | AG29: 11.12 | AH29: =IFERROR(VLOOKUP(AG29,'CRUCE RIESGOS'!$C$5:$D$104,2,FALSE),"") | AI29: 12.12 | AJ29: =IFERROR(VLOOKUP(AI29,'CRUCE RIESGOS'!$C$5:$D$104,2,FALSE),"") | AK29: 13.12 | AL29: =IFERROR(VLOOKUP(AK29,'CRUCE RIESGOS'!$C$5:$D$104,2,FALSE),"") | AM29: 14.12 | AN29: =IFERROR(VLOOKUP(AM29,'CRUCE RIESGOS'!$C$5:$D$104,2,FALSE),"") | AO29: 15.12 | AP29: =IFERROR(VLOOKUP(AO29,'CRUCE RIESGOS'!$C$5:$D$104,2,FALSE),"") | AQ29: 16.12 | AR29: =IFERROR(VLOOKUP(AQ29,'CRUCE RIESGOS'!$C$5:$D$104,2,FALSE),"") | AS29: 17.12 | AT29: =IFERROR(VLOOKUP(AS29,'CRUCE RIESGOS'!$C$5:$D$104,2,FALSE),"") | AU29: 18.12 | AV29: =IFERROR(VLOOKUP(AU29,'CRUCE RIESGOS'!$C$5:$D$104,2,FALSE),"") | AW29: 19.12 | AX29: =IFERROR(VLOOKUP(AW29,'CRUCE RIESGOS'!$C$5:$D$104,2,FALSE),"") | AY29: 20.12 | AZ29: =IFERROR(VLOOKUP(AY29,'CRUCE RIESGOS'!$C$5:$D$104,2,FALSE),"") | BA29: 21.12 | BB29: =IFERROR(VLOOKUP(BA29,'CRUCE RIESGOS'!$C$5:$D$104,2,FALSE),"") | BC29: 22.12 | BD29: =IFERROR(VLOOKUP(BC29,'CRUCE RIESGOS'!$C$5:$D$104,2,FALSE),"") | BE29: 23.12 | BF29: =IFERROR(VLOOKUP(BE29,'CRUCE RIESGOS'!$C$5:$D$104,2,FALSE),"") | BG29: 24.12 | BH29: =IFERROR(VLOOKUP(BG29,'CRUCE RIESGOS'!$C$5:$D$104,2,FALSE),"") | BI29: 25.12 | BJ29: =IFERROR(VLOOKUP(BI29,'CRUCE RIESGOS'!$C$5:$D$104,2,FALSE),"")
N30: =IF(N31<>""," -R","") | P30: =IF(P31<>""," -R","") | R30: =IF(R31<>""," -R","") | T30: =IF(T31<>""," -R","") | V30: =IF(V31<>""," -R","") | X30: =IF(X31<>""," -R","") | Z30: =IF(Z31<>""," -R","") | AB30: =IF(AB31<>""," -R","") | AD30: =IF(AD31<>""," -R","") | AF30: =IF(AF31<>""," -R","") | AH30: =IF(AH31<>""," -R","") | AJ30: =IF(AJ31<>""," -R","") | AL30: =IF(AL31<>""," -R","") | AN30: =IF(AN31<>""," -R","") | AP30: =IF(AP31<>""," -R","") | AR30: =IF(AR31<>""," -R","") | AT30: =IF(AT31<>""," -R","") | AV30: =IF(AV31<>""," -R","") | AX30: =IF(AX31<>""," -R","") | AZ30: =IF(AZ31<>""," -R","") | BB30: =IF(BB31<>""," -R","") | BD30: =IF(BD31<>""," -R","") | BF30: =IF(BF31<>""," -R","") | BH30: =IF(BH31<>""," -R","") | BJ30: =IF(BJ31<>""," -R","")
M31: 1.13 | N31: =IFERROR(VLOOKUP(M31,'CRUCE RIESGOS'!$C$5:$D$104,2,FALSE),"") | O31: 2.13 | P31: =IFERROR(VLOOKUP(O31,'CRUCE RIESGOS'!$C$5:$D$104,2,FALSE),"") | Q31: 3.13 | R31: =IFERROR(VLOOKUP(Q31,'CRUCE RIESGOS'!$C$5:$D$104,2,FALSE),"") | S31: 4.13 | T31: =IFERROR(VLOOKUP(S31,'CRUCE RIESGOS'!$C$5:$D$104,2,FALSE),"") | U31: 5.13 | V31: =IFERROR(VLOOKUP(U31,'CRUCE RIESGOS'!$C$5:$D$104,2,FALSE),"") | W31: 6.13 | X31: =IFERROR(VLOOKUP(W31,'CRUCE RIESGOS'!$C$5:$D$104,2,FALSE),"") | Y31: 7.13 | Z31: =IFERROR(VLOOKUP(Y31,'CRUCE RIESGOS'!$C$5:$D$104,2,FALSE),"") | AA31: 8.13 | AB31: =IFERROR(VLOOKUP(AA31,'CRUCE RIESGOS'!$C$5:$D$104,2,FALSE),"") | AC31: 9.13 | AD31: =IFERROR(VLOOKUP(AC31,'CRUCE RIESGOS'!$C$5:$D$104,2,FALSE),"") | AE31: 10.13 | AF31: =IFERROR(VLOOKUP(AE31,'CRUCE RIESGOS'!$C$5:$D$104,2,FALSE),"") | AG31: 11.13 | AH31: =IFERROR(VLOOKUP(AG31,'CRUCE RIESGOS'!$C$5:$D$104,2,FALSE),"") | AI31: 12.13 | AJ31: =IFERROR(VLOOKUP(AI31,'CRUCE RIESGOS'!$C$5:$D$104,2,FALSE),"") | AK31: 13.13 | AL31: =IFERROR(VLOOKUP(AK31,'CRUCE RIESGOS'!$C$5:$D$104,2,FALSE),"") | AM31: 14.13 | AN31: =IFERROR(VLOOKUP(AM31,'CRUCE RIESGOS'!$C$5:$D$104,2,FALSE),"") | AO31: 15.13 | AP31: =IFERROR(VLOOKUP(AO31,'CRUCE RIESGOS'!$C$5:$D$104,2,FALSE),"") | AQ31: 16.13 | AR31: =IFERROR(VLOOKUP(AQ31,'CRUCE RIESGOS'!$C$5:$D$104,2,FALSE),"") | AS31: 17.13 | AT31: =IFERROR(VLOOKUP(AS31,'CRUCE RIESGOS'!$C$5:$D$104,2,FALSE),"") | AU31: 18.13 | AV31: =IFERROR(VLOOKUP(AU31,'CRUCE RIESGOS'!$C$5:$D$104,2,FALSE),"") | AW31: 19.13 | AX31: =IFERROR(VLOOKUP(AW31,'CRUCE RIESGOS'!$C$5:$D$104,2,FALSE),"") | AY31: 20.13 | AZ31: =IFERROR(VLOOKUP(AY31,'CRUCE RIESGOS'!$C$5:$D$104,2,FALSE),"") | BA31: 21.13 | BB31: =IFERROR(VLOOKUP(BA31,'CRUCE RIESGOS'!$C$5:$D$104,2,FALSE),"") | BC31: 22.13 | BD31: =IFERROR(VLOOKUP(BC31,'CRUCE RIESGOS'!$C$5:$D$104,2,FALSE),"") | BE31: 23.13 | BF31: =IFERROR(VLOOKUP(BE31,'CRUCE RIESGOS'!$C$5:$D$104,2,FALSE),"") | BG31: 24.13 | BH31: =IFERROR(VLOOKUP(BG31,'CRUCE RIESGOS'!$C$5:$D$104,2,FALSE),"") | BI31: 25.13 | BJ31: =IFERROR(VLOOKUP(BI31,'CRUCE RIESGOS'!$C$5:$D$104,2,FALSE),"")
N32: =IF(N33<>""," -R","") | P32: =IF(P33<>""," -R","") | R32: =IF(R33<>""," -R","") | T32: =IF(T33<>""," -R","") | V32: =IF(V33<>""," -R","") | X32: =IF(X33<>""," -R","") | Z32: =IF(Z33<>""," -R","") | AB32: =IF(AB33<>""," -R","") | AD32: =IF(AD33<>""," -R","") | AF32: =IF(AF33<>""," -R","") | AH32: =IF(AH33<>""," -R","") | AJ32: =IF(AJ33<>""," -R","") | AL32: =IF(AL33<>""," -R","") | AN32: =IF(AN33<>""," -R","") | AP32: =IF(AP33<>""," -R","") | AR32: =IF(AR33<>""," -R","") | AT32: =IF(AT33<>""," -R","") | AV32: =IF(AV33<>""," -R","") | AX32: =IF(AX33<>""," -R","") | AZ32: =IF(AZ33<>""," -R","") | BB32: =IF(BB33<>""," -R","") | BD32: =IF(BD33<>""," -R","") | BF32: =IF(BF33<>""," -R","") | BH32: =IF(BH33<>""," -R","") | BJ32: =IF(BJ33<>""," -R","")
M33: 1.14 | N33: =IFERROR(VLOOKUP(M33,'CRUCE RIESGOS'!$C$5:$D$104,2,FALSE),"") | O33: 2.14 | P33: =IFERROR(VLOOKUP(O33,'CRUCE RIESGOS'!$C$5:$D$104,2,FALSE),"") | Q33: 3.14 | R33: =IFERROR(VLOOKUP(Q33,'CRUCE RIESGOS'!$C$5:$D$104,2,FALSE),"") | S33: 4.14 | T33: =IFERROR(VLOOKUP(S33,'CRUCE RIESGOS'!$C$5:$D$104,2,FALSE),"") | U33: 5.14 | V33: =IFERROR(VLOOKUP(U33,'CRUCE RIESGOS'!$C$5:$D$104,2,FALSE),"") | W33: 6.14 | X33: =IFERROR(VLOOKUP(W33,'CRUCE RIESGOS'!$C$5:$D$104,2,FALSE),"") | Y33: 7.14 | Z33: =IFERROR(VLOOKUP(Y33,'CRUCE RIESGOS'!$C$5:$D$104,2,FALSE),"") | AA33: 8.14 | AB33: =IFERROR(VLOOKUP(AA33,'CRUCE RIESGOS'!$C$5:$D$104,2,FALSE),"") | AC33: 9.14 | AD33: =IFERROR(VLOOKUP(AC33,'CRUCE RIESGOS'!$C$5:$D$104,2,FALSE),"") | AE33: 10.14 | AF33: =IFERROR(VLOOKUP(AE33,'CRUCE RIESGOS'!$C$5:$D$104,2,FALSE),"") | AG33: 11.14 | AH33: =IFERROR(VLOOKUP(AG33,'CRUCE RIESGOS'!$C$5:$D$104,2,FALSE),"") | AI33: 12.14 | AJ33: =IFERROR(VLOOKUP(AI33,'CRUCE RIESGOS'!$C$5:$D$104,2,FALSE),"") | AK33: 13.14 | AL33: =IFERROR(VLOOKUP(AK33,'CRUCE RIESGOS'!$C$5:$D$104,2,FALSE),"") | AM33: 14.14 | AN33: =IFERROR(VLOOKUP(AM33,'CRUCE RIESGOS'!$C$5:$D$104,2,FALSE),"") | AO33: 15.14 | AP33: =IFERROR(VLOOKUP(AO33,'CRUCE RIESGOS'!$C$5:$D$104,2,FALSE),"") | AQ33: 16.14 | AR33: =IFERROR(VLOOKUP(AQ33,'CRUCE RIESGOS'!$C$5:$D$104,2,FALSE),"") | AS33: 17.14 | AT33: =IFERROR(VLOOKUP(AS33,'CRUCE RIESGOS'!$C$5:$D$104,2,FALSE),"") | AU33: 18.14 | AV33: =IFERROR(VLOOKUP(AU33,'CRUCE RIESGOS'!$C$5:$D$104,2,FALSE),"") | AW33: 19.14 | AX33: =IFERROR(VLOOKUP(AW33,'CRUCE RIESGOS'!$C$5:$D$104,2,FALSE),"") | AY33: 20.14 | AZ33: =IFERROR(VLOOKUP(AY33,'CRUCE RIESGOS'!$C$5:$D$104,2,FALSE),"") | BA33: 21.14 | BB33: =IFERROR(VLOOKUP(BA33,'CRUCE RIESGOS'!$C$5:$D$104,2,FALSE),"") | BC33: 22.14 | BD33: =IFERROR(VLOOKUP(BC33,'CRUCE RIESGOS'!$C$5:$D$104,2,FALSE),"") | BE33: 23.14 | BF33: =IFERROR(VLOOKUP(BE33,'CRUCE RIESGOS'!$C$5:$D$104,2,FALSE),"") | BG33: 24.14 | BH33: =IFERROR(VLOOKUP(BG33,'CRUCE RIESGOS'!$C$5:$D$104,2,FALSE),"") | BI33: 25.14 | BJ33: =IFERROR(VLOOKUP(BI33,'CRUCE RIESGOS'!$C$5:$D$104,2,FALSE),"")
N34: =IF(N35<>""," -R","") | P34: =IF(P35<>""," -R","") | R34: =IF(R35<>""," -R","") | T34: =IF(T35<>""," -R","") | V34: =IF(V35<>""," -R","") | X34: =IF(X35<>""," -R","") | Z34: =IF(Z35<>""," -R","") | AB34: =IF(AB35<>""," -R","") | AD34: =IF(AD35<>""," -R","") | AF34: =IF(AF35<>""," -R","") | AH34: =IF(AH35<>""," -R","") | AJ34: =IF(AJ35<>""," -R","") | AL34: =IF(AL35<>""," -R","") | AN34: =IF(AN35<>""," -R","") | AP34: =IF(AP35<>""," -R","") | AR34: =IF(AR35<>""," -R","") | AT34: =IF(AT35<>""," -R","") | AV34: =IF(AV35<>""," -R","") | AX34: =IF(AX35<>""," -R","") | AZ34: =IF(AZ35<>""," -R","") | BB34: =IF(BB35<>""," -R","") | BD34: =IF(BD35<>""," -R","") | BF34: =IF(BF35<>""," -R","") | BH34: =IF(BH35<>""," -R","") | BJ34: =IF(BJ35<>""," -R","")
M35: 1.15 | N35: =IFERROR(VLOOKUP(M35,'CRUCE RIESGOS'!$C$5:$D$104,2,FALSE),"") | O35: 2.15 | P35: =IFERROR(VLOOKUP(O35,'CRUCE RIESGOS'!$C$5:$D$104,2,FALSE),"") | Q35: 3.15 | R35: =IFERROR(VLOOKUP(Q35,'CRUCE RIESGOS'!$C$5:$D$104,2,FALSE),"") | S35: 4.15 | T35: =IFERROR(VLOOKUP(S35,'CRUCE RIESGOS'!$C$5:$D$104,2,FALSE),"") | U35: 5.15 | V35: =IFERROR(VLOOKUP(U35,'CRUCE RIESGOS'!$C$5:$D$104,2,FALSE),"") | W35: 6.15 | X35: =IFERROR(VLOOKUP(W35,'CRUCE RIESGOS'!$C$5:$D$104,2,FALSE),"") | Y35: 7.15 | Z35: =IFERROR(VLOOKUP(Y35,'CRUCE RIESGOS'!$C$5:$D$104,2,FALSE),"") | AA35: 8.15 | AB35: =IFERROR(VLOOKUP(AA35,'CRUCE RIESGOS'!$C$5:$D$104,2,FALSE),"") | AC35: 9.15 | AD35: =IFERROR(VLOOKUP(AC35,'CRUCE RIESGOS'!$C$5:$D$104,2,FALSE),"") | AE35: 10.15 | AF35: =IFERROR(VLOOKUP(AE35,'CRUCE RIESGOS'!$C$5:$D$104,2,FALSE),"") | AG35: 11.15 | AH35: =IFERROR(VLOOKUP(AG35,'CRUCE RIESGOS'!$C$5:$D$104,2,FALSE),"") | AI35: 12.15 | AJ35: =IFERROR(VLOOKUP(AI35,'CRUCE RIESGOS'!$C$5:$D$104,2,FALSE),"") | AK35: 13.15 | AL35: =IFERROR(VLOOKUP(AK35,'CRUCE RIESGOS'!$C$5:$D$104,2,FALSE),"") | AM35: 14.15 | AN35: =IFERROR(VLOOKUP(AM35,'CRUCE RIESGOS'!$C$5:$D$104,2,FALSE),"") | AO35: 15.15 | AP35: =IFERROR(VLOOKUP(AO35,'CRUCE RIESGOS'!$C$5:$D$104,2,FALSE),"") | AQ35: 16.15 | AR35: =IFERROR(VLOOKUP(AQ35,'CRUCE RIESGOS'!$C$5:$D$104,2,FALSE),"") | AS35: 17.15 | AT35: =IFERROR(VLOOKUP(AS35,'CRUCE RIESGOS'!$C$5:$D$104,2,FALSE),"") | AU35: 18.15 | AV35: =IFERROR(VLOOKUP(AU35,'CRUCE RIESGOS'!$C$5:$D$104,2,FALSE),"") | AW35: 19.15 | AX35: =IFERROR(VLOOKUP(AW35,'CRUCE RIESGOS'!$C$5:$D$104,2,FALSE),"") | AY35: 20.15 | AZ35: =IFERROR(VLOOKUP(AY35,'CRUCE RIESGOS'!$C$5:$D$104,2,FALSE),"") | BA35: 21.15 | BB35: =IFERROR(VLOOKUP(BA35,'CRUCE RIESGOS'!$C$5:$D$104,2,FALSE),"") | BC35: 22.15 | BD35: =IFERROR(VLOOKUP(BC35,'CRUCE RIESGOS'!$C$5:$D$104,2,FALSE),"") | BE35: 23.15 | BF35: =IFERROR(VLOOKUP(BE35,'CRUCE RIESGOS'!$C$5:$D$104,2,FALSE),"") | BG35: 24.15 | BH35: =IFERROR(VLOOKUP(BG35,'CRUCE RIESGOS'!$C$5:$D$104,2,FALSE),"") | BI35: 25.15 | BJ35: =IFERROR(VLOOKUP(BI35,'CRUCE RIESGOS'!$C$5:$D$104,2,FALSE),"")
N36: =IF(N37<>""," -R","") | P36: =IF(P37<>""," -R","") | R36: =IF(R37<>""," -R","") | T36: =IF(T37<>""," -R","") | V36: =IF(V37<>""," -R","") | X36: =IF(X37<>""," -R","") | Z36: =IF(Z37<>""," -R","") | AB36: =IF(AB37<>""," -R","") | AD36: =IF(AD37<>""," -R","") | AF36: =IF(AF37<>""," -R","") | AH36: =IF(AH37<>""," -R","") | AJ36: =IF(AJ37<>""," -R","") | AL36: =IF(AL37<>""," -R","") | AN36: =IF(AN37<>""," -R","") | AP36: =IF(AP37<>""," -R","") | AR36: =IF(AR37<>""," -R","") | AT36: =IF(AT37<>""," -R","") | AV36: =IF(AV37<>""," -R","") | AX36: =IF(AX37<>""," -R","") | AZ36: =IF(AZ37<>""," -R","") | BB36: =IF(BB37<>""," -R","") | BD36: =IF(BD37<>""," -R","") | BF36: =IF(BF37<>""," -R","") | BH36: =IF(BH37<>""," -R","") | BJ36: =IF(BJ37<>""," -R","")
M37: 1.16 | N37: =IFERROR(VLOOKUP(M37,'CRUCE RIESGOS'!$C$5:$D$104,2,FALSE),"") | O37: 2.16 | P37: =IFERROR(VLOOKUP(O37,'CRUCE RIESGOS'!$C$5:$D$104,2,FALSE),"") | Q37: 3.16 | R37: =IFERROR(VLOOKUP(Q37,'CRUCE RIESGOS'!$C$5:$D$104,2,FALSE),"") | S37: 4.16 | T37: =IFERROR(VLOOKUP(S37,'CRUCE RIESGOS'!$C$5:$D$104,2,FALSE),"") | U37: 5.16 | V37: =IFERROR(VLOOKUP(U37,'CRUCE RIESGOS'!$C$5:$D$104,2,FALSE),"") | W37: 6.16 | X37: =IFERROR(VLOOKUP(W37,'CRUCE RIESGOS'!$C$5:$D$104,2,FALSE),"") | Y37: 7.16 | Z37: =IFERROR(VLOOKUP(Y37,'CRUCE RIESGOS'!$C$5:$D$104,2,FALSE),"") | AA37: 8.16 | AB37: =IFERROR(VLOOKUP(AA37,'CRUCE RIESGOS'!$C$5:$D$104,2,FALSE),"") | AC37: 9.16 | AD37: =IFERROR(VLOOKUP(AC37,'CRUCE RIESGOS'!$C$5:$D$104,2,FALSE),"") | AE37: 10.16 | AF37: =IFERROR(VLOOKUP(AE37,'CRUCE RIESGOS'!$C$5:$D$104,2,FALSE),"") | AG37: 11.16 | AH37: =IFERROR(VLOOKUP(AG37,'CRUCE RIESGOS'!$C$5:$D$104,2,FALSE),"") | AI37: 12.16 | AJ37: =IFERROR(VLOOKUP(AI37,'CRUCE RIESGOS'!$C$5:$D$104,2,FALSE),"") | AK37: 13.16 | AL37: =IFERROR(VLOOKUP(AK37,'CRUCE RIESGOS'!$C$5:$D$104,2,FALSE),"") | AM37: 14.16 | AN37: =IFERROR(VLOOKUP(AM37,'CRUCE RIESGOS'!$C$5:$D$104,2,FALSE),"") | AO37: 15.16 | AP37: =IFERROR(VLOOKUP(AO37,'CRUCE RIESGOS'!$C$5:$D$104,2,FALSE),"") | AQ37: 16.16 | AR37: =IFERROR(VLOOKUP(AQ37,'CRUCE RIESGOS'!$C$5:$D$104,2,FALSE),"") | AS37: 17.16 | AT37: =IFERROR(VLOOKUP(AS37,'CRUCE RIESGOS'!$C$5:$D$104,2,FALSE),"") | AU37: 18.16 | AV37: =IFERROR(VLOOKUP(AU37,'CRUCE RIESGOS'!$C$5:$D$104,2,FALSE),"") | AW37: 19.16 | AX37: =IFERROR(VLOOKUP(AW37,'CRUCE RIESGOS'!$C$5:$D$104,2,FALSE),"") | AY37: 20.16 | AZ37: =IFERROR(VLOOKUP(AY37,'CRUCE RIESGOS'!$C$5:$D$104,2,FALSE),"") | BA37: 21.16 | BB37: =IFERROR(VLOOKUP(BA37,'CRUCE RIESGOS'!$C$5:$D$104,2,FALSE),"") | BC37: 22.16 | BD37: =IFERROR(VLOOKUP(BC37,'CRUCE RIESGOS'!$C$5:$D$104,2,FALSE),"") | BE37: 23.16 | BF37: =IFERROR(VLOOKUP(BE37,'CRUCE RIESGOS'!$C$5:$D$104,2,FALSE),"") | BG37: 24.16 | BH37: =IFERROR(VLOOKUP(BG37,'CRUCE RIESGOS'!$C$5:$D$104,2,FALSE),"") | BI37: 25.16 | BJ37: =IFERROR(VLOOKUP(BI37,'CRUCE RIESGOS'!$C$5:$D$104,2,FALSE),"")
N38: =IF(N39<>""," -R","") | P38: =IF(P39<>""," -R","") | R38: =IF(R39<>""," -R","") | T38: =IF(T39<>""," -R","") | V38: =IF(V39<>""," -R","") | X38: =IF(X39<>""," -R","") | Z38: =IF(Z39<>""," -R","") | AB38: =IF(AB39<>""," -R","") | AD38: =IF(AD39<>""," -R","") | AF38: =IF(AF39<>""," -R","") | AH38: =IF(AH39<>""," -R","") | AJ38: =IF(AJ39<>""," -R","") | AL38: =IF(AL39<>""," -R","") | AN38: =IF(AN39<>""," -R","") | AP38: =IF(AP39<>""," -R","") | AR38: =IF(AR39<>""," -R","") | AT38: =IF(AT39<>""," -R","") | AV38: =IF(AV39<>""," -R","") | AX38: =IF(AX39<>""," -R","") | AZ38: =IF(AZ39<>""," -R","") | BB38: =IF(BB39<>""," -R","") | BD38: =IF(BD39<>""," -R","") | BF38: =IF(BF39<>""," -R","") | BH38: =IF(BH39<>""," -R","") | BJ38: =IF(BJ39<>""," -R","")
M39: 1.17 | N39: =IFERROR(VLOOKUP(M39,'CRUCE RIESGOS'!$C$5:$D$104,2,FALSE),"") | O39: 2.17 | P39: =IFERROR(VLOOKUP(O39,'CRUCE RIESGOS'!$C$5:$D$104,2,FALSE),"") | Q39: 3.17 | R39: =IFERROR(VLOOKUP(Q39,'CRUCE RIESGOS'!$C$5:$D$104,2,FALSE),"") | S39: 4.17 | T39: =IFERROR(VLOOKUP(S39,'CRUCE RIESGOS'!$C$5:$D$104,2,FALSE),"") | U39: 5.17 | V39: =IFERROR(VLOOKUP(U39,'CRUCE RIESGOS'!$C$5:$D$104,2,FALSE),"") | W39: 6.17 | X39: =IFERROR(VLOOKUP(W39,'CRUCE RIESGOS'!$C$5:$D$104,2,FALSE),"") | Y39: 7.17 | Z39: =IFERROR(VLOOKUP(Y39,'CRUCE RIESGOS'!$C$5:$D$104,2,FALSE),"") | AA39: 8.17 | AB39: =IFERROR(VLOOKUP(AA39,'CRUCE RIESGOS'!$C$5:$D$104,2,FALSE),"") | AC39: 9.17 | AD39: =IFERROR(VLOOKUP(AC39,'CRUCE RIESGOS'!$C$5:$D$104,2,FALSE),"") | AE39: 10.17 | AF39: =IFERROR(VLOOKUP(AE39,'CRUCE RIESGOS'!$C$5:$D$104,2,FALSE),"") | AG39: 11.17 | AH39: =IFERROR(VLOOKUP(AG39,'CRUCE RIESGOS'!$C$5:$D$104,2,FALSE),"") | AI39: 12.17 | AJ39: =IFERROR(VLOOKUP(AI39,'CRUCE RIESGOS'!$C$5:$D$104,2,FALSE),"") | AK39: 13.17 | AL39: =IFERROR(VLOOKUP(AK39,'CRUCE RIESGOS'!$C$5:$D$104,2,FALSE),"") | AM39: 14.17 | AN39: =IFERROR(VLOOKUP(AM39,'CRUCE RIESGOS'!$C$5:$D$104,2,FALSE),"") | AO39: 15.17 | AP39: =IFERROR(VLOOKUP(AO39,'CRUCE RIESGOS'!$C$5:$D$104,2,FALSE),"") | AQ39: 16.17 | AR39: =IFERROR(VLOOKUP(AQ39,'CRUCE RIESGOS'!$C$5:$D$104,2,FALSE),"") | AS39: 17.17 | AT39: =IFERROR(VLOOKUP(AS39,'CRUCE RIESGOS'!$C$5:$D$104,2,FALSE),"") | AU39: 18.17 | AV39: =IFERROR(VLOOKUP(AU39,'CRUCE RIESGOS'!$C$5:$D$104,2,FALSE),"") | AW39: 19.17 | AX39: =IFERROR(VLOOKUP(AW39,'CRUCE RIESGOS'!$C$5:$D$104,2,FALSE),"") | AY39: 20.17 | AZ39: =IFERROR(VLOOKUP(AY39,'CRUCE RIESGOS'!$C$5:$D$104,2,FALSE),"") | BA39: 21.17 | BB39: =IFERROR(VLOOKUP(BA39,'CRUCE RIESGOS'!$C$5:$D$104,2,FALSE),"") | BC39: 22.17 | BD39: =IFERROR(VLOOKUP(BC39,'CRUCE RIESGOS'!$C$5:$D$104,2,FALSE),"") | BE39: 23.17 | BF39: =IFERROR(VLOOKUP(BE39,'CRUCE RIESGOS'!$C$5:$D$104,2,FALSE),"") | BG39: 24.17 | BH39: =IFERROR(VLOOKUP(BG39,'CRUCE RIESGOS'!$C$5:$D$104,2,FALSE),"") | BI39: 25.17 | BJ39: =IFERROR(VLOOKUP(BI39,'CRUCE RIESGOS'!$C$5:$D$104,2,FALSE),"")
N40: =IF(N41<>""," -R","") | P40: =IF(P41<>""," -R","") | R40: =IF(R41<>""," -R","") | T40: =IF(T41<>""," -R","") | V40: =IF(V41<>""," -R","") | X40: =IF(X41<>""," -R","") | Z40: =IF(Z41<>""," -R","") | AB40: =IF(AB41<>""," -R","") | AD40: =IF(AD41<>""," -R","") | AF40: =IF(AF41<>""," -R","") | AH40: =IF(AH41<>""," -R","") | AJ40: =IF(AJ41<>""," -R","") | AL40: =IF(AL41<>""," -R","") | AN40: =IF(AN41<>""," -R","") | AP40: =IF(AP41<>""," -R","") | AR40: =IF(AR41<>""," -R","") | AT40: =IF(AT41<>""," -R","") | AV40: =IF(AV41<>""," -R","") | AX40: =IF(AX41<>""," -R","") | AZ40: =IF(AZ41<>""," -R","") | BB40: =IF(BB41<>""," -R","") | BD40: =IF(BD41<>""," -R","") | BF40: =IF(BF41<>""," -R","") | BH40: =IF(BH41<>""," -R","") | BJ40: =IF(BJ41<>""," -R","")
M41: 1.18 | N41: =IFERROR(VLOOKUP(M41,'CRUCE RIESGOS'!$C$5:$D$104,2,FALSE),"") | O41: 2.18 | P41: =IFERROR(VLOOKUP(O41,'CRUCE RIESGOS'!$C$5:$D$104,2,FALSE),"") | Q41: 3.18 | R41: =IFERROR(VLOOKUP(Q41,'CRUCE RIESGOS'!$C$5:$D$104,2,FALSE),"") | S41: 4.18 | T41: =IFERROR(VLOOKUP(S41,'CRUCE RIESGOS'!$C$5:$D$104,2,FALSE),"") | U41: 5.18 | V41: =IFERROR(VLOOKUP(U41,'CRUCE RIESGOS'!$C$5:$D$104,2,FALSE),"") | W41: 6.18 | X41: =IFERROR(VLOOKUP(W41,'CRUCE RIESGOS'!$C$5:$D$104,2,FALSE),"") | Y41: 7.18 | Z41: =IFERROR(VLOOKUP(Y41,'CRUCE RIESGOS'!$C$5:$D$104,2,FALSE),"") | AA41: 8.18 | AB41: =IFERROR(VLOOKUP(AA41,'CRUCE RIESGOS'!$C$5:$D$104,2,FALSE),"") | AC41: 9.18 | AD41: =IFERROR(VLOOKUP(AC41,'CRUCE RIESGOS'!$C$5:$D$104,2,FALSE),"") | AE41: 10.18 | AF41: =IFERROR(VLOOKUP(AE41,'CRUCE RIESGOS'!$C$5:$D$104,2,FALSE),"") | AG41: 11.18 | AH41: =IFERROR(VLOOKUP(AG41,'CRUCE RIESGOS'!$C$5:$D$104,2,FALSE),"") | AI41: 12.18 | AJ41: =IFERROR(VLOOKUP(AI41,'CRUCE RIESGOS'!$C$5:$D$104,2,FALSE),"") | AK41: 13.18 | AL41: =IFERROR(VLOOKUP(AK41,'CRUCE RIESGOS'!$C$5:$D$104,2,FALSE),"") | AM41: 14.18 | AN41: =IFERROR(VLOOKUP(AM41,'CRUCE RIESGOS'!$C$5:$D$104,2,FALSE),"") | AO41: 15.18 | AP41: =IFERROR(VLOOKUP(AO41,'CRUCE RIESGOS'!$C$5:$D$104,2,FALSE),"") | AQ41: 16.18 | AR41: =IFERROR(VLOOKUP(AQ41,'CRUCE RIESGOS'!$C$5:$D$104,2,FALSE),"") | AS41: 17.18 | AT41: =IFERROR(VLOOKUP(AS41,'CRUCE RIESGOS'!$C$5:$D$104,2,FALSE),"") | AU41: 18.18 | AV41: =IFERROR(VLOOKUP(AU41,'CRUCE RIESGOS'!$C$5:$D$104,2,FALSE),"") | AW41: 19.18 | AX41: =IFERROR(VLOOKUP(AW41,'CRUCE RIESGOS'!$C$5:$D$104,2,FALSE),"") | AY41: 20.18 | AZ41: =IFERROR(VLOOKUP(AY41,'CRUCE RIESGOS'!$C$5:$D$104,2,FALSE),"") | BA41: 21.18 | BB41: =IFERROR(VLOOKUP(BA41,'CRUCE RIESGOS'!$C$5:$D$104,2,FALSE),"") | BC41: 22.18 | BD41: =IFERROR(VLOOKUP(BC41,'CRUCE RIESGOS'!$C$5:$D$104,2,FALSE),"") | BE41: 23.18 | BF41: =IFERROR(VLOOKUP(BE41,'CRUCE RIESGOS'!$C$5:$D$104,2,FALSE),"") | BG41: 24.18 | BH41: =IFERROR(VLOOKUP(BG41,'CRUCE RIESGOS'!$C$5:$D$104,2,FALSE),"") | BI41: 25.18 | BJ41: =IFERROR(VLOOKUP(BI41,'CRUCE RIESGOS'!$C$5:$D$104,2,FALSE),"")
N42: =IF(N43<>""," -R","") | P42: =IF(P43<>""," -R","") | R42: =IF(R43<>""," -R","") | T42: =IF(T43<>""," -R","") | V42: =IF(V43<>""," -R","") | X42: =IF(X43<>""," -R","") | Z42: =IF(Z43<>""," -R","") | AB42: =IF(AB43<>""," -R","") | AD42: =IF(AD43<>""," -R","") | AF42: =IF(AF43<>""," -R","") | AH42: =IF(AH43<>""," -R","") | AJ42: =IF(AJ43<>""," -R","") | AL42: =IF(AL43<>""," -R","") | AN42: =IF(AN43<>""," -R","") | AP42: =IF(AP43<>""," -R","") | AR42: =IF(AR43<>""," -R","") | AT42: =IF(AT43<>""," -R","") | AV42: =IF(AV43<>""," -R","") | AX42: =IF(AX43<>""," -R","") | AZ42: =IF(AZ43<>""," -R","") | BB42: =IF(BB43<>""," -R","") | BD42: =IF(BD43<>""," -R","") | BF42: =IF(BF43<>""," -R","") | BH42: =IF(BH43<>""," -R","") | BJ42: =IF(BJ43<>""," -R","")
M43: 1.19 | N43: =IFERROR(VLOOKUP(M43,'CRUCE RIESGOS'!$C$5:$D$104,2,FALSE),"") | O43: 2.19 | P43: =IFERROR(VLOOKUP(O43,'CRUCE RIESGOS'!$C$5:$D$104,2,FALSE),"") | Q43: 3.19 | R43: =IFERROR(VLOOKUP(Q43,'CRUCE RIESGOS'!$C$5:$D$104,2,FALSE),"") | S43: 4.19 | T43: =IFERROR(VLOOKUP(S43,'CRUCE RIESGOS'!$C$5:$D$104,2,FALSE),"") | U43: 5.19 | V43: =IFERROR(VLOOKUP(U43,'CRUCE RIESGOS'!$C$5:$D$104,2,FALSE),"") | W43: 6.19 | X43: =IFERROR(VLOOKUP(W43,'CRUCE RIESGOS'!$C$5:$D$104,2,FALSE),"") | Y43: 7.19 | Z43: =IFERROR(VLOOKUP(Y43,'CRUCE RIESGOS'!$C$5:$D$104,2,FALSE),"") | AA43: 8.19 | AB43: =IFERROR(VLOOKUP(AA43,'CRUCE RIESGOS'!$C$5:$D$104,2,FALSE),"") | AC43: 9.19 | AD43: =IFERROR(VLOOKUP(AC43,'CRUCE RIESGOS'!$C$5:$D$104,2,FALSE),"") | AE43: 10.19 | AF43: =IFERROR(VLOOKUP(AE43,'CRUCE RIESGOS'!$C$5:$D$104,2,FALSE),"") | AG43: 11.19 | AH43: =IFERROR(VLOOKUP(AG43,'CRUCE RIESGOS'!$C$5:$D$104,2,FALSE),"") | AI43: 12.19 | AJ43: =IFERROR(VLOOKUP(AI43,'CRUCE RIESGOS'!$C$5:$D$104,2,FALSE),"") | AK43: 13.19 | AL43: =IFERROR(VLOOKUP(AK43,'CRUCE RIESGOS'!$C$5:$D$104,2,FALSE),"") | AM43: 14.19 | AN43: =IFERROR(VLOOKUP(AM43,'CRUCE RIESGOS'!$C$5:$D$104,2,FALSE),"") | AO43: 15.19 | AP43: =IFERROR(VLOOKUP(AO43,'CRUCE RIESGOS'!$C$5:$D$104,2,FALSE),"") | AQ43: 16.19 | AR43: =IFERROR(VLOOKUP(AQ43,'CRUCE RIESGOS'!$C$5:$D$104,2,FALSE),"") | AS43: 17.19 | AT43: =IFERROR(VLOOKUP(AS43,'CRUCE RIESGOS'!$C$5:$D$104,2,FALSE),"") | AU43: 18.19 | AV43: =IFERROR(VLOOKUP(AU43,'CRUCE RIESGOS'!$C$5:$D$104,2,FALSE),"") | AW43: 19.19 | AX43: =IFERROR(VLOOKUP(AW43,'CRUCE RIESGOS'!$C$5:$D$104,2,FALSE),"") | AY43: 20.19 | AZ43: =IFERROR(VLOOKUP(AY43,'CRUCE RIESGOS'!$C$5:$D$104,2,FALSE),"") | BA43: 21.19 | BB43: =IFERROR(VLOOKUP(BA43,'CRUCE RIESGOS'!$C$5:$D$104,2,FALSE),"") | BC43: 22.19 | BD43: =IFERROR(VLOOKUP(BC43,'CRUCE RIESGOS'!$C$5:$D$104,2,FALSE),"") | BE43: 23.19 | BF43: =IFERROR(VLOOKUP(BE43,'CRUCE RIESGOS'!$C$5:$D$104,2,FALSE),"") | BG43: 24.19 | BH43: =IFERROR(VLOOKUP(BG43,'CRUCE RIESGOS'!$C$5:$D$104,2,FALSE),"") | BI43: 25.19 | BJ43: =IFERROR(VLOOKUP(BI43,'CRUCE RIESGOS'!$C$5:$D$104,2,FALSE),"")
N44: =IF(N45<>""," -R","") | P44: =IF(P45<>""," -R","") | R44: =IF(R45<>""," -R","") | T44: =IF(T45<>""," -R","") | V44: =IF(V45<>""," -R","") | X44: =IF(X45<>""," -R","") | Z44: =IF(Z45<>""," -R","") | AB44: =IF(AB45<>""," -R","") | AD44: =IF(AD45<>""," -R","") | AF44: =IF(AF45<>""," -R","") | AH44: =IF(AH45<>""," -R","") | AJ44: =IF(AJ45<>""," -R","") | AL44: =IF(AL45<>""," -R","") | AN44: =IF(AN45<>""," -R","") | AP44: =IF(AP45<>""," -R","") | AR44: =IF(AR45<>""," -R","") | AT44: =IF(AT45<>""," -R","") | AV44: =IF(AV45<>""," -R","") | AX44: =IF(AX45<>""," -R","") | AZ44: =IF(AZ45<>""," -R","") | BB44: =IF(BB45<>""," -R","") | BD44: =IF(BD45<>""," -R","") | BF44: =IF(BF45<>""," -R","") | BH44: =IF(BH45<>""," -R","") | BJ44: =IF(BJ45<>""," -R","")
M45: 1.2 | N45: =IFERROR(VLOOKUP(M45,'CRUCE RIESGOS'!$C$5:$D$104,2,FALSE),"") | O45: 2.2 | P45: =IFERROR(VLOOKUP(O45,'CRUCE RIESGOS'!$C$5:$D$104,2,FALSE),"") | Q45: 3.2 | R45: =IFERROR(VLOOKUP(Q45,'CRUCE RIESGOS'!$C$5:$D$104,2,FALSE),"") | S45: 4.2 | T45: =IFERROR(VLOOKUP(S45,'CRUCE RIESGOS'!$C$5:$D$104,2,FALSE),"") | U45: 5.2 | V45: =IFERROR(VLOOKUP(U45,'CRUCE RIESGOS'!$C$5:$D$104,2,FALSE),"") | W45: 6.2 | X45: =IFERROR(VLOOKUP(W45,'CRUCE RIESGOS'!$C$5:$D$104,2,FALSE),"") | Y45: 7.2 | Z45: =IFERROR(VLOOKUP(Y45,'CRUCE RIESGOS'!$C$5:$D$104,2,FALSE),"") | AA45: 8.2 | AB45: =IFERROR(VLOOKUP(AA45,'CRUCE RIESGOS'!$C$5:$D$104,2,FALSE),"") | AC45: 9.2 | AD45: =IFERROR(VLOOKUP(AC45,'CRUCE RIESGOS'!$C$5:$D$104,2,FALSE),"") | AE45: 10.2 | AF45: =IFERROR(VLOOKUP(AE45,'CRUCE RIESGOS'!$C$5:$D$104,2,FALSE),"") | AG45: 11.2 | AH45: =IFERROR(VLOOKUP(AG45,'CRUCE RIESGOS'!$C$5:$D$104,2,FALSE),"") | AI45: 12.2 | AJ45: =IFERROR(VLOOKUP(AI45,'CRUCE RIESGOS'!$C$5:$D$104,2,FALSE),"") | AK45: 13.2 | AL45: =IFERROR(VLOOKUP(AK45,'CRUCE RIESGOS'!$C$5:$D$104,2,FALSE),"") | AM45: 14.2 | AN45: =IFERROR(VLOOKUP(AM45,'CRUCE RIESGOS'!$C$5:$D$104,2,FALSE),"") | AO45: 15.2 | AP45: =IFERROR(VLOOKUP(AO45,'CRUCE RIESGOS'!$C$5:$D$104,2,FALSE),"") | AQ45: 16.2 | AR45: =IFERROR(VLOOKUP(AQ45,'CRUCE RIESGOS'!$C$5:$D$104,2,FALSE),"") | AS45: 17.2 | AT45: =IFERROR(VLOOKUP(AS45,'CRUCE RIESGOS'!$C$5:$D$104,2,FALSE),"") | AU45: 18.2 | AV45: =IFERROR(VLOOKUP(AU45,'CRUCE RIESGOS'!$C$5:$D$104,2,FALSE),"") | AW45: 19.2 | AX45: =IFERROR(VLOOKUP(AW45,'CRUCE RIESGOS'!$C$5:$D$104,2,FALSE),"") | AY45: 20.2 | AZ45: =IFERROR(VLOOKUP(AY45,'CRUCE RIESGOS'!$C$5:$D$104,2,FALSE),"") | BA45: 21.2 | BB45: =IFERROR(VLOOKUP(BA45,'CRUCE RIESGOS'!$C$5:$D$104,2,FALSE),"") | BC45: 22.2 | BD45: =IFERROR(VLOOKUP(BC45,'CRUCE RIESGOS'!$C$5:$D$104,2,FALSE),"") | BE45: 23.2 | BF45: =IFERROR(VLOOKUP(BE45,'CRUCE RIESGOS'!$C$5:$D$104,2,FALSE),"") | BG45: 24.2 | BH45: =IFERROR(VLOOKUP(BG45,'CRUCE RIESGOS'!$C$5:$D$104,2,FALSE),"") | BI45: 25.2 | BJ45: =IFERROR(VLOOKUP(BI45,'CRUCE RIESGOS'!$C$5:$D$104,2,FALSE),"")
N46: =IF(N47<>""," -R","") | P46: =IF(P47<>""," -R","") | R46: =IF(R47<>""," -R","") | T46: =IF(T47<>""," -R","") | V46: =IF(V47<>""," -R","") | X46: =IF(X47<>""," -R","") | Z46: =IF(Z47<>""," -R","") | AB46: =IF(AB47<>""," -R","") | AD46: =IF(AD47<>""," -R","") | AF46: =IF(AF47<>""," -R","") | AH46: =IF(AH47<>""," -R","") | AJ46: =IF(AJ47<>""," -R","") | AL46: =IF(AL47<>""," -R","") | AN46: =IF(AN47<>""," -R","") | AP46: =IF(AP47<>""," -R","") | AR46: =IF(AR47<>""," -R","") | AT46: =IF(AT47<>""," -R","") | AV46: =IF(AV47<>""," -R","") | AX46: =IF(AX47<>""," -R","") | AZ46: =IF(AZ47<>""," -R","") | BB46: =IF(BB47<>""," -R","") | BD46: =IF(BD47<>""," -R","") | BF46: =IF(BF47<>""," -R","") | BH46: =IF(BH47<>""," -R","") | BJ46: =IF(BJ47<>""," -R","")
M47: 1.21 | N47: =IFERROR(VLOOKUP(M47,'CRUCE RIESGOS'!$C$5:$D$104,2,FALSE),"") | O47: 2.21 | P47: =IFERROR(VLOOKUP(O47,'CRUCE RIESGOS'!$C$5:$D$104,2,FALSE),"") | Q47: 3.21 | R47: =IFERROR(VLOOKUP(Q47,'CRUCE RIESGOS'!$C$5:$D$104,2,FALSE),"") | S47: 4.21 | T47: =IFERROR(VLOOKUP(S47,'CRUCE RIESGOS'!$C$5:$D$104,2,FALSE),"") | U47: 5.21 | V47: =IFERROR(VLOOKUP(U47,'CRUCE RIESGOS'!$C$5:$D$104,2,FALSE),"") | W47: 6.21 | X47: =IFERROR(VLOOKUP(W47,'CRUCE RIESGOS'!$C$5:$D$104,2,FALSE),"") | Y47: 7.21 | Z47: =IFERROR(VLOOKUP(Y47,'CRUCE RIESGOS'!$C$5:$D$104,2,FALSE),"") | AA47: 8.21 | AB47: =IFERROR(VLOOKUP(AA47,'CRUCE RIESGOS'!$C$5:$D$104,2,FALSE),"") | AC47: 9.21 | AD47: =IFERROR(VLOOKUP(AC47,'CRUCE RIESGOS'!$C$5:$D$104,2,FALSE),"") | AE47: 10.21 | AF47: =IFERROR(VLOOKUP(AE47,'CRUCE RIESGOS'!$C$5:$D$104,2,FALSE),"") | AG47: 11.21 | AH47: =IFERROR(VLOOKUP(AG47,'CRUCE RIESGOS'!$C$5:$D$104,2,FALSE),"") | AI47: 12.21 | AJ47: =IFERROR(VLOOKUP(AI47,'CRUCE RIESGOS'!$C$5:$D$104,2,FALSE),"") | AK47: 13.21 | AL47: =IFERROR(VLOOKUP(AK47,'CRUCE RIESGOS'!$C$5:$D$104,2,FALSE),"") | AM47: 14.21 | AN47: =IFERROR(VLOOKUP(AM47,'CRUCE RIESGOS'!$C$5:$D$104,2,FALSE),"") | AO47: 15.21 | AP47: =IFERROR(VLOOKUP(AO47,'CRUCE RIESGOS'!$C$5:$D$104,2,FALSE),"") | AQ47: 16.21 | AR47: =IFERROR(VLOOKUP(AQ47,'CRUCE RIESGOS'!$C$5:$D$104,2,FALSE),"") | AS47: 17.21 | AT47: =IFERROR(VLOOKUP(AS47,'CRUCE RIESGOS'!$C$5:$D$104,2,FALSE),"") | AU47: 18.21 | AV47: =IFERROR(VLOOKUP(AU47,'CRUCE RIESGOS'!$C$5:$D$104,2,FALSE),"") | AW47: 19.21 | AX47: =IFERROR(VLOOKUP(AW47,'CRUCE RIESGOS'!$C$5:$D$104,2,FALSE),"") | AY47: 20.21 | AZ47: =IFERROR(VLOOKUP(AY47,'CRUCE RIESGOS'!$C$5:$D$104,2,FALSE),"") | BA47: 21.21 | BB47: =IFERROR(VLOOKUP(BA47,'CRUCE RIESGOS'!$C$5:$D$104,2,FALSE),"") | BC47: 22.21 | BD47: =IFERROR(VLOOKUP(BC47,'CRUCE RIESGOS'!$C$5:$D$104,2,FALSE),"") | BE47: 23.21 | BF47: =IFERROR(VLOOKUP(BE47,'CRUCE RIESGOS'!$C$5:$D$104,2,FALSE),"") | BG47: 24.21 | BH47: =IFERROR(VLOOKUP(BG47,'CRUCE RIESGOS'!$C$5:$D$104,2,FALSE),"") | BI47: 25.21 | BJ47: =IFERROR(VLOOKUP(BI47,'CRUCE RIESGOS'!$C$5:$D$104,2,FALSE),"")
N48: =IF(N49<>""," -R","") | P48: =IF(P49<>""," -R","") | R48: =IF(R49<>""," -R","") | T48: =IF(T49<>""," -R","") | V48: =IF(V49<>""," -R","") | X48: =IF(X49<>""," -R","") | Z48: =IF(Z49<>""," -R","") | AB48: =IF(AB49<>""," -R","") | AD48: =IF(AD49<>""," -R","") | AF48: =IF(AF49<>""," -R","") | AH48: =IF(AH49<>""," -R","") | AJ48: =IF(AJ49<>""," -R","") | AL48: =IF(AL49<>""," -R","") | AN48: =IF(AN49<>""," -R","") | AP48: =IF(AP49<>""," -R","") | AR48: =IF(AR49<>""," -R","") | AT48: =IF(AT49<>""," -R","") | AV48: =IF(AV49<>""," -R","") | AX48: =IF(AX49<>""," -R","") | AZ48: =IF(AZ49<>""," -R","") | BB48: =IF(BB49<>""," -R","") | BD48: =IF(BD49<>""," -R","") | BF48: =IF(BF49<>""," -R","") | BH48: =IF(BH49<>""," -R","") | BJ48: =IF(BJ49<>""," -R","")
M49: 1.22 | N49: =IFERROR(VLOOKUP(M49,'CRUCE RIESGOS'!$C$5:$D$104,2,FALSE),"") | O49: 2.22 | P49: =IFERROR(VLOOKUP(O49,'CRUCE RIESGOS'!$C$5:$D$104,2,FALSE),"") | Q49: 3.22 | R49: =IFERROR(VLOOKUP(Q49,'CRUCE RIESGOS'!$C$5:$D$104,2,FALSE),"") | S49: 4.22 | T49: =IFERROR(VLOOKUP(S49,'CRUCE RIESGOS'!$C$5:$D$104,2,FALSE),"") | U49: 5.22 | V49: =IFERROR(VLOOKUP(U49,'CRUCE RIESGOS'!$C$5:$D$104,2,FALSE),"") | W49: 6.22 | X49: =IFERROR(VLOOKUP(W49,'CRUCE RIESGOS'!$C$5:$D$104,2,FALSE),"") | Y49: 7.22 | Z49: =IFERROR(VLOOKUP(Y49,'CRUCE RIESGOS'!$C$5:$D$104,2,FALSE),"") | AA49: 8.22 | AB49: =IFERROR(VLOOKUP(AA49,'CRUCE RIESGOS'!$C$5:$D$104,2,FALSE),"") | AC49: 9.22 | AD49: =IFERROR(VLOOKUP(AC49,'CRUCE RIESGOS'!$C$5:$D$104,2,FALSE),"") | AE49: 10.22 | AF49: =IFERROR(VLOOKUP(AE49,'CRUCE RIESGOS'!$C$5:$D$104,2,FALSE),"") | AG49: 11.22 | AH49: =IFERROR(VLOOKUP(AG49,'CRUCE RIESGOS'!$C$5:$D$104,2,FALSE),"") | AI49: 12.22 | AJ49: =IFERROR(VLOOKUP(AI49,'CRUCE RIESGOS'!$C$5:$D$104,2,FALSE),"") | AK49: 13.22 | AL49: =IFERROR(VLOOKUP(AK49,'CRUCE RIESGOS'!$C$5:$D$104,2,FALSE),"") | AM49: 14.22 | AN49: =IFERROR(VLOOKUP(AM49,'CRUCE RIESGOS'!$C$5:$D$104,2,FALSE),"") | AO49: 15.22 | AP49: =IFERROR(VLOOKUP(AO49,'CRUCE RIESGOS'!$C$5:$D$104,2,FALSE),"") | AQ49: 16.22 | AR49: =IFERROR(VLOOKUP(AQ49,'CRUCE RIESGOS'!$C$5:$D$104,2,FALSE),"") | AS49: 17.22 | AT49: =IFERROR(VLOOKUP(AS49,'CRUCE RIESGOS'!$C$5:$D$104,2,FALSE),"") | AU49: 18.22 | AV49: =IFERROR(VLOOKUP(AU49,'CRUCE RIESGOS'!$C$5:$D$104,2,FALSE),"") | AW49: 19.22 | AX49: =IFERROR(VLOOKUP(AW49,'CRUCE RIESGOS'!$C$5:$D$104,2,FALSE),"") | AY49: 20.22 | AZ49: =IFERROR(VLOOKUP(AY49,'CRUCE RIESGOS'!$C$5:$D$104,2,FALSE),"") | BA49: 21.22 | BB49: =IFERROR(VLOOKUP(BA49,'CRUCE RIESGOS'!$C$5:$D$104,2,FALSE),"") | BC49: 22.22 | BD49: =IFERROR(VLOOKUP(BC49,'CRUCE RIESGOS'!$C$5:$D$104,2,FALSE),"") | BE49: 23.22 | BF49: =IFERROR(VLOOKUP(BE49,'CRUCE RIESGOS'!$C$5:$D$104,2,FALSE),"") | BG49: 24.22 | BH49: =IFERROR(VLOOKUP(BG49,'CRUCE RIESGOS'!$C$5:$D$104,2,FALSE),"") | BI49: 25.22 | BJ49: =IFERROR(VLOOKUP(BI49,'CRUCE RIESGOS'!$C$5:$D$104,2,FALSE),"")
N50: =IF(N51<>""," -R","") | P50: =IF(P51<>""," -R","") | R50: =IF(R51<>""," -R","") | T50: =IF(T51<>""," -R","") | V50: =IF(V51<>""," -R","") | X50: =IF(X51<>""," -R","") | Z50: =IF(Z51<>""," -R","") | AB50: =IF(AB51<>""," -R","") | AD50: =IF(AD51<>""," -R","") | AF50: =IF(AF51<>""," -R","") | AH50: =IF(AH51<>""," -R","") | AJ50: =IF(AJ51<>""," -R","") | AL50: =IF(AL51<>""," -R","") | AN50: =IF(AN51<>""," -R","") | AP50: =IF(AP51<>""," -R","") | AR50: =IF(AR51<>""," -R","") | AT50: =IF(AT51<>""," -R","") | AV50: =IF(AV51<>""," -R","") | AX50: =IF(AX51<>""," -R","") | AZ50: =IF(AZ51<>""," -R","") | BB50: =IF(BB51<>""," -R","") | BD50: =IF(BD51<>""," -R","") | BF50: =IF(BF51<>""," -R","") | BH50: =IF(BH51<>""," -R","") | BJ50: =IF(BJ51<>""," -R","")
M51: 1.23 | N51: =IFERROR(VLOOKUP(M51,'CRUCE RIESGOS'!$C$5:$D$104,2,FALSE),"") | O51: 2.23 | P51: =IFERROR(VLOOKUP(O51,'CRUCE RIESGOS'!$C$5:$D$104,2,FALSE),"") | Q51: 3.23 | R51: =IFERROR(VLOOKUP(Q51,'CRUCE RIESGOS'!$C$5:$D$104,2,FALSE),"") | S51: 4.23 | T51: =IFERROR(VLOOKUP(S51,'CRUCE RIESGOS'!$C$5:$D$104,2,FALSE),"") | U51: 5.23 | V51: =IFERROR(VLOOKUP(U51,'CRUCE RIESGOS'!$C$5:$D$104,2,FALSE),"") | W51: 6.23 | X51: =IFERROR(VLOOKUP(W51,'CRUCE RIESGOS'!$C$5:$D$104,2,FALSE),"") | Y51: 7.23 | Z51: =IFERROR(VLOOKUP(Y51,'CRUCE RIESGOS'!$C$5:$D$104,2,FALSE),"") | AA51: 8.23 | AB51: =IFERROR(VLOOKUP(AA51,'CRUCE RIESGOS'!$C$5:$D$104,2,FALSE),"") | AC51: 9.23 | AD51: =IFERROR(VLOOKUP(AC51,'CRUCE RIESGOS'!$C$5:$D$104,2,FALSE),"") | AE51: 10.23 | AF51: =IFERROR(VLOOKUP(AE51,'CRUCE RIESGOS'!$C$5:$D$104,2,FALSE),"") | AG51: 11.23 | AH51: =IFERROR(VLOOKUP(AG51,'CRUCE RIESGOS'!$C$5:$D$104,2,FALSE),"") | AI51: 12.23 | AJ51: =IFERROR(VLOOKUP(AI51,'CRUCE RIESGOS'!$C$5:$D$104,2,FALSE),"") | AK51: 13.23 | AL51: =IFERROR(VLOOKUP(AK51,'CRUCE RIESGOS'!$C$5:$D$104,2,FALSE),"") | AM51: 14.23 | AN51: =IFERROR(VLOOKUP(AM51,'CRUCE RIESGOS'!$C$5:$D$104,2,FALSE),"") | AO51: 15.23 | AP51: =IFERROR(VLOOKUP(AO51,'CRUCE RIESGOS'!$C$5:$D$104,2,FALSE),"") | AQ51: 16.23 | AR51: =IFERROR(VLOOKUP(AQ51,'CRUCE RIESGOS'!$C$5:$D$104,2,FALSE),"") | AS51: 17.23 | AT51: =IFERROR(VLOOKUP(AS51,'CRUCE RIESGOS'!$C$5:$D$104,2,FALSE),"") | AU51: 18.23 | AV51: =IFERROR(VLOOKUP(AU51,'CRUCE RIESGOS'!$C$5:$D$104,2,FALSE),"") | AW51: 19.23 | AX51: =IFERROR(VLOOKUP(AW51,'CRUCE RIESGOS'!$C$5:$D$104,2,FALSE),"") | AY51: 20.23 | AZ51: =IFERROR(VLOOKUP(AY51,'CRUCE RIESGOS'!$C$5:$D$104,2,FALSE),"") | BA51: 21.23 | BB51: =IFERROR(VLOOKUP(BA51,'CRUCE RIESGOS'!$C$5:$D$104,2,FALSE),"") | BC51: 22.23 | BD51: =IFERROR(VLOOKUP(BC51,'CRUCE RIESGOS'!$C$5:$D$104,2,FALSE),"") | BE51: 23.23 | BF51: =IFERROR(VLOOKUP(BE51,'CRUCE RIESGOS'!$C$5:$D$104,2,FALSE),"") | BG51: 24.23 | BH51: =IFERROR(VLOOKUP(BG51,'CRUCE RIESGOS'!$C$5:$D$104,2,FALSE),"") | BI51: 25.23 | BJ51: =IFERROR(VLOOKUP(BI51,'CRUCE RIESGOS'!$C$5:$D$104,2,FALSE),"")
N52: =IF(N53<>""," -R","") | P52: =IF(P53<>""," -R","") | R52: =IF(R53<>""," -R","") | T52: =IF(T53<>""," -R","") | V52: =IF(V53<>""," -R","") | X52: =IF(X53<>""," -R","") | Z52: =IF(Z53<>""," -R","") | AB52: =IF(AB53<>""," -R","") | AD52: =IF(AD53<>""," -R","") | AF52: =IF(AF53<>""," -R","") | AH52: =IF(AH53<>""," -R","") | AJ52: =IF(AJ53<>""," -R","") | AL52: =IF(AL53<>""," -R","") | AN52: =IF(AN53<>""," -R","") | AP52: =IF(AP53<>""," -R","") | AR52: =IF(AR53<>""," -R","") | AT52: =IF(AT53<>""," -R","") | AV52: =IF(AV53<>""," -R","") | AX52: =IF(AX53<>""," -R","") | AZ52: =IF(AZ53<>""," -R","") | BB52: =IF(BB53<>""," -R","") | BD52: =IF(BD53<>""," -R","") | BF52: =IF(BF53<>""," -R","") | BH52: =IF(BH53<>""," -R","") | BJ52: =IF(BJ53<>""," -R","")
M53: 1.24 | N53: =IFERROR(VLOOKUP(M53,'CRUCE RIESGOS'!$C$5:$D$104,2,FALSE),"") | O53: 2.24 | P53: =IFERROR(VLOOKUP(O53,'CRUCE RIESGOS'!$C$5:$D$104,2,FALSE),"") | Q53: 3.24 | R53: =IFERROR(VLOOKUP(Q53,'CRUCE RIESGOS'!$C$5:$D$104,2,FALSE),"") | S53: 4.24 | T53: =IFERROR(VLOOKUP(S53,'CRUCE RIESGOS'!$C$5:$D$104,2,FALSE),"") | U53: 5.24 | V53: =IFERROR(VLOOKUP(U53,'CRUCE RIESGOS'!$C$5:$D$104,2,FALSE),"") | W53: 6.24 | X53: =IFERROR(VLOOKUP(W53,'CRUCE RIESGOS'!$C$5:$D$104,2,FALSE),"") | Y53: 7.24 | Z53: =IFERROR(VLOOKUP(Y53,'CRUCE RIESGOS'!$C$5:$D$104,2,FALSE),"") | AA53: 8.24 | AB53: =IFERROR(VLOOKUP(AA53,'CRUCE RIESGOS'!$C$5:$D$104,2,FALSE),"") | AC53: 9.24 | AD53: =IFERROR(VLOOKUP(AC53,'CRUCE RIESGOS'!$C$5:$D$104,2,FALSE),"") | AE53: 10.24 | AF53: =IFERROR(VLOOKUP(AE53,'CRUCE RIESGOS'!$C$5:$D$104,2,FALSE),"") | AG53: 11.24 | AH53: =IFERROR(VLOOKUP(AG53,'CRUCE RIESGOS'!$C$5:$D$104,2,FALSE),"") | AI53: 12.24 | AJ53: =IFERROR(VLOOKUP(AI53,'CRUCE RIESGOS'!$C$5:$D$104,2,FALSE),"") | AK53: 13.24 | AL53: =IFERROR(VLOOKUP(AK53,'CRUCE RIESGOS'!$C$5:$D$104,2,FALSE),"") | AM53: 14.24 | AN53: =IFERROR(VLOOKUP(AM53,'CRUCE RIESGOS'!$C$5:$D$104,2,FALSE),"") | AO53: 15.24 | AP53: =IFERROR(VLOOKUP(AO53,'CRUCE RIESGOS'!$C$5:$D$104,2,FALSE),"") | AQ53: 16.24 | AR53: =IFERROR(VLOOKUP(AQ53,'CRUCE RIESGOS'!$C$5:$D$104,2,FALSE),"") | AS53: 17.24 | AT53: =IFERROR(VLOOKUP(AS53,'CRUCE RIESGOS'!$C$5:$D$104,2,FALSE),"") | AU53: 18.24 | AV53: =IFERROR(VLOOKUP(AU53,'CRUCE RIESGOS'!$C$5:$D$104,2,FALSE),"") | AW53: 19.24 | AX53: =IFERROR(VLOOKUP(AW53,'CRUCE RIESGOS'!$C$5:$D$104,2,FALSE),"") | AY53: 20.24 | AZ53: =IFERROR(VLOOKUP(AY53,'CRUCE RIESGOS'!$C$5:$D$104,2,FALSE),"") | BA53: 21.24 | BB53: =IFERROR(VLOOKUP(BA53,'CRUCE RIESGOS'!$C$5:$D$104,2,FALSE),"") | BC53: 22.24 | BD53: =IFERROR(VLOOKUP(BC53,'CRUCE RIESGOS'!$C$5:$D$104,2,FALSE),"") | BE53: 23.24 | BF53: =IFERROR(VLOOKUP(BE53,'CRUCE RIESGOS'!$C$5:$D$104,2,FALSE),"") | BG53: 24.24 | BH53: =IFERROR(VLOOKUP(BG53,'CRUCE RIESGOS'!$C$5:$D$104,2,FALSE),"") | BI53: 25.24 | BJ53: =IFERROR(VLOOKUP(BI53,'CRUCE RIESGOS'!$C$5:$D$104,2,FALSE),"")
N54: =IF(N55<>""," -R","") | P54: =IF(P55<>""," -R","") | R54: =IF(R55<>""," -R","") | T54: =IF(T55<>""," -R","") | V54: =IF(V55<>""," -R","") | X54: =IF(X55<>""," -R","") | Z54: =IF(Z55<>""," -R","") | AB54: =IF(AB55<>""," -R","") | AD54: =IF(AD55<>""," -R","") | AF54: =IF(AF55<>""," -R","") | AH54: =IF(AH55<>""," -R","") | AJ54: =IF(AJ55<>""," -R","") | AL54: =IF(AL55<>""," -R","") | AN54: =IF(AN55<>""," -R","") | AP54: =IF(AP55<>""," -R","") | AR54: =IF(AR55<>""," -R","") | AT54: =IF(AT55<>""," -R","") | AV54: =IF(AV55<>""," -R","") | AX54: =IF(AX55<>""," -R","") | AZ54: =IF(AZ55<>""," -R","") | BB54: =IF(BB55<>""," -R","") | BD54: =IF(BD55<>""," -R","") | BF54: =IF(BF55<>""," -R","") | BH54: =IF(BH55<>""," -R","") | BJ54: =IF(BJ55<>""," -R","")
M55: 1.25 | N55: =IFERROR(VLOOKUP(M55,'CRUCE RIESGOS'!$C$5:$D$104,2,FALSE),"") | O55: 2.25 | P55: =IFERROR(VLOOKUP(O55,'CRUCE RIESGOS'!$C$5:$D$104,2,FALSE),"") | Q55: 3.25 | R55: =IFERROR(VLOOKUP(Q55,'CRUCE RIESGOS'!$C$5:$D$104,2,FALSE),"") | S55: 4.25 | T55: =IFERROR(VLOOKUP(S55,'CRUCE RIESGOS'!$C$5:$D$104,2,FALSE),"") | U55: 5.25 | V55: =IFERROR(VLOOKUP(U55,'CRUCE RIESGOS'!$C$5:$D$104,2,FALSE),"") | W55: 6.25 | X55: =IFERROR(VLOOKUP(W55,'CRUCE RIESGOS'!$C$5:$D$104,2,FALSE),"") | Y55: 7.25 | Z55: =IFERROR(VLOOKUP(Y55,'CRUCE RIESGOS'!$C$5:$D$104,2,FALSE),"") | AA55: 8.25 | AB55: =IFERROR(VLOOKUP(AA55,'CRUCE RIESGOS'!$C$5:$D$104,2,FALSE),"") | AC55: 9.25 | AD55: =IFERROR(VLOOKUP(AC55,'CRUCE RIESGOS'!$C$5:$D$104,2,FALSE),"") | AE55: 10.25 | AF55: =IFERROR(VLOOKUP(AE55,'CRUCE RIESGOS'!$C$5:$D$104,2,FALSE),"") | AG55: 11.25 | AH55: =IFERROR(VLOOKUP(AG55,'CRUCE RIESGOS'!$C$5:$D$104,2,FALSE),"") | AI55: 12.25 | AJ55: =IFERROR(VLOOKUP(AI55,'CRUCE RIESGOS'!$C$5:$D$104,2,FALSE),"") | AK55: 13.25 | AL55: =IFERROR(VLOOKUP(AK55,'CRUCE RIESGOS'!$C$5:$D$104,2,FALSE),"") | AM55: 14.25 | AN55: =IFERROR(VLOOKUP(AM55,'CRUCE RIESGOS'!$C$5:$D$104,2,FALSE),"") | AO55: 15.25 | AP55: =IFERROR(VLOOKUP(AO55,'CRUCE RIESGOS'!$C$5:$D$104,2,FALSE),"") | AQ55: 16.25 | AR55: =IFERROR(VLOOKUP(AQ55,'CRUCE RIESGOS'!$C$5:$D$104,2,FALSE),"") | AS55: 17.25 | AT55: =IFERROR(VLOOKUP(AS55,'CRUCE RIESGOS'!$C$5:$D$104,2,FALSE),"") | AU55: 18.25 | AV55: =IFERROR(VLOOKUP(AU55,'CRUCE RIESGOS'!$C$5:$D$104,2,FALSE),"") | AW55: 19.25 | AX55: =IFERROR(VLOOKUP(AW55,'CRUCE RIESGOS'!$C$5:$D$104,2,FALSE),"") | AY55: 20.25 | AZ55: =IFERROR(VLOOKUP(AY55,'CRUCE RIESGOS'!$C$5:$D$104,2,FALSE),"") | BA55: 21.25 | BB55: =IFERROR(VLOOKUP(BA55,'CRUCE RIESGOS'!$C$5:$D$104,2,FALSE),"") | BC55: 22.25 | BD55: =IFERROR(VLOOKUP(BC55,'CRUCE RIESGOS'!$C$5:$D$104,2,FALSE),"") | BE55: 23.25 | BF55: =IFERROR(VLOOKUP(BE55,'CRUCE RIESGOS'!$C$5:$D$104,2,FALSE),"") | BG55: 24.25 | BH55: =IFERROR(VLOOKUP(BG55,'CRUCE RIESGOS'!$C$5:$D$104,2,FALSE),"") | BI55: 25.25 | BJ55: =IFERROR(VLOOKUP(BI55,'CRUCE RIESGOS'!$C$5:$D$104,2,FALSE),"")
N56: =IF(N57<>""," -R","") | P56: =IF(P57<>""," -R","") | R56: =IF(R57<>""," -R","") | T56: =IF(T57<>""," -R","") | V56: =IF(V57<>""," -R","") | X56: =IF(X57<>""," -R","") | Z56: =IF(Z57<>""," -R","") | AB56: =IF(AB57<>""," -R","") | AD56: =IF(AD57<>""," -R","") | AF56: =IF(AF57<>""," -R","") | AH56: =IF(AH57<>""," -R","") | AJ56: =IF(AJ57<>""," -R","") | AL56: =IF(AL57<>""," -R","") | AN56: =IF(AN57<>""," -R","") | AP56: =IF(AP57<>""," -R","") | AR56: =IF(AR57<>""," -R","") | AT56: =IF(AT57<>""," -R","") | AV56: =IF(AV57<>""," -R","") | AX56: =IF(AX57<>""," -R","") | AZ56: =IF(AZ57<>""," -R","") | BB56: =IF(BB57<>""," -R","") | BD56: =IF(BD57<>""," -R","") | BF56: =IF(BF57<>""," -R","") | BH56: =IF(BH57<>""," -R","") | BJ56: =IF(BJ57<>""," -R","")
M57: 1.26 | N57: =IFERROR(VLOOKUP(M57,'CRUCE RIESGOS'!$C$5:$D$104,2,FALSE),"") | O57: 2.26 | P57: =IFERROR(VLOOKUP(O57,'CRUCE RIESGOS'!$C$5:$D$104,2,FALSE),"") | Q57: 3.26 | R57: =IFERROR(VLOOKUP(Q57,'CRUCE RIESGOS'!$C$5:$D$104,2,FALSE),"") | S57: 4.26 | T57: =IFERROR(VLOOKUP(S57,'CRUCE RIESGOS'!$C$5:$D$104,2,FALSE),"") | U57: 5.26 | V57: =IFERROR(VLOOKUP(U57,'CRUCE RIESGOS'!$C$5:$D$104,2,FALSE),"") | W57: 6.26 | X57: =IFERROR(VLOOKUP(W57,'CRUCE RIESGOS'!$C$5:$D$104,2,FALSE),"") | Y57: 7.26 | Z57: =IFERROR(VLOOKUP(Y57,'CRUCE RIESGOS'!$C$5:$D$104,2,FALSE),"") | AA57: 8.26 | AB57: =IFERROR(VLOOKUP(AA57,'CRUCE RIESGOS'!$C$5:$D$104,2,FALSE),"") | AC57: 9.26 | AD57: =IFERROR(VLOOKUP(AC57,'CRUCE RIESGOS'!$C$5:$D$104,2,FALSE),"") | AE57: 10.26 | AF57: =IFERROR(VLOOKUP(AE57,'CRUCE RIESGOS'!$C$5:$D$104,2,FALSE),"") | AG57: 11.26 | AH57: =IFERROR(VLOOKUP(AG57,'CRUCE RIESGOS'!$C$5:$D$104,2,FALSE),"") | AI57: 12.26 | AJ57: =IFERROR(VLOOKUP(AI57,'CRUCE RIESGOS'!$C$5:$D$104,2,FALSE),"") | AK57: 13.26 | AL57: =IFERROR(VLOOKUP(AK57,'CRUCE RIESGOS'!$C$5:$D$104,2,FALSE),"") | AM57: 14.26 | AN57: =IFERROR(VLOOKUP(AM57,'CRUCE RIESGOS'!$C$5:$D$104,2,FALSE),"") | AO57: 15.26 | AP57: =IFERROR(VLOOKUP(AO57,'CRUCE RIESGOS'!$C$5:$D$104,2,FALSE),"") | AQ57: 16.26 | AR57: =IFERROR(VLOOKUP(AQ57,'CRUCE RIESGOS'!$C$5:$D$104,2,FALSE),"") | AS57: 17.26 | AT57: =IFERROR(VLOOKUP(AS57,'CRUCE RIESGOS'!$C$5:$D$104,2,FALSE),"") | AU57: 18.26 | AV57: =IFERROR(VLOOKUP(AU57,'CRUCE RIESGOS'!$C$5:$D$104,2,FALSE),"") | AW57: 19.26 | AX57: =IFERROR(VLOOKUP(AW57,'CRUCE RIESGOS'!$C$5:$D$104,2,FALSE),"") | AY57: 20.26 | AZ57: =IFERROR(VLOOKUP(AY57,'CRUCE RIESGOS'!$C$5:$D$104,2,FALSE),"") | BA57: 21.26 | BB57: =IFERROR(VLOOKUP(BA57,'CRUCE RIESGOS'!$C$5:$D$104,2,FALSE),"") | BC57: 22.26 | BD57: =IFERROR(VLOOKUP(BC57,'CRUCE RIESGOS'!$C$5:$D$104,2,FALSE),"") | BE57: 23.26 | BF57: =IFERROR(VLOOKUP(BE57,'CRUCE RIESGOS'!$C$5:$D$104,2,FALSE),"") | BG57: 24.26 | BH57: =IFERROR(VLOOKUP(BG57,'CRUCE RIESGOS'!$C$5:$D$104,2,FALSE),"") | BI57: 25.26 | BJ57: =IFERROR(VLOOKUP(BI57,'CRUCE RIESGOS'!$C$5:$D$104,2,FALSE),"")
N58: =IF(N59<>""," -R","") | P58: =IF(P59<>""," -R","") | R58: =IF(R59<>""," -R","") | T58: =IF(T59<>""," -R","") | V58: =IF(V59<>""," -R","") | X58: =IF(X59<>""," -R","") | Z58: =IF(Z59<>""," -R","") | AB58: =IF(AB59<>""," -R","") | AD58: =IF(AD59<>""," -R","") | AF58: =IF(AF59<>""," -R","") | AH58: =IF(AH59<>""," -R","") | AJ58: =IF(AJ59<>""," -R","") | AL58: =IF(AL59<>""," -R","") | AN58: =IF(AN59<>""," -R","") | AP58: =IF(AP59<>""," -R","") | AR58: =IF(AR59<>""," -R","") | AT58: =IF(AT59<>""," -R","") | AV58: =IF(AV59<>""," -R","") | AX58: =IF(AX59<>""," -R","") | AZ58: =IF(AZ59<>""," -R","") | BB58: =IF(BB59<>""," -R","") | BD58: =IF(BD59<>""," -R","") | BF58: =IF(BF59<>""," -R","") | BH58: =IF(BH59<>""," -R","") | BJ58: =IF(BJ59<>""," -R","")
M59: 1.27 | N59: =IFERROR(VLOOKUP(M59,'CRUCE RIESGOS'!$C$5:$D$104,2,FALSE),"") | O59: 2.27 | P59: =IFERROR(VLOOKUP(O59,'CRUCE RIESGOS'!$C$5:$D$104,2,FALSE),"") | Q59: 3.27 | R59: =IFERROR(VLOOKUP(Q59,'CRUCE RIESGOS'!$C$5:$D$104,2,FALSE),"") | S59: 4.27 | T59: =IFERROR(VLOOKUP(S59,'CRUCE RIESGOS'!$C$5:$D$104,2,FALSE),"") | U59: 5.27 | V59: =IFERROR(VLOOKUP(U59,'CRUCE RIESGOS'!$C$5:$D$104,2,FALSE),"") | W59: 6.27 | X59: =IFERROR(VLOOKUP(W59,'CRUCE RIESGOS'!$C$5:$D$104,2,FALSE),"") | Y59: 7.27 | Z59: =IFERROR(VLOOKUP(Y59,'CRUCE RIESGOS'!$C$5:$D$104,2,FALSE),"") | AA59: 8.27 | AB59: =IFERROR(VLOOKUP(AA59,'CRUCE RIESGOS'!$C$5:$D$104,2,FALSE),"") | AC59: 9.27 | AD59: =IFERROR(VLOOKUP(AC59,'CRUCE RIESGOS'!$C$5:$D$104,2,FALSE),"") | AE59: 10.27 | AF59: =IFERROR(VLOOKUP(AE59,'CRUCE RIESGOS'!$C$5:$D$104,2,FALSE),"") | AG59: 11.27 | AH59: =IFERROR(VLOOKUP(AG59,'CRUCE RIESGOS'!$C$5:$D$104,2,FALSE),"") | AI59: 12.27 | AJ59: =IFERROR(VLOOKUP(AI59,'CRUCE RIESGOS'!$C$5:$D$104,2,FALSE),"") | AK59: 13.27 | AL59: =IFERROR(VLOOKUP(AK59,'CRUCE RIESGOS'!$C$5:$D$104,2,FALSE),"") | AM59: 14.27 | AN59: =IFERROR(VLOOKUP(AM59,'CRUCE RIESGOS'!$C$5:$D$104,2,FALSE),"") | AO59: 15.27 | AP59: =IFERROR(VLOOKUP(AO59,'CRUCE RIESGOS'!$C$5:$D$104,2,FALSE),"") | AQ59: 16.27 | AR59: =IFERROR(VLOOKUP(AQ59,'CRUCE RIESGOS'!$C$5:$D$104,2,FALSE),"") | AS59: 17.27 | AT59: =IFERROR(VLOOKUP(AS59,'CRUCE RIESGOS'!$C$5:$D$104,2,FALSE),"") | AU59: 18.27 | AV59: =IFERROR(VLOOKUP(AU59,'CRUCE RIESGOS'!$C$5:$D$104,2,FALSE),"") | AW59: 19.27 | AX59: =IFERROR(VLOOKUP(AW59,'CRUCE RIESGOS'!$C$5:$D$104,2,FALSE),"") | AY59: 20.27 | AZ59: =IFERROR(VLOOKUP(AY59,'CRUCE RIESGOS'!$C$5:$D$104,2,FALSE),"") | BA59: 21.27 | BB59: =IFERROR(VLOOKUP(BA59,'CRUCE RIESGOS'!$C$5:$D$104,2,FALSE),"") | BC59: 22.27 | BD59: =IFERROR(VLOOKUP(BC59,'CRUCE RIESGOS'!$C$5:$D$104,2,FALSE),"") | BE59: 23.27 | BF59: =IFERROR(VLOOKUP(BE59,'CRUCE RIESGOS'!$C$5:$D$104,2,FALSE),"") | BG59: 24.27 | BH59: =IFERROR(VLOOKUP(BG59,'CRUCE RIESGOS'!$C$5:$D$104,2,FALSE),"") | BI59: 25.27 | BJ59: =IFERROR(VLOOKUP(BI59,'CRUCE RIESGOS'!$C$5:$D$104,2,FALSE),"")
N60: =IF(N61<>""," -R","") | P60: =IF(P61<>""," -R","") | R60: =IF(R61<>""," -R","") | T60: =IF(T61<>""," -R","") | V60: =IF(V61<>""," -R","") | X60: =IF(X61<>""," -R","") | Z60: =IF(Z61<>""," -R","") | AB60: =IF(AB61<>""," -R","") | AD60: =IF(AD61<>""," -R","") | AF60: =IF(AF61<>""," -R","") | AH60: =IF(AH61<>""," -R","") | AJ60: =IF(AJ61<>""," -R","") | AL60: =IF(AL61<>""," -R","") | AN60: =IF(AN61<>""," -R","") | AP60: =IF(AP61<>""," -R","") | AR60: =IF(AR61<>""," -R","") | AT60: =IF(AT61<>""," -R","") | AV60: =IF(AV61<>""," -R","") | AX60: =IF(AX61<>""," -R","") | AZ60: =IF(AZ61<>""," -R","") | BB60: =IF(BB61<>""," -R","") | BD60: =IF(BD61<>""," -R","") | BF60: =IF(BF61<>""," -R","") | BH60: =IF(BH61<>""," -R","") | BJ60: =IF(BJ61<>""," -R","")
M61: 1.28 | N61: =IFERROR(VLOOKUP(M61,'CRUCE RIESGOS'!$C$5:$D$104,2,FALSE),"") | O61: 2.28 | P61: =IFERROR(VLOOKUP(O61,'CRUCE RIESGOS'!$C$5:$D$104,2,FALSE),"") | Q61: 3.28 | R61: =IFERROR(VLOOKUP(Q61,'CRUCE RIESGOS'!$C$5:$D$104,2,FALSE),"") | S61: 4.28 | T61: =IFERROR(VLOOKUP(S61,'CRUCE RIESGOS'!$C$5:$D$104,2,FALSE),"") | U61: 5.28 | V61: =IFERROR(VLOOKUP(U61,'CRUCE RIESGOS'!$C$5:$D$104,2,FALSE),"") | W61: 6.28 | X61: =IFERROR(VLOOKUP(W61,'CRUCE RIESGOS'!$C$5:$D$104,2,FALSE),"") | Y61: 7.28 | Z61: =IFERROR(VLOOKUP(Y61,'CRUCE RIESGOS'!$C$5:$D$104,2,FALSE),"") | AA61: 8.28 | AB61: =IFERROR(VLOOKUP(AA61,'CRUCE RIESGOS'!$C$5:$D$104,2,FALSE),"") | AC61: 9.28 | AD61: =IFERROR(VLOOKUP(AC61,'CRUCE RIESGOS'!$C$5:$D$104,2,FALSE),"") | AE61: 10.28 | AF61: =IFERROR(VLOOKUP(AE61,'CRUCE RIESGOS'!$C$5:$D$104,2,FALSE),"") | AG61: 11.28 | AH61: =IFERROR(VLOOKUP(AG61,'CRUCE RIESGOS'!$C$5:$D$104,2,FALSE),"") | AI61: 12.28 | AJ61: =IFERROR(VLOOKUP(AI61,'CRUCE RIESGOS'!$C$5:$D$104,2,FALSE),"") | AK61: 13.28 | AL61: =IFERROR(VLOOKUP(AK61,'CRUCE RIESGOS'!$C$5:$D$104,2,FALSE),"") | AM61: 14.28 | AN61: =IFERROR(VLOOKUP(AM61,'CRUCE RIESGOS'!$C$5:$D$104,2,FALSE),"") | AO61: 15.28 | AP61: =IFERROR(VLOOKUP(AO61,'CRUCE RIESGOS'!$C$5:$D$104,2,FALSE),"") | AQ61: 16.28 | AR61: =IFERROR(VLOOKUP(AQ61,'CRUCE RIESGOS'!$C$5:$D$104,2,FALSE),"") | AS61: 17.28 | AT61: =IFERROR(VLOOKUP(AS61,'CRUCE RIESGOS'!$C$5:$D$104,2,FALSE),"") | AU61: 18.28 | AV61: =IFERROR(VLOOKUP(AU61,'CRUCE RIESGOS'!$C$5:$D$104,2,FALSE),"") | AW61: 19.28 | AX61: =IFERROR(VLOOKUP(AW61,'CRUCE RIESGOS'!$C$5:$D$104,2,FALSE),"") | AY61: 20.28 | AZ61: =IFERROR(VLOOKUP(AY61,'CRUCE RIESGOS'!$C$5:$D$104,2,FALSE),"") | BA61: 21.28 | BB61: =IFERROR(VLOOKUP(BA61,'CRUCE RIESGOS'!$C$5:$D$104,2,FALSE),"") | BC61: 22.28 | BD61: =IFERROR(VLOOKUP(BC61,'CRUCE RIESGOS'!$C$5:$D$104,2,FALSE),"") | BE61: 23.28 | BF61: =IFERROR(VLOOKUP(BE61,'CRUCE RIESGOS'!$C$5:$D$104,2,FALSE),"") | BG61: 24.28 | BH61: =IFERROR(VLOOKUP(BG61,'CRUCE RIESGOS'!$C$5:$D$104,2,FALSE),"") | BI61: 25.28 | BJ61: =IFERROR(VLOOKUP(BI61,'CRUCE RIESGOS'!$C$5:$D$104,2,FALSE),"")
N62: =IF(N63<>""," -R","") | P62: =IF(P63<>""," -R","") | R62: =IF(R63<>""," -R","") | T62: =IF(T63<>""," -R","") | V62: =IF(V63<>""," -R","") | X62: =IF(X63<>""," -R","") | Z62: =IF(Z63<>""," -R","") | AB62: =IF(AB63<>""," -R","") | AD62: =IF(AD63<>""," -R","") | AF62: =IF(AF63<>""," -R","") | AH62: =IF(AH63<>""," -R","") | AJ62: =IF(AJ63<>""," -R","") | AL62: =IF(AL63<>""," -R","") | AN62: =IF(AN63<>""," -R","") | AP62: =IF(AP63<>""," -R","") | AR62: =IF(AR63<>""," -R","") | AT62: =IF(AT63<>""," -R","") | AV62: =IF(AV63<>""," -R","") | AX62: =IF(AX63<>""," -R","") | AZ62: =IF(AZ63<>""," -R","") | BB62: =IF(BB63<>""," -R","") | BD62: =IF(BD63<>""," -R","") | BF62: =IF(BF63<>""," -R","") | BH62: =IF(BH63<>""," -R","") | BJ62: =IF(BJ63<>""," -R","")
M63: 1.29 | N63: =IFERROR(VLOOKUP(M63,'CRUCE RIESGOS'!$C$5:$D$104,2,FALSE),"") | O63: 2.29 | P63: =IFERROR(VLOOKUP(O63,'CRUCE RIESGOS'!$C$5:$D$104,2,FALSE),"") | Q63: 3.29 | R63: =IFERROR(VLOOKUP(Q63,'CRUCE RIESGOS'!$C$5:$D$104,2,FALSE),"") | S63: 4.29 | T63: =IFERROR(VLOOKUP(S63,'CRUCE RIESGOS'!$C$5:$D$104,2,FALSE),"") | U63: 5.29 | V63: =IFERROR(VLOOKUP(U63,'CRUCE RIESGOS'!$C$5:$D$104,2,FALSE),"") | W63: 6.29 | X63: =IFERROR(VLOOKUP(W63,'CRUCE RIESGOS'!$C$5:$D$104,2,FALSE),"") | Y63: 7.29 | Z63: =IFERROR(VLOOKUP(Y63,'CRUCE RIESGOS'!$C$5:$D$104,2,FALSE),"") | AA63: 8.29 | AB63: =IFERROR(VLOOKUP(AA63,'CRUCE RIESGOS'!$C$5:$D$104,2,FALSE),"") | AC63: 9.29 | AD63: =IFERROR(VLOOKUP(AC63,'CRUCE RIESGOS'!$C$5:$D$104,2,FALSE),"") | AE63: 10.29 | AF63: =IFERROR(VLOOKUP(AE63,'CRUCE RIESGOS'!$C$5:$D$104,2,FALSE),"") | AG63: 11.29 | AH63: =IFERROR(VLOOKUP(AG63,'CRUCE RIESGOS'!$C$5:$D$104,2,FALSE),"") | AI63: 12.29 | AJ63: =IFERROR(VLOOKUP(AI63,'CRUCE RIESGOS'!$C$5:$D$104,2,FALSE),"") | AK63: 13.29 | AL63: =IFERROR(VLOOKUP(AK63,'CRUCE RIESGOS'!$C$5:$D$104,2,FALSE),"") | AM63: 14.29 | AN63: =IFERROR(VLOOKUP(AM63,'CRUCE RIESGOS'!$C$5:$D$104,2,FALSE),"") | AO63: 15.29 | AP63: =IFERROR(VLOOKUP(AO63,'CRUCE RIESGOS'!$C$5:$D$104,2,FALSE),"") | AQ63: 16.29 | AR63: =IFERROR(VLOOKUP(AQ63,'CRUCE RIESGOS'!$C$5:$D$104,2,FALSE),"") | AS63: 17.29 | AT63: =IFERROR(VLOOKUP(AS63,'CRUCE RIESGOS'!$C$5:$D$104,2,FALSE),"") | AU63: 18.29 | AV63: =IFERROR(VLOOKUP(AU63,'CRUCE RIESGOS'!$C$5:$D$104,2,FALSE),"") | AW63: 19.29 | AX63: =IFERROR(VLOOKUP(AW63,'CRUCE RIESGOS'!$C$5:$D$104,2,FALSE),"") | AY63: 20.29 | AZ63: =IFERROR(VLOOKUP(AY63,'CRUCE RIESGOS'!$C$5:$D$104,2,FALSE),"") | BA63: 21.29 | BB63: =IFERROR(VLOOKUP(BA63,'CRUCE RIESGOS'!$C$5:$D$104,2,FALSE),"") | BC63: 22.29 | BD63: =IFERROR(VLOOKUP(BC63,'CRUCE RIESGOS'!$C$5:$D$104,2,FALSE),"") | BE63: 23.29 | BF63: =IFERROR(VLOOKUP(BE63,'CRUCE RIESGOS'!$C$5:$D$104,2,FALSE),"") | BG63: 24.29 | BH63: =IFERROR(VLOOKUP(BG63,'CRUCE RIESGOS'!$C$5:$D$104,2,FALSE),"") | BI63: 25.29 | BJ63: =IFERROR(VLOOKUP(BI63,'CRUCE RIESGOS'!$C$5:$D$104,2,FALSE),"")
N64: =IF(N65<>""," -R","") | P64: =IF(P65<>""," -R","") | R64: =IF(R65<>""," -R","") | T64: =IF(T65<>""," -R","") | V64: =IF(V65<>""," -R","") | X64: =IF(X65<>""," -R","") | Z64: =IF(Z65<>""," -R","") | AB64: =IF(AB65<>""," -R","") | AD64: =IF(AD65<>""," -R","") | AF64: =IF(AF65<>""," -R","") | AH64: =IF(AH65<>""," -R","") | AJ64: =IF(AJ65<>""," -R","") | AL64: =IF(AL65<>""," -R","") | AN64: =IF(AN65<>""," -R","") | AP64: =IF(AP65<>""," -R","") | AR64: =IF(AR65<>""," -R","") | AT64: =IF(AT65<>""," -R","") | AV64: =IF(AV65<>""," -R","") | AX64: =IF(AX65<>""," -R","") | AZ64: =IF(AZ65<>""," -R","") | BB64: =IF(BB65<>""," -R","") | BD64: =IF(BD65<>""," -R","") | BF64: =IF(BF65<>""," -R","") | BH64: =IF(BH65<>""," -R","") | BJ64: =IF(BJ65<>""," -R","")
M65: 1.3 | N65: =IFERROR(VLOOKUP(M65,'CRUCE RIESGOS'!$C$5:$D$104,2,FALSE),"") | O65: 2.3 | P65: =IFERROR(VLOOKUP(O65,'CRUCE RIESGOS'!$C$5:$D$104,2,FALSE),"") | Q65: 3.3 | R65: =IFERROR(VLOOKUP(Q65,'CRUCE RIESGOS'!$C$5:$D$104,2,FALSE),"") | S65: 4.3 | T65: =IFERROR(VLOOKUP(S65,'CRUCE RIESGOS'!$C$5:$D$104,2,FALSE),"") | U65: 5.3 | V65: =IFERROR(VLOOKUP(U65,'CRUCE RIESGOS'!$C$5:$D$104,2,FALSE),"") | W65: 6.3 | X65: =IFERROR(VLOOKUP(W65,'CRUCE RIESGOS'!$C$5:$D$104,2,FALSE),"") | Y65: 7.3 | Z65: =IFERROR(VLOOKUP(Y65,'CRUCE RIESGOS'!$C$5:$D$104,2,FALSE),"") | AA65: 8.3 | AB65: =IFERROR(VLOOKUP(AA65,'CRUCE RIESGOS'!$C$5:$D$104,2,FALSE),"") | AC65: 9.3 | AD65: =IFERROR(VLOOKUP(AC65,'CRUCE RIESGOS'!$C$5:$D$104,2,FALSE),"") | AE65: 10.3 | AF65: =IFERROR(VLOOKUP(AE65,'CRUCE RIESGOS'!$C$5:$D$104,2,FALSE),"") | AG65: 11.3 | AH65: =IFERROR(VLOOKUP(AG65,'CRUCE RIESGOS'!$C$5:$D$104,2,FALSE),"") | AI65: 12.3 | AJ65: =IFERROR(VLOOKUP(AI65,'CRUCE RIESGOS'!$C$5:$D$104,2,FALSE),"") | AK65: 13.3 | AL65: =IFERROR(VLOOKUP(AK65,'CRUCE RIESGOS'!$C$5:$D$104,2,FALSE),"") | AM65: 14.3 | AN65: =IFERROR(VLOOKUP(AM65,'CRUCE RIESGOS'!$C$5:$D$104,2,FALSE),"") | AO65: 15.3 | AP65: =IFERROR(VLOOKUP(AO65,'CRUCE RIESGOS'!$C$5:$D$104,2,FALSE),"") | AQ65: 16.3 | AR65: =IFERROR(VLOOKUP(AQ65,'CRUCE RIESGOS'!$C$5:$D$104,2,FALSE),"") | AS65: 17.3 | AT65: =IFERROR(VLOOKUP(AS65,'CRUCE RIESGOS'!$C$5:$D$104,2,FALSE),"") | AU65: 18.3 | AV65: =IFERROR(VLOOKUP(AU65,'CRUCE RIESGOS'!$C$5:$D$104,2,FALSE),"") | AW65: 19.3 | AX65: =IFERROR(VLOOKUP(AW65,'CRUCE RIESGOS'!$C$5:$D$104,2,FALSE),"") | AY65: 20.3 | AZ65: =IFERROR(VLOOKUP(AY65,'CRUCE RIESGOS'!$C$5:$D$104,2,FALSE),"") | BA65: 21.3 | BB65: =IFERROR(VLOOKUP(BA65,'CRUCE RIESGOS'!$C$5:$D$104,2,FALSE),"") | BC65: 22.3 | BD65: =IFERROR(VLOOKUP(BC65,'CRUCE RIESGOS'!$C$5:$D$104,2,FALSE),"") | BE65: 23.3 | BF65: =IFERROR(VLOOKUP(BE65,'CRUCE RIESGOS'!$C$5:$D$104,2,FALSE),"") | BG65: 24.3 | BH65: =IFERROR(VLOOKUP(BG65,'CRUCE RIESGOS'!$C$5:$D$104,2,FALSE),"") | BI65: 25.3 | BJ65: =IFERROR(VLOOKUP(BI65,'CRUCE RIESGOS'!$C$5:$D$104,2,FALSE),"")
N66: =IF(N67<>""," -R","") | P66: =IF(P67<>""," -R","") | R66: =IF(R67<>""," -R","") | T66: =IF(T67<>""," -R","") | V66: =IF(V67<>""," -R","") | X66: =IF(X67<>""," -R","") | Z66: =IF(Z67<>""," -R","") | AB66: =IF(AB67<>""," -R","") | AD66: =IF(AD67<>""," -R","") | AF66: =IF(AF67<>""," -R","") | AH66: =IF(AH67<>""," -R","") | AJ66: =IF(AJ67<>""," -R","") | AL66: =IF(AL67<>""," -R","") | AN66: =IF(AN67<>""," -R","") | AP66: =IF(AP67<>""," -R","") | AR66: =IF(AR67<>""," -R","") | AT66: =IF(AT67<>""," -R","") | AV66: =IF(AV67<>""," -R","") | AX66: =IF(AX67<>""," -R","") | AZ66: =IF(AZ67<>""," -R","") | BB66: =IF(BB67<>""," -R","") | BD66: =IF(BD67<>""," -R","") | BF66: =IF(BF67<>""," -R","") | BH66: =IF(BH67<>""," -R","") | BJ66: =IF(BJ67<>""," -R","")
M67: 1.31 | N67: =IFERROR(VLOOKUP(M67,'CRUCE RIESGOS'!$C$5:$D$104,2,FALSE),"") | O67: 2.31 | P67: =IFERROR(VLOOKUP(O67,'CRUCE RIESGOS'!$C$5:$D$104,2,FALSE),"") | Q67: 3.31 | R67: =IFERROR(VLOOKUP(Q67,'CRUCE RIESGOS'!$C$5:$D$104,2,FALSE),"") | S67: 4.31 | T67: =IFERROR(VLOOKUP(S67,'CRUCE RIESGOS'!$C$5:$D$104,2,FALSE),"") | U67: 5.31 | V67: =IFERROR(VLOOKUP(U67,'CRUCE RIESGOS'!$C$5:$D$104,2,FALSE),"") | W67: 6.31 | X67: =IFERROR(VLOOKUP(W67,'CRUCE RIESGOS'!$C$5:$D$104,2,FALSE),"") | Y67: 7.31 | Z67: =IFERROR(VLOOKUP(Y67,'CRUCE RIESGOS'!$C$5:$D$104,2,FALSE),"") | AA67: 8.31 | AB67: =IFERROR(VLOOKUP(AA67,'CRUCE RIESGOS'!$C$5:$D$104,2,FALSE),"") | AC67: 9.31 | AD67: =IFERROR(VLOOKUP(AC67,'CRUCE RIESGOS'!$C$5:$D$104,2,FALSE),"") | AE67: 10.31 | AF67: =IFERROR(VLOOKUP(AE67,'CRUCE RIESGOS'!$C$5:$D$104,2,FALSE),"") | AG67: 11.31 | AH67: =IFERROR(VLOOKUP(AG67,'CRUCE RIESGOS'!$C$5:$D$104,2,FALSE),"") | AI67: 12.31 | AJ67: =IFERROR(VLOOKUP(AI67,'CRUCE RIESGOS'!$C$5:$D$104,2,FALSE),"") | AK67: 13.31 | AL67: =IFERROR(VLOOKUP(AK67,'CRUCE RIESGOS'!$C$5:$D$104,2,FALSE),"") | AM67: 14.31 | AN67: =IFERROR(VLOOKUP(AM67,'CRUCE RIESGOS'!$C$5:$D$104,2,FALSE),"") | AO67: 15.31 | AP67: =IFERROR(VLOOKUP(AO67,'CRUCE RIESGOS'!$C$5:$D$104,2,FALSE),"") | AQ67: 16.31 | AR67: =IFERROR(VLOOKUP(AQ67,'CRUCE RIESGOS'!$C$5:$D$104,2,FALSE),"") | AS67: 17.31 | AT67: =IFERROR(VLOOKUP(AS67,'CRUCE RIESGOS'!$C$5:$D$104,2,FALSE),"") | AU67: 18.31 | AV67: =IFERROR(VLOOKUP(AU67,'CRUCE RIESGOS'!$C$5:$D$104,2,FALSE),"") | AW67: 19.31 | AX67: =IFERROR(VLOOKUP(AW67,'CRUCE RIESGOS'!$C$5:$D$104,2,FALSE),"") | AY67: 20.31 | AZ67: =IFERROR(VLOOKUP(AY67,'CRUCE RIESGOS'!$C$5:$D$104,2,FALSE),"") | BA67: 21.31 | BB67: =IFERROR(VLOOKUP(BA67,'CRUCE RIESGOS'!$C$5:$D$104,2,FALSE),"") | BC67: 22.31 | BD67: =IFERROR(VLOOKUP(BC67,'CRUCE RIESGOS'!$C$5:$D$104,2,FALSE),"") | BE67: 23.31 | BF67: =IFERROR(VLOOKUP(BE67,'CRUCE RIESGOS'!$C$5:$D$104,2,FALSE),"") | BG67: 24.31 | BH67: =IFERROR(VLOOKUP(BG67,'CRUCE RIESGOS'!$C$5:$D$104,2,FALSE),"") | BI67: 25.31 | BJ67: =IFERROR(VLOOKUP(BI67,'CRUCE RIESGOS'!$C$5:$D$104,2,FALSE),"")
N68: =IF(N69<>""," -R","") | P68: =IF(P69<>""," -R","") | R68: =IF(R69<>""," -R","") | T68: =IF(T69<>""," -R","") | V68: =IF(V69<>""," -R","") | X68: =IF(X69<>""," -R","") | Z68: =IF(Z69<>""," -R","") | AB68: =IF(AB69<>""," -R","") | AD68: =IF(AD69<>""," -R","") | AF68: =IF(AF69<>""," -R","") | AH68: =IF(AH69<>""," -R","") | AJ68: =IF(AJ69<>""," -R","") | AL68: =IF(AL69<>""," -R","") | AN68: =IF(AN69<>""," -R","") | AP68: =IF(AP69<>""," -R","") | AR68: =IF(AR69<>""," -R","") | AT68: =IF(AT69<>""," -R","") | AV68: =IF(AV69<>""," -R","") | AX68: =IF(AX69<>""," -R","") | AZ68: =IF(AZ69<>""," -R","") | BB68: =IF(BB69<>""," -R","") | BD68: =IF(BD69<>""," -R","") | BF68: =IF(BF69<>""," -R","") | BH68: =IF(BH69<>""," -R","") | BJ68: =IF(BJ69<>""," -R","")
M69: 1.32 | N69: =IFERROR(VLOOKUP(M69,'CRUCE RIESGOS'!$C$5:$D$104,2,FALSE),"") | O69: 2.32 | P69: =IFERROR(VLOOKUP(O69,'CRUCE RIESGOS'!$C$5:$D$104,2,FALSE),"") | Q69: 3.32 | R69: =IFERROR(VLOOKUP(Q69,'CRUCE RIESGOS'!$C$5:$D$104,2,FALSE),"") | S69: 4.32 | T69: =IFERROR(VLOOKUP(S69,'CRUCE RIESGOS'!$C$5:$D$104,2,FALSE),"") | U69: 5.32 | V69: =IFERROR(VLOOKUP(U69,'CRUCE RIESGOS'!$C$5:$D$104,2,FALSE),"") | W69: 6.32 | X69: =IFERROR(VLOOKUP(W69,'CRUCE RIESGOS'!$C$5:$D$104,2,FALSE),"") | Y69: 7.32 | Z69: =IFERROR(VLOOKUP(Y69,'CRUCE RIESGOS'!$C$5:$D$104,2,FALSE),"") | AA69: 8.32 | AB69: =IFERROR(VLOOKUP(AA69,'CRUCE RIESGOS'!$C$5:$D$104,2,FALSE),"") | AC69: 9.32 | AD69: =IFERROR(VLOOKUP(AC69,'CRUCE RIESGOS'!$C$5:$D$104,2,FALSE),"") | AE69: 10.32 | AF69: =IFERROR(VLOOKUP(AE69,'CRUCE RIESGOS'!$C$5:$D$104,2,FALSE),"") | AG69: 11.32 | AH69: =IFERROR(VLOOKUP(AG69,'CRUCE RIESGOS'!$C$5:$D$104,2,FALSE),"") | AI69: 12.32 | AJ69: =IFERROR(VLOOKUP(AI69,'CRUCE RIESGOS'!$C$5:$D$104,2,FALSE),"") | AK69: 13.32 | AL69: =IFERROR(VLOOKUP(AK69,'CRUCE RIESGOS'!$C$5:$D$104,2,FALSE),"") | AM69: 14.32 | AN69: =IFERROR(VLOOKUP(AM69,'CRUCE RIESGOS'!$C$5:$D$104,2,FALSE),"") | AO69: 15.32 | AP69: =IFERROR(VLOOKUP(AO69,'CRUCE RIESGOS'!$C$5:$D$104,2,FALSE),"") | AQ69: 16.32 | AR69: =IFERROR(VLOOKUP(AQ69,'CRUCE RIESGOS'!$C$5:$D$104,2,FALSE),"") | AS69: 17.32 | AT69: =IFERROR(VLOOKUP(AS69,'CRUCE RIESGOS'!$C$5:$D$104,2,FALSE),"") | AU69: 18.32 | AV69: =IFERROR(VLOOKUP(AU69,'CRUCE RIESGOS'!$C$5:$D$104,2,FALSE),"") | AW69: 19.32 | AX69: =IFERROR(VLOOKUP(AW69,'CRUCE RIESGOS'!$C$5:$D$104,2,FALSE),"") | AY69: 20.32 | AZ69: =IFERROR(VLOOKUP(AY69,'CRUCE RIESGOS'!$C$5:$D$104,2,FALSE),"") | BA69: 21.32 | BB69: =IFERROR(VLOOKUP(BA69,'CRUCE RIESGOS'!$C$5:$D$104,2,FALSE),"") | BC69: 22.32 | BD69: =IFERROR(VLOOKUP(BC69,'CRUCE RIESGOS'!$C$5:$D$104,2,FALSE),"") | BE69: 23.32 | BF69: =IFERROR(VLOOKUP(BE69,'CRUCE RIESGOS'!$C$5:$D$104,2,FALSE),"") | BG69: 24.32 | BH69: =IFERROR(VLOOKUP(BG69,'CRUCE RIESGOS'!$C$5:$D$104,2,FALSE),"") | BI69: 25.32 | BJ69: =IFERROR(VLOOKUP(BI69,'CRUCE RIESGOS'!$C$5:$D$104,2,FALSE),"")
N70: =IF(N71<>""," -R","") | P70: =IF(P71<>""," -R","") | R70: =IF(R71<>""," -R","") | T70: =IF(T71<>""," -R","") | V70: =IF(V71<>""," -R","") | X70: =IF(X71<>""," -R","") | Z70: =IF(Z71<>""," -R","") | AB70: =IF(AB71<>""," -R","") | AD70: =IF(AD71<>""," -R","") | AF70: =IF(AF71<>""," -R","") | AH70: =IF(AH71<>""," -R","") | AJ70: =IF(AJ71<>""," -R","") | AL70: =IF(AL71<>""," -R","") | AN70: =IF(AN71<>""," -R","") | AP70: =IF(AP71<>""," -R","") | AR70: =IF(AR71<>""," -R","") | AT70: =IF(AT71<>""," -R","") | AV70: =IF(AV71<>""," -R","") | AX70: =IF(AX71<>""," -R","") | AZ70: =IF(AZ71<>""," -R","") | BB70: =IF(BB71<>""," -R","") | BD70: =IF(BD71<>""," -R","") | BF70: =IF(BF71<>""," -R","") | BH70: =IF(BH71<>""," -R","") | BJ70: =IF(BJ71<>""," -R","")
M71: 1.33 | N71: =IFERROR(VLOOKUP(M71,'CRUCE RIESGOS'!$C$5:$D$104,2,FALSE),"") | O71: 2.33 | P71: =IFERROR(VLOOKUP(O71,'CRUCE RIESGOS'!$C$5:$D$104,2,FALSE),"") | Q71: 3.33 | R71: =IFERROR(VLOOKUP(Q71,'CRUCE RIESGOS'!$C$5:$D$104,2,FALSE),"") | S71: 4.33 | T71: =IFERROR(VLOOKUP(S71,'CRUCE RIESGOS'!$C$5:$D$104,2,FALSE),"") | U71: 5.33 | V71: =IFERROR(VLOOKUP(U71,'CRUCE RIESGOS'!$C$5:$D$104,2,FALSE),"") | W71: 6.33 | X71: =IFERROR(VLOOKUP(W71,'CRUCE RIESGOS'!$C$5:$D$104,2,FALSE),"") | Y71: 7.33 | Z71: =IFERROR(VLOOKUP(Y71,'CRUCE RIESGOS'!$C$5:$D$104,2,FALSE),"") | AA71: 8.33 | AB71: =IFERROR(VLOOKUP(AA71,'CRUCE RIESGOS'!$C$5:$D$104,2,FALSE),"") | AC71: 9.33 | AD71: =IFERROR(VLOOKUP(AC71,'CRUCE RIESGOS'!$C$5:$D$104,2,FALSE),"") | AE71: 10.33 | AF71: =IFERROR(VLOOKUP(AE71,'CRUCE RIESGOS'!$C$5:$D$104,2,FALSE),"") | AG71: 11.33 | AH71: =IFERROR(VLOOKUP(AG71,'CRUCE RIESGOS'!$C$5:$D$104,2,FALSE),"") | AI71: 12.33 | AJ71: =IFERROR(VLOOKUP(AI71,'CRUCE RIESGOS'!$C$5:$D$104,2,FALSE),"") | AK71: 13.33 | AL71: =IFERROR(VLOOKUP(AK71,'CRUCE RIESGOS'!$C$5:$D$104,2,FALSE),"") | AM71: 14.33 | AN71: =IFERROR(VLOOKUP(AM71,'CRUCE RIESGOS'!$C$5:$D$104,2,FALSE),"") | AO71: 15.33 | AP71: =IFERROR(VLOOKUP(AO71,'CRUCE RIESGOS'!$C$5:$D$104,2,FALSE),"") | AQ71: 16.33 | AR71: =IFERROR(VLOOKUP(AQ71,'CRUCE RIESGOS'!$C$5:$D$104,2,FALSE),"") | AS71: 17.33 | AT71: =IFERROR(VLOOKUP(AS71,'CRUCE RIESGOS'!$C$5:$D$104,2,FALSE),"") | AU71: 18.33 | AV71: =IFERROR(VLOOKUP(AU71,'CRUCE RIESGOS'!$C$5:$D$104,2,FALSE),"") | AW71: 19.33 | AX71: =IFERROR(VLOOKUP(AW71,'CRUCE RIESGOS'!$C$5:$D$104,2,FALSE),"") | AY71: 20.33 | AZ71: =IFERROR(VLOOKUP(AY71,'CRUCE RIESGOS'!$C$5:$D$104,2,FALSE),"") | BA71: 21.33 | BB71: =IFERROR(VLOOKUP(BA71,'CRUCE RIESGOS'!$C$5:$D$104,2,FALSE),"") | BC71: 22.33 | BD71: =IFERROR(VLOOKUP(BC71,'CRUCE RIESGOS'!$C$5:$D$104,2,FALSE),"") | BE71: 23.33 | BF71: =IFERROR(VLOOKUP(BE71,'CRUCE RIESGOS'!$C$5:$D$104,2,FALSE),"") | BG71: 24.33 | BH71: =IFERROR(VLOOKUP(BG71,'CRUCE RIESGOS'!$C$5:$D$104,2,FALSE),"") | BI71: 25.33 | BJ71: =IFERROR(VLOOKUP(BI71,'CRUCE RIESGOS'!$C$5:$D$104,2,FALSE),"")
N72: =IF(N73<>""," -R","") | P72: =IF(P73<>""," -R","") | R72: =IF(R73<>""," -R","") | T72: =IF(T73<>""," -R","") | V72: =IF(V73<>""," -R","") | X72: =IF(X73<>""," -R","") | Z72: =IF(Z73<>""," -R","") | AB72: =IF(AB73<>""," -R","") | AD72: =IF(AD73<>""," -R","") | AF72: =IF(AF73<>""," -R","") | AH72: =IF(AH73<>""," -R","") | AJ72: =IF(AJ73<>""," -R","") | AL72: =IF(AL73<>""," -R","") | AN72: =IF(AN73<>""," -R","") | AP72: =IF(AP73<>""," -R","") | AR72: =IF(AR73<>""," -R","") | AT72: =IF(AT73<>""," -R","") | AV72: =IF(AV73<>""," -R","") | AX72: =IF(AX73<>""," -R","") | AZ72: =IF(AZ73<>""," -R","") | BB72: =IF(BB73<>""," -R","") | BD72: =IF(BD73<>""," -R","") | BF72: =IF(BF73<>""," -R","") | BH72: =IF(BH73<>""," -R","") | BJ72: =IF(BJ73<>""," -R","")
M73: 1.34 | N73: =IFERROR(VLOOKUP(M73,'CRUCE RIESGOS'!$C$5:$D$104,2,FALSE),"") | O73: 2.34 | P73: =IFERROR(VLOOKUP(O73,'CRUCE RIESGOS'!$C$5:$D$104,2,FALSE),"") | Q73: 3.34 | R73: =IFERROR(VLOOKUP(Q73,'CRUCE RIESGOS'!$C$5:$D$104,2,FALSE),"") | S73: 4.34 | T73: =IFERROR(VLOOKUP(S73,'CRUCE RIESGOS'!$C$5:$D$104,2,FALSE),"") | U73: 5.34 | V73: =IFERROR(VLOOKUP(U73,'CRUCE RIESGOS'!$C$5:$D$104,2,FALSE),"") | W73: 6.34 | X73: =IFERROR(VLOOKUP(W73,'CRUCE RIESGOS'!$C$5:$D$104,2,FALSE),"") | Y73: 7.34 | Z73: =IFERROR(VLOOKUP(Y73,'CRUCE RIESGOS'!$C$5:$D$104,2,FALSE),"") | AA73: 8.34 | AB73: =IFERROR(VLOOKUP(AA73,'CRUCE RIESGOS'!$C$5:$D$104,2,FALSE),"") | AC73: 9.34 | AD73: =IFERROR(VLOOKUP(AC73,'CRUCE RIESGOS'!$C$5:$D$104,2,FALSE),"") | AE73: 10.34 | AF73: =IFERROR(VLOOKUP(AE73,'CRUCE RIESGOS'!$C$5:$D$104,2,FALSE),"") | AG73: 11.34 | AH73: =IFERROR(VLOOKUP(AG73,'CRUCE RIESGOS'!$C$5:$D$104,2,FALSE),"") | AI73: 12.34 | AJ73: =IFERROR(VLOOKUP(AI73,'CRUCE RIESGOS'!$C$5:$D$104,2,FALSE),"") | AK73: 13.34 | AL73: =IFERROR(VLOOKUP(AK73,'CRUCE RIESGOS'!$C$5:$D$104,2,FALSE),"") | AM73: 14.34 | AN73: =IFERROR(VLOOKUP(AM73,'CRUCE RIESGOS'!$C$5:$D$104,2,FALSE),"") | AO73: 15.34 | AP73: =IFERROR(VLOOKUP(AO73,'CRUCE RIESGOS'!$C$5:$D$104,2,FALSE),"") | AQ73: 16.34 | AR73: =IFERROR(VLOOKUP(AQ73,'CRUCE RIESGOS'!$C$5:$D$104,2,FALSE),"") | AS73: 17.34 | AT73: =IFERROR(VLOOKUP(AS73,'CRUCE RIESGOS'!$C$5:$D$104,2,FALSE),"") | AU73: 18.34 | AV73: =IFERROR(VLOOKUP(AU73,'CRUCE RIESGOS'!$C$5:$D$104,2,FALSE),"") | AW73: 19.34 | AX73: =IFERROR(VLOOKUP(AW73,'CRUCE RIESGOS'!$C$5:$D$104,2,FALSE),"") | AY73: 20.34 | AZ73: =IFERROR(VLOOKUP(AY73,'CRUCE RIESGOS'!$C$5:$D$104,2,FALSE),"") | BA73: 21.34 | BB73: =IFERROR(VLOOKUP(BA73,'CRUCE RIESGOS'!$C$5:$D$104,2,FALSE),"") | BC73: 22.34 | BD73: =IFERROR(VLOOKUP(BC73,'CRUCE RIESGOS'!$C$5:$D$104,2,FALSE),"") | BE73: 23.34 | BF73: =IFERROR(VLOOKUP(BE73,'CRUCE RIESGOS'!$C$5:$D$104,2,FALSE),"") | BG73: 24.34 | BH73: =IFERROR(VLOOKUP(BG73,'CRUCE RIESGOS'!$C$5:$D$104,2,FALSE),"") | BI73: 25.34 | BJ73: =IFERROR(VLOOKUP(BI73,'CRUCE RIESGOS'!$C$5:$D$104,2,FALSE),"")
N74: =IF(N75<>""," -R","") | P74: =IF(P75<>""," -R","") | R74: =IF(R75<>""," -R","") | T74: =IF(T75<>""," -R","") | V74: =IF(V75<>""," -R","") | X74: =IF(X75<>""," -R","") | Z74: =IF(Z75<>""," -R","") | AB74: =IF(AB75<>""," -R","") | AD74: =IF(AD75<>""," -R","") | AF74: =IF(AF75<>""," -R","") | AH74: =IF(AH75<>""," -R","") | AJ74: =IF(AJ75<>""," -R","") | AL74: =IF(AL75<>""," -R","") | AN74: =IF(AN75<>""," -R","") | AP74: =IF(AP75<>""," -R","") | AR74: =IF(AR75<>""," -R","") | AT74: =IF(AT75<>""," -R","") | AV74: =IF(AV75<>""," -R","") | AX74: =IF(AX75<>""," -R","") | AZ74: =IF(AZ75<>""," -R","") | BB74: =IF(BB75<>""," -R","") | BD74: =IF(BD75<>""," -R","") | BF74: =IF(BF75<>""," -R","") | BH74: =IF(BH75<>""," -R","") | BJ74: =IF(BJ75<>""," -R","")
M75: 1.35 | N75: =IFERROR(VLOOKUP(M75,'CRUCE RIESGOS'!$C$5:$D$104,2,FALSE),"") | O75: 2.35 | P75: =IFERROR(VLOOKUP(O75,'CRUCE RIESGOS'!$C$5:$D$104,2,FALSE),"") | Q75: 3.35 | R75: =IFERROR(VLOOKUP(Q75,'CRUCE RIESGOS'!$C$5:$D$104,2,FALSE),"") | S75: 4.35 | T75: =IFERROR(VLOOKUP(S75,'CRUCE RIESGOS'!$C$5:$D$104,2,FALSE),"") | U75: 5.35 | V75: =IFERROR(VLOOKUP(U75,'CRUCE RIESGOS'!$C$5:$D$104,2,FALSE),"") | W75: 6.35 | X75: =IFERROR(VLOOKUP(W75,'CRUCE RIESGOS'!$C$5:$D$104,2,FALSE),"") | Y75: 7.35 | Z75: =IFERROR(VLOOKUP(Y75,'CRUCE RIESGOS'!$C$5:$D$104,2,FALSE),"") | AA75: 8.35 | AB75: =IFERROR(VLOOKUP(AA75,'CRUCE RIESGOS'!$C$5:$D$104,2,FALSE),"") | AC75: 9.35 | AD75: =IFERROR(VLOOKUP(AC75,'CRUCE RIESGOS'!$C$5:$D$104,2,FALSE),"") | AE75: 10.35 | AF75: =IFERROR(VLOOKUP(AE75,'CRUCE RIESGOS'!$C$5:$D$104,2,FALSE),"") | AG75: 11.35 | AH75: =IFERROR(VLOOKUP(AG75,'CRUCE RIESGOS'!$C$5:$D$104,2,FALSE),"") | AI75: 12.35 | AJ75: =IFERROR(VLOOKUP(AI75,'CRUCE RIESGOS'!$C$5:$D$104,2,FALSE),"") | AK75: 13.35 | AL75: =IFERROR(VLOOKUP(AK75,'CRUCE RIESGOS'!$C$5:$D$104,2,FALSE),"") | AM75: 14.35 | AN75: =IFERROR(VLOOKUP(AM75,'CRUCE RIESGOS'!$C$5:$D$104,2,FALSE),"") | AO75: 15.35 | AP75: =IFERROR(VLOOKUP(AO75,'CRUCE RIESGOS'!$C$5:$D$104,2,FALSE),"") | AQ75: 16.35 | AR75: =IFERROR(VLOOKUP(AQ75,'CRUCE RIESGOS'!$C$5:$D$104,2,FALSE),"") | AS75: 17.35 | AT75: =IFERROR(VLOOKUP(AS75,'CRUCE RIESGOS'!$C$5:$D$104,2,FALSE),"") | AU75: 18.35 | AV75: =IFERROR(VLOOKUP(AU75,'CRUCE RIESGOS'!$C$5:$D$104,2,FALSE),"") | AW75: 19.35 | AX75: =IFERROR(VLOOKUP(AW75,'CRUCE RIESGOS'!$C$5:$D$104,2,FALSE),"") | AY75: 20.35 | AZ75: =IFERROR(VLOOKUP(AY75,'CRUCE RIESGOS'!$C$5:$D$104,2,FALSE),"") | BA75: 21.35 | BB75: =IFERROR(VLOOKUP(BA75,'CRUCE RIESGOS'!$C$5:$D$104,2,FALSE),"") | BC75: 22.35 | BD75: =IFERROR(VLOOKUP(BC75,'CRUCE RIESGOS'!$C$5:$D$104,2,FALSE),"") | BE75: 23.35 | BF75: =IFERROR(VLOOKUP(BE75,'CRUCE RIESGOS'!$C$5:$D$104,2,FALSE),"") | BG75: 24.35 | BH75: =IFERROR(VLOOKUP(BG75,'CRUCE RIESGOS'!$C$5:$D$104,2,FALSE),"") | BI75: 25.35 | BJ75: =IFERROR(VLOOKUP(BI75,'CRUCE RIESGOS'!$C$5:$D$104,2,FALSE),"")
N76: =IF(N77<>""," -R","") | P76: =IF(P77<>""," -R","") | R76: =IF(R77<>""," -R","") | T76: =IF(T77<>""," -R","") | V76: =IF(V77<>""," -R","") | X76: =IF(X77<>""," -R","") | Z76: =IF(Z77<>""," -R","") | AB76: =IF(AB77<>""," -R","") | AD76: =IF(AD77<>""," -R","") | AF76: =IF(AF77<>""," -R","") | AH76: =IF(AH77<>""," -R","") | AJ76: =IF(AJ77<>""," -R","") | AL76: =IF(AL77<>""," -R","") | AN76: =IF(AN77<>""," -R","") | AP76: =IF(AP77<>""," -R","") | AR76: =IF(AR77<>""," -R","") | AT76: =IF(AT77<>""," -R","") | AV76: =IF(AV77<>""," -R","") | AX76: =IF(AX77<>""," -R","") | AZ76: =IF(AZ77<>""," -R","") | BB76: =IF(BB77<>""," -R","") | BD76: =IF(BD77<>""," -R","") | BF76: =IF(BF77<>""," -R","") | BH76: =IF(BH77<>""," -R","") | BJ76: =IF(BJ77<>""," -R","")
M77: 1.36 | N77: =IFERROR(VLOOKUP(M77,'CRUCE RIESGOS'!$C$5:$D$104,2,FALSE),"") | O77: 2.36 | P77: =IFERROR(VLOOKUP(O77,'CRUCE RIESGOS'!$C$5:$D$104,2,FALSE),"") | Q77: 3.36 | R77: =IFERROR(VLOOKUP(Q77,'CRUCE RIESGOS'!$C$5:$D$104,2,FALSE),"") | S77: 4.36 | T77: =IFERROR(VLOOKUP(S77,'CRUCE RIESGOS'!$C$5:$D$104,2,FALSE),"") | U77: 5.36 | V77: =IFERROR(VLOOKUP(U77,'CRUCE RIESGOS'!$C$5:$D$104,2,FALSE),"") | W77: 6.36 | X77: =IFERROR(VLOOKUP(W77,'CRUCE RIESGOS'!$C$5:$D$104,2,FALSE),"") | Y77: 7.36 | Z77: =IFERROR(VLOOKUP(Y77,'CRUCE RIESGOS'!$C$5:$D$104,2,FALSE),"") | AA77: 8.36 | AB77: =IFERROR(VLOOKUP(AA77,'CRUCE RIESGOS'!$C$5:$D$104,2,FALSE),"") | AC77: 9.36 | AD77: =IFERROR(VLOOKUP(AC77,'CRUCE RIESGOS'!$C$5:$D$104,2,FALSE),"") | AE77: 10.36 | AF77: =IFERROR(VLOOKUP(AE77,'CRUCE RIESGOS'!$C$5:$D$104,2,FALSE),"") | AG77: 11.36 | AH77: =IFERROR(VLOOKUP(AG77,'CRUCE RIESGOS'!$C$5:$D$104,2,FALSE),"") | AI77: 12.36 | AJ77: =IFERROR(VLOOKUP(AI77,'CRUCE RIESGOS'!$C$5:$D$104,2,FALSE),"") | AK77: 13.36 | AL77: =IFERROR(VLOOKUP(AK77,'CRUCE RIESGOS'!$C$5:$D$104,2,FALSE),"") | AM77: 14.36 | AN77: =IFERROR(VLOOKUP(AM77,'CRUCE RIESGOS'!$C$5:$D$104,2,FALSE),"") | AO77: 15.36 | AP77: =IFERROR(VLOOKUP(AO77,'CRUCE RIESGOS'!$C$5:$D$104,2,FALSE),"") | AQ77: 16.36 | AR77: =IFERROR(VLOOKUP(AQ77,'CRUCE RIESGOS'!$C$5:$D$104,2,FALSE),"") | AS77: 17.36 | AT77: =IFERROR(VLOOKUP(AS77,'CRUCE RIESGOS'!$C$5:$D$104,2,FALSE),"") | AU77: 18.36 | AV77: =IFERROR(VLOOKUP(AU77,'CRUCE RIESGOS'!$C$5:$D$104,2,FALSE),"") | AW77: 19.36 | AX77: =IFERROR(VLOOKUP(AW77,'CRUCE RIESGOS'!$C$5:$D$104,2,FALSE),"") | AY77: 20.36 | AZ77: =IFERROR(VLOOKUP(AY77,'CRUCE RIESGOS'!$C$5:$D$104,2,FALSE),"") | BA77: 21.36 | BB77: =IFERROR(VLOOKUP(BA77,'CRUCE RIESGOS'!$C$5:$D$104,2,FALSE),"") | BC77: 22.36 | BD77: =IFERROR(VLOOKUP(BC77,'CRUCE RIESGOS'!$C$5:$D$104,2,FALSE),"") | BE77: 23.36 | BF77: =IFERROR(VLOOKUP(BE77,'CRUCE RIESGOS'!$C$5:$D$104,2,FALSE),"") | BG77: 24.36 | BH77: =IFERROR(VLOOKUP(BG77,'CRUCE RIESGOS'!$C$5:$D$104,2,FALSE),"") | BI77: 25.36 | BJ77: =IFERROR(VLOOKUP(BI77,'CRUCE RIESGOS'!$C$5:$D$104,2,FALSE),"")
N78: =IF(N79<>""," -R","") | P78: =IF(P79<>""," -R","") | R78: =IF(R79<>""," -R","") | T78: =IF(T79<>""," -R","") | V78: =IF(V79<>""," -R","") | X78: =IF(X79<>""," -R","") | Z78: =IF(Z79<>""," -R","") | AB78: =IF(AB79<>""," -R","") | AD78: =IF(AD79<>""," -R","") | AF78: =IF(AF79<>""," -R","") | AH78: =IF(AH79<>""," -R","") | AJ78: =IF(AJ79<>""," -R","") | AL78: =IF(AL79<>""," -R","") | AN78: =IF(AN79<>""," -R","") | AP78: =IF(AP79<>""," -R","") | AR78: =IF(AR79<>""," -R","") | AT78: =IF(AT79<>""," -R","") | AV78: =IF(AV79<>""," -R","") | AX78: =IF(AX79<>""," -R","") | AZ78: =IF(AZ79<>""," -R","") | BB78: =IF(BB79<>""," -R","") | BD78: =IF(BD79<>""," -R","") | BF78: =IF(BF79<>""," -R","") | BH78: =IF(BH79<>""," -R","") | BJ78: =IF(BJ79<>""," -R","")
M79: 1.37 | N79: =IFERROR(VLOOKUP(M79,'CRUCE RIESGOS'!$C$5:$D$104,2,FALSE),"") | O79: 2.37 | P79: =IFERROR(VLOOKUP(O79,'CRUCE RIESGOS'!$C$5:$D$104,2,FALSE),"") | Q79: 3.37 | R79: =IFERROR(VLOOKUP(Q79,'CRUCE RIESGOS'!$C$5:$D$104,2,FALSE),"") | S79: 4.37 | T79: =IFERROR(VLOOKUP(S79,'CRUCE RIESGOS'!$C$5:$D$104,2,FALSE),"") | U79: 5.37 | V79: =IFERROR(VLOOKUP(U79,'CRUCE RIESGOS'!$C$5:$D$104,2,FALSE),"") | W79: 6.37 | X79: =IFERROR(VLOOKUP(W79,'CRUCE RIESGOS'!$C$5:$D$104,2,FALSE),"") | Y79: 7.37 | Z79: =IFERROR(VLOOKUP(Y79,'CRUCE RIESGOS'!$C$5:$D$104,2,FALSE),"") | AA79: 8.37 | AB79: =IFERROR(VLOOKUP(AA79,'CRUCE RIESGOS'!$C$5:$D$104,2,FALSE),"") | AC79: 9.37 | AD79: =IFERROR(VLOOKUP(AC79,'CRUCE RIESGOS'!$C$5:$D$104,2,FALSE),"") | AE79: 10.37 | AF79: =IFERROR(VLOOKUP(AE79,'CRUCE RIESGOS'!$C$5:$D$104,2,FALSE),"") | AG79: 11.37 | AH79: =IFERROR(VLOOKUP(AG79,'CRUCE RIESGOS'!$C$5:$D$104,2,FALSE),"") | AI79: 12.37 | AJ79: =IFERROR(VLOOKUP(AI79,'CRUCE RIESGOS'!$C$5:$D$104,2,FALSE),"") | AK79: 13.37 | AL79: =IFERROR(VLOOKUP(AK79,'CRUCE RIESGOS'!$C$5:$D$104,2,FALSE),"") | AM79: 14.37 | AN79: =IFERROR(VLOOKUP(AM79,'CRUCE RIESGOS'!$C$5:$D$104,2,FALSE),"") | AO79: 15.37 | AP79: =IFERROR(VLOOKUP(AO79,'CRUCE RIESGOS'!$C$5:$D$104,2,FALSE),"") | AQ79: 16.37 | AR79: =IFERROR(VLOOKUP(AQ79,'CRUCE RIESGOS'!$C$5:$D$104,2,FALSE),"") | AS79: 17.37 | AT79: =IFERROR(VLOOKUP(AS79,'CRUCE RIESGOS'!$C$5:$D$104,2,FALSE),"") | AU79: 18.37 | AV79: =IFERROR(VLOOKUP(AU79,'CRUCE RIESGOS'!$C$5:$D$104,2,FALSE),"") | AW79: 19.37 | AX79: =IFERROR(VLOOKUP(AW79,'CRUCE RIESGOS'!$C$5:$D$104,2,FALSE),"") | AY79: 20.37 | AZ79: =IFERROR(VLOOKUP(AY79,'CRUCE RIESGOS'!$C$5:$D$104,2,FALSE),"") | BA79: 21.37 | BB79: =IFERROR(VLOOKUP(BA79,'CRUCE RIESGOS'!$C$5:$D$104,2,FALSE),"") | BC79: 22.37 | BD79: =IFERROR(VLOOKUP(BC79,'CRUCE RIESGOS'!$C$5:$D$104,2,FALSE),"") | BE79: 23.37 | BF79: =IFERROR(VLOOKUP(BE79,'CRUCE RIESGOS'!$C$5:$D$104,2,FALSE),"") | BG79: 24.37 | BH79: =IFERROR(VLOOKUP(BG79,'CRUCE RIESGOS'!$C$5:$D$104,2,FALSE),"") | BI79: 25.37 | BJ79: =IFERROR(VLOOKUP(BI79,'CRUCE RIESGOS'!$C$5:$D$104,2,FALSE),"")
N80: =IF(N81<>""," -R","") | P80: =IF(P81<>""," -R","") | R80: =IF(R81<>""," -R","") | T80: =IF(T81<>""," -R","") | V80: =IF(V81<>""," -R","") | X80: =IF(X81<>""," -R","") | Z80: =IF(Z81<>""," -R","") | AB80: =IF(AB81<>""," -R","") | AD80: =IF(AD81<>""," -R","") | AF80: =IF(AF81<>""," -R","") | AH80: =IF(AH81<>""," -R","") | AJ80: =IF(AJ81<>""," -R","") | AL80: =IF(AL81<>""," -R","") | AN80: =IF(AN81<>""," -R","") | AP80: =IF(AP81<>""," -R","") | AR80: =IF(AR81<>""," -R","") | AT80: =IF(AT81<>""," -R","") | AV80: =IF(AV81<>""," -R","") | AX80: =IF(AX81<>""," -R","") | AZ80: =IF(AZ81<>""," -R","") | BB80: =IF(BB81<>""," -R","") | BD80: =IF(BD81<>""," -R","") | BF80: =IF(BF81<>""," -R","") | BH80: =IF(BH81<>""," -R","") | BJ80: =IF(BJ81<>""," -R","")
M81: 1.38 | N81: =IFERROR(VLOOKUP(M81,'CRUCE RIESGOS'!$C$5:$D$104,2,FALSE),"") | O81: 2.38 | P81: =IFERROR(VLOOKUP(O81,'CRUCE RIESGOS'!$C$5:$D$104,2,FALSE),"") | Q81: 3.38 | R81: =IFERROR(VLOOKUP(Q81,'CRUCE RIESGOS'!$C$5:$D$104,2,FALSE),"") | S81: 4.38 | T81: =IFERROR(VLOOKUP(S81,'CRUCE RIESGOS'!$C$5:$D$104,2,FALSE),"") | U81: 5.38 | V81: =IFERROR(VLOOKUP(U81,'CRUCE RIESGOS'!$C$5:$D$104,2,FALSE),"") | W81: 6.38 | X81: =IFERROR(VLOOKUP(W81,'CRUCE RIESGOS'!$C$5:$D$104,2,FALSE),"") | Y81: 7.38 | Z81: =IFERROR(VLOOKUP(Y81,'CRUCE RIESGOS'!$C$5:$D$104,2,FALSE),"") | AA81: 8.38 | AB81: =IFERROR(VLOOKUP(AA81,'CRUCE RIESGOS'!$C$5:$D$104,2,FALSE),"") | AC81: 9.38 | AD81: =IFERROR(VLOOKUP(AC81,'CRUCE RIESGOS'!$C$5:$D$104,2,FALSE),"") | AE81: 10.38 | AF81: =IFERROR(VLOOKUP(AE81,'CRUCE RIESGOS'!$C$5:$D$104,2,FALSE),"") | AG81: 11.38 | AH81: =IFERROR(VLOOKUP(AG81,'CRUCE RIESGOS'!$C$5:$D$104,2,FALSE),"") | AI81: 12.38 | AJ81: =IFERROR(VLOOKUP(AI81,'CRUCE RIESGOS'!$C$5:$D$104,2,FALSE),"") | AK81: 13.38 | AL81: =IFERROR(VLOOKUP(AK81,'CRUCE RIESGOS'!$C$5:$D$104,2,FALSE),"") | AM81: 14.38 | AN81: =IFERROR(VLOOKUP(AM81,'CRUCE RIESGOS'!$C$5:$D$104,2,FALSE),"") | AO81: 15.38 | AP81: =IFERROR(VLOOKUP(AO81,'CRUCE RIESGOS'!$C$5:$D$104,2,FALSE),"") | AQ81: 16.38 | AR81: =IFERROR(VLOOKUP(AQ81,'CRUCE RIESGOS'!$C$5:$D$104,2,FALSE),"") | AS81: 17.38 | AT81: =IFERROR(VLOOKUP(AS81,'CRUCE RIESGOS'!$C$5:$D$104,2,FALSE),"") | AU81: 18.38 | AV81: =IFERROR(VLOOKUP(AU81,'CRUCE RIESGOS'!$C$5:$D$104,2,FALSE),"") | AW81: 19.38 | AX81: =IFERROR(VLOOKUP(AW81,'CRUCE RIESGOS'!$C$5:$D$104,2,FALSE),"") | AY81: 20.38 | AZ81: =IFERROR(VLOOKUP(AY81,'CRUCE RIESGOS'!$C$5:$D$104,2,FALSE),"") | BA81: 21.38 | BB81: =IFERROR(VLOOKUP(BA81,'CRUCE RIESGOS'!$C$5:$D$104,2,FALSE),"") | BC81: 22.38 | BD81: =IFERROR(VLOOKUP(BC81,'CRUCE RIESGOS'!$C$5:$D$104,2,FALSE),"") | BE81: 23.38 | BF81: =IFERROR(VLOOKUP(BE81,'CRUCE RIESGOS'!$C$5:$D$104,2,FALSE),"") | BG81: 24.38 | BH81: =IFERROR(VLOOKUP(BG81,'CRUCE RIESGOS'!$C$5:$D$104,2,FALSE),"") | BI81: 25.38 | BJ81: =IFERROR(VLOOKUP(BI81,'CRUCE RIESGOS'!$C$5:$D$104,2,FALSE),"")
N82: =IF(N83<>""," -R","") | P82: =IF(P83<>""," -R","") | R82: =IF(R83<>""," -R","") | T82: =IF(T83<>""," -R","") | V82: =IF(V83<>""," -R","") | X82: =IF(X83<>""," -R","") | Z82: =IF(Z83<>""," -R","") | AB82: =IF(AB83<>""," -R","") | AD82: =IF(AD83<>""," -R","") | AF82: =IF(AF83<>""," -R","") | AH82: =IF(AH83<>""," -R","") | AJ82: =IF(AJ83<>""," -R","") | AL82: =IF(AL83<>""," -R","") | AN82: =IF(AN83<>""," -R","") | AP82: =IF(AP83<>""," -R","") | AR82: =IF(AR83<>""," -R","") | AT82: =IF(AT83<>""," -R","") | AV82: =IF(AV83<>""," -R","") | AX82: =IF(AX83<>""," -R","") | AZ82: =IF(AZ83<>""," -R","") | BB82: =IF(BB83<>""," -R","") | BD82: =IF(BD83<>""," -R","") | BF82: =IF(BF83<>""," -R","") | BH82: =IF(BH83<>""," -R","") | BJ82: =IF(BJ83<>""," -R","")
M83: 1.39 | N83: =IFERROR(VLOOKUP(M83,'CRUCE RIESGOS'!$C$5:$D$104,2,FALSE),"") | O83: 2.39 | P83: =IFERROR(VLOOKUP(O83,'CRUCE RIESGOS'!$C$5:$D$104,2,FALSE),"") | Q83: 3.39 | R83: =IFERROR(VLOOKUP(Q83,'CRUCE RIESGOS'!$C$5:$D$104,2,FALSE),"") | S83: 4.39 | T83: =IFERROR(VLOOKUP(S83,'CRUCE RIESGOS'!$C$5:$D$104,2,FALSE),"") | U83: 5.39 | V83: =IFERROR(VLOOKUP(U83,'CRUCE RIESGOS'!$C$5:$D$104,2,FALSE),"") | W83: 6.39 | X83: =IFERROR(VLOOKUP(W83,'CRUCE RIESGOS'!$C$5:$D$104,2,FALSE),"") | Y83: 7.39 | Z83: =IFERROR(VLOOKUP(Y83,'CRUCE RIESGOS'!$C$5:$D$104,2,FALSE),"") | AA83: 8.39 | AB83: =IFERROR(VLOOKUP(AA83,'CRUCE RIESGOS'!$C$5:$D$104,2,FALSE),"") | AC83: 9.39 | AD83: =IFERROR(VLOOKUP(AC83,'CRUCE RIESGOS'!$C$5:$D$104,2,FALSE),"") | AE83: 10.39 | AF83: =IFERROR(VLOOKUP(AE83,'CRUCE RIESGOS'!$C$5:$D$104,2,FALSE),"") | AG83: 11.39 | AH83: =IFERROR(VLOOKUP(AG83,'CRUCE RIESGOS'!$C$5:$D$104,2,FALSE),"") | AI83: 12.39 | AJ83: =IFERROR(VLOOKUP(AI83,'CRUCE RIESGOS'!$C$5:$D$104,2,FALSE),"") | AK83: 13.39 | AL83: =IFERROR(VLOOKUP(AK83,'CRUCE RIESGOS'!$C$5:$D$104,2,FALSE),"") | AM83: 14.39 | AN83: =IFERROR(VLOOKUP(AM83,'CRUCE RIESGOS'!$C$5:$D$104,2,FALSE),"") | AO83: 15.39 | AP83: =IFERROR(VLOOKUP(AO83,'CRUCE RIESGOS'!$C$5:$D$104,2,FALSE),"") | AQ83: 16.39 | AR83: =IFERROR(VLOOKUP(AQ83,'CRUCE RIESGOS'!$C$5:$D$104,2,FALSE),"") | AS83: 17.39 | AT83: =IFERROR(VLOOKUP(AS83,'CRUCE RIESGOS'!$C$5:$D$104,2,FALSE),"") | AU83: 18.39 | AV83: =IFERROR(VLOOKUP(AU83,'CRUCE RIESGOS'!$C$5:$D$104,2,FALSE),"") | AW83: 19.39 | AX83: =IFERROR(VLOOKUP(AW83,'CRUCE RIESGOS'!$C$5:$D$104,2,FALSE),"") | AY83: 20.39 | AZ83: =IFERROR(VLOOKUP(AY83,'CRUCE RIESGOS'!$C$5:$D$104,2,FALSE),"") | BA83: 21.39 | BB83: =IFERROR(VLOOKUP(BA83,'CRUCE RIESGOS'!$C$5:$D$104,2,FALSE),"") | BC83: 22.39 | BD83: =IFERROR(VLOOKUP(BC83,'CRUCE RIESGOS'!$C$5:$D$104,2,FALSE),"") | BE83: 23.39 | BF83: =IFERROR(VLOOKUP(BE83,'CRUCE RIESGOS'!$C$5:$D$104,2,FALSE),"") | BG83: 24.39 | BH83: =IFERROR(VLOOKUP(BG83,'CRUCE RIESGOS'!$C$5:$D$104,2,FALSE),"") | BI83: 25.39 | BJ83: =IFERROR(VLOOKUP(BI83,'CRUCE RIESGOS'!$C$5:$D$104,2,FALSE),"")
N84: =IF(N85<>""," -R","") | P84: =IF(P85<>""," -R","") | R84: =IF(R85<>""," -R","") | T84: =IF(T85<>""," -R","") | V84: =IF(V85<>""," -R","") | X84: =IF(X85<>""," -R","") | Z84: =IF(Z85<>""," -R","") | AB84: =IF(AB85<>""," -R","") | AD84: =IF(AD85<>""," -R","") | AF84: =IF(AF85<>""," -R","") | AH84: =IF(AH85<>""," -R","") | AJ84: =IF(AJ85<>""," -R","") | AL84: =IF(AL85<>""," -R","") | AN84: =IF(AN85<>""," -R","") | AP84: =IF(AP85<>""," -R","") | AR84: =IF(AR85<>""," -R","") | AT84: =IF(AT85<>""," -R","") | AV84: =IF(AV85<>""," -R","") | AX84: =IF(AX85<>""," -R","") | AZ84: =IF(AZ85<>""," -R","") | BB84: =IF(BB85<>""," -R","") | BD84: =IF(BD85<>""," -R","") | BF84: =IF(BF85<>""," -R","") | BH84: =IF(BH85<>""," -R","") | BJ84: =IF(BJ85<>""," -R","")
M85: 1.4 | N85: =IFERROR(VLOOKUP(M85,'CRUCE RIESGOS'!$C$5:$D$104,2,FALSE),"") | O85: 2.4 | P85: =IFERROR(VLOOKUP(O85,'CRUCE RIESGOS'!$C$5:$D$104,2,FALSE),"") | Q85: 3.4 | R85: =IFERROR(VLOOKUP(Q85,'CRUCE RIESGOS'!$C$5:$D$104,2,FALSE),"") | S85: 4.4 | T85: =IFERROR(VLOOKUP(S85,'CRUCE RIESGOS'!$C$5:$D$104,2,FALSE),"") | U85: 5.4 | V85: =IFERROR(VLOOKUP(U85,'CRUCE RIESGOS'!$C$5:$D$104,2,FALSE),"") | W85: 6.4 | X85: =IFERROR(VLOOKUP(W85,'CRUCE RIESGOS'!$C$5:$D$104,2,FALSE),"") | Y85: 7.4 | Z85: =IFERROR(VLOOKUP(Y85,'CRUCE RIESGOS'!$C$5:$D$104,2,FALSE),"") | AA85: 8.4 | AB85: =IFERROR(VLOOKUP(AA85,'CRUCE RIESGOS'!$C$5:$D$104,2,FALSE),"") | AC85: 9.4 | AD85: =IFERROR(VLOOKUP(AC85,'CRUCE RIESGOS'!$C$5:$D$104,2,FALSE),"") | AE85: 10.4 | AF85: =IFERROR(VLOOKUP(AE85,'CRUCE RIESGOS'!$C$5:$D$104,2,FALSE),"") | AG85: 11.4 | AH85: =IFERROR(VLOOKUP(AG85,'CRUCE RIESGOS'!$C$5:$D$104,2,FALSE),"") | AI85: 12.4 | AJ85: =IFERROR(VLOOKUP(AI85,'CRUCE RIESGOS'!$C$5:$D$104,2,FALSE),"") | AK85: 13.4 | AL85: =IFERROR(VLOOKUP(AK85,'CRUCE RIESGOS'!$C$5:$D$104,2,FALSE),"") | AM85: 14.4 | AN85: =IFERROR(VLOOKUP(AM85,'CRUCE RIESGOS'!$C$5:$D$104,2,FALSE),"") | AO85: 15.4 | AP85: =IFERROR(VLOOKUP(AO85,'CRUCE RIESGOS'!$C$5:$D$104,2,FALSE),"") | AQ85: 16.4 | AR85: =IFERROR(VLOOKUP(AQ85,'CRUCE RIESGOS'!$C$5:$D$104,2,FALSE),"") | AS85: 17.4 | AT85: =IFERROR(VLOOKUP(AS85,'CRUCE RIESGOS'!$C$5:$D$104,2,FALSE),"") | AU85: 18.4 | AV85: =IFERROR(VLOOKUP(AU85,'CRUCE RIESGOS'!$C$5:$D$104,2,FALSE),"") | AW85: 19.4 | AX85: =IFERROR(VLOOKUP(AW85,'CRUCE RIESGOS'!$C$5:$D$104,2,FALSE),"") | AY85: 20.4 | AZ85: =IFERROR(VLOOKUP(AY85,'CRUCE RIESGOS'!$C$5:$D$104,2,FALSE),"") | BA85: 21.4 | BB85: =IFERROR(VLOOKUP(BA85,'CRUCE RIESGOS'!$C$5:$D$104,2,FALSE),"") | BC85: 22.4 | BD85: =IFERROR(VLOOKUP(BC85,'CRUCE RIESGOS'!$C$5:$D$104,2,FALSE),"") | BE85: 23.4 | BF85: =IFERROR(VLOOKUP(BE85,'CRUCE RIESGOS'!$C$5:$D$104,2,FALSE),"") | BG85: 24.4 | BH85: =IFERROR(VLOOKUP(BG85,'CRUCE RIESGOS'!$C$5:$D$104,2,FALSE),"") | BI85: 25.4 | BJ85: =IFERROR(VLOOKUP(BI85,'CRUCE RIESGOS'!$C$5:$D$104,2,FALSE),"")
N86: =IF(N87<>""," -R","") | P86: =IF(P87<>""," -R","") | R86: =IF(R87<>""," -R","") | T86: =IF(T87<>""," -R","") | V86: =IF(V87<>""," -R","") | X86: =IF(X87<>""," -R","") | Z86: =IF(Z87<>""," -R","") | AB86: =IF(AB87<>""," -R","") | AD86: =IF(AD87<>""," -R","") | AF86: =IF(AF87<>""," -R","") | AH86: =IF(AH87<>""," -R","") | AJ86: =IF(AJ87<>""," -R","") | AL86: =IF(AL87<>""," -R","") | AN86: =IF(AN87<>""," -R","") | AP86: =IF(AP87<>""," -R","") | AR86: =IF(AR87<>""," -R","") | AT86: =IF(AT87<>""," -R","") | AV86: =IF(AV87<>""," -R","") | AX86: =IF(AX87<>""," -R","") | AZ86: =IF(AZ87<>""," -R","") | BB86: =IF(BB87<>""," -R","") | BD86: =IF(BD87<>""," -R","") | BF86: =IF(BF87<>""," -R","") | BH86: =IF(BH87<>""," -R","") | BJ86: =IF(BJ87<>""," -R","")
M87: 1.41 | N87: =IFERROR(VLOOKUP(M87,'CRUCE RIESGOS'!$C$5:$D$104,2,FALSE),"") | O87: 2.41 | P87: =IFERROR(VLOOKUP(O87,'CRUCE RIESGOS'!$C$5:$D$104,2,FALSE),"") | Q87: 3.41 | R87: =IFERROR(VLOOKUP(Q87,'CRUCE RIESGOS'!$C$5:$D$104,2,FALSE),"") | S87: 4.41 | T87: =IFERROR(VLOOKUP(S87,'CRUCE RIESGOS'!$C$5:$D$104,2,FALSE),"") | U87: 5.41 | V87: =IFERROR(VLOOKUP(U87,'CRUCE RIESGOS'!$C$5:$D$104,2,FALSE),"") | W87: 6.41 | X87: =IFERROR(VLOOKUP(W87,'CRUCE RIESGOS'!$C$5:$D$104,2,FALSE),"") | Y87: 7.41 | Z87: =IFERROR(VLOOKUP(Y87,'CRUCE RIESGOS'!$C$5:$D$104,2,FALSE),"") | AA87: 8.41 | AB87: =IFERROR(VLOOKUP(AA87,'CRUCE RIESGOS'!$C$5:$D$104,2,FALSE),"") | AC87: 9.41 | AD87: =IFERROR(VLOOKUP(AC87,'CRUCE RIESGOS'!$C$5:$D$104,2,FALSE),"") | AE87: 10.41 | AF87: =IFERROR(VLOOKUP(AE87,'CRUCE RIESGOS'!$C$5:$D$104,2,FALSE),"") | AG87: 11.41 | AH87: =IFERROR(VLOOKUP(AG87,'CRUCE RIESGOS'!$C$5:$D$104,2,FALSE),"") | AI87: 12.41 | AJ87: =IFERROR(VLOOKUP(AI87,'CRUCE RIESGOS'!$C$5:$D$104,2,FALSE),"") | AK87: 13.41 | AL87: =IFERROR(VLOOKUP(AK87,'CRUCE RIESGOS'!$C$5:$D$104,2,FALSE),"") | AM87: 14.41 | AN87: =IFERROR(VLOOKUP(AM87,'CRUCE RIESGOS'!$C$5:$D$104,2,FALSE),"") | AO87: 15.41 | AP87: =IFERROR(VLOOKUP(AO87,'CRUCE RIESGOS'!$C$5:$D$104,2,FALSE),"") | AQ87: 16.41 | AR87: =IFERROR(VLOOKUP(AQ87,'CRUCE RIESGOS'!$C$5:$D$104,2,FALSE),"") | AS87: 17.41 | AT87: =IFERROR(VLOOKUP(AS87,'CRUCE RIESGOS'!$C$5:$D$104,2,FALSE),"") | AU87: 18.41 | AV87: =IFERROR(VLOOKUP(AU87,'CRUCE RIESGOS'!$C$5:$D$104,2,FALSE),"") | AW87: 19.41 | AX87: =IFERROR(VLOOKUP(AW87,'CRUCE RIESGOS'!$C$5:$D$104,2,FALSE),"") | AY87: 20.41 | AZ87: =IFERROR(VLOOKUP(AY87,'CRUCE RIESGOS'!$C$5:$D$104,2,FALSE),"") | BA87: 21.41 | BB87: =IFERROR(VLOOKUP(BA87,'CRUCE RIESGOS'!$C$5:$D$104,2,FALSE),"") | BC87: 22.41 | BD87: =IFERROR(VLOOKUP(BC87,'CRUCE RIESGOS'!$C$5:$D$104,2,FALSE),"") | BE87: 23.41 | BF87: =IFERROR(VLOOKUP(BE87,'CRUCE RIESGOS'!$C$5:$D$104,2,FALSE),"") | BG87: 24.41 | BH87: =IFERROR(VLOOKUP(BG87,'CRUCE RIESGOS'!$C$5:$D$104,2,FALSE),"") | BI87: 25.41 | BJ87: =IFERROR(VLOOKUP(BI87,'CRUCE RIESGOS'!$C$5:$D$104,2,FALSE),"")
N88: =IF(N89<>""," -R","") | P88: =IF(P89<>""," -R","") | R88: =IF(R89<>""," -R","") | T88: =IF(T89<>""," -R","") | V88: =IF(V89<>""," -R","") | X88: =IF(X89<>""," -R","") | Z88: =IF(Z89<>""," -R","") | AB88: =IF(AB89<>""," -R","") | AD88: =IF(AD89<>""," -R","") | AF88: =IF(AF89<>""," -R","") | AH88: =IF(AH89<>""," -R","") | AJ88: =IF(AJ89<>""," -R","") | AL88: =IF(AL89<>""," -R","") | AN88: =IF(AN89<>""," -R","") | AP88: =IF(AP89<>""," -R","") | AR88: =IF(AR89<>""," -R","") | AT88: =IF(AT89<>""," -R","") | AV88: =IF(AV89<>""," -R","") | AX88: =IF(AX89<>""," -R","") | AZ88: =IF(AZ89<>""," -R","") | BB88: =IF(BB89<>""," -R","") | BD88: =IF(BD89<>""," -R","") | BF88: =IF(BF89<>""," -R","") | BH88: =IF(BH89<>""," -R","") | BJ88: =IF(BJ89<>""," -R","")
M89: 1.42 | N89: =IFERROR(VLOOKUP(M89,'CRUCE RIESGOS'!$C$5:$D$104,2,FALSE),"") | O89: 2.42 | P89: =IFERROR(VLOOKUP(O89,'CRUCE RIESGOS'!$C$5:$D$104,2,FALSE),"") | Q89: 3.42 | R89: =IFERROR(VLOOKUP(Q89,'CRUCE RIESGOS'!$C$5:$D$104,2,FALSE),"") | S89: 4.42 | T89: =IFERROR(VLOOKUP(S89,'CRUCE RIESGOS'!$C$5:$D$104,2,FALSE),"") | U89: 5.42 | V89: =IFERROR(VLOOKUP(U89,'CRUCE RIESGOS'!$C$5:$D$104,2,FALSE),"") | W89: 6.42 | X89: =IFERROR(VLOOKUP(W89,'CRUCE RIESGOS'!$C$5:$D$104,2,FALSE),"") | Y89: 7.42 | Z89: =IFERROR(VLOOKUP(Y89,'CRUCE RIESGOS'!$C$5:$D$104,2,FALSE),"") | AA89: 8.42 | AB89: =IFERROR(VLOOKUP(AA89,'CRUCE RIESGOS'!$C$5:$D$104,2,FALSE),"") | AC89: 9.42 | AD89: =IFERROR(VLOOKUP(AC89,'CRUCE RIESGOS'!$C$5:$D$104,2,FALSE),"") | AE89: 10.42 | AF89: =IFERROR(VLOOKUP(AE89,'CRUCE RIESGOS'!$C$5:$D$104,2,FALSE),"") | AG89: 11.42 | AH89: =IFERROR(VLOOKUP(AG89,'CRUCE RIESGOS'!$C$5:$D$104,2,FALSE),"") | AI89: 12.42 | AJ89: =IFERROR(VLOOKUP(AI89,'CRUCE RIESGOS'!$C$5:$D$104,2,FALSE),"") | AK89: 13.42 | AL89: =IFERROR(VLOOKUP(AK89,'CRUCE RIESGOS'!$C$5:$D$104,2,FALSE),"") | AM89: 14.42 | AN89: =IFERROR(VLOOKUP(AM89,'CRUCE RIESGOS'!$C$5:$D$104,2,FALSE),"") | AO89: 15.42 | AP89: =IFERROR(VLOOKUP(AO89,'CRUCE RIESGOS'!$C$5:$D$104,2,FALSE),"") | AQ89: 16.42 | AR89: =IFERROR(VLOOKUP(AQ89,'CRUCE RIESGOS'!$C$5:$D$104,2,FALSE),"") | AS89: 17.42 | AT89: =IFERROR(VLOOKUP(AS89,'CRUCE RIESGOS'!$C$5:$D$104,2,FALSE),"") | AU89: 18.42 | AV89: =IFERROR(VLOOKUP(AU89,'CRUCE RIESGOS'!$C$5:$D$104,2,FALSE),"") | AW89: 19.42 | AX89: =IFERROR(VLOOKUP(AW89,'CRUCE RIESGOS'!$C$5:$D$104,2,FALSE),"") | AY89: 20.42 | AZ89: =IFERROR(VLOOKUP(AY89,'CRUCE RIESGOS'!$C$5:$D$104,2,FALSE),"") | BA89: 21.42 | BB89: =IFERROR(VLOOKUP(BA89,'CRUCE RIESGOS'!$C$5:$D$104,2,FALSE),"") | BC89: 22.42 | BD89: =IFERROR(VLOOKUP(BC89,'CRUCE RIESGOS'!$C$5:$D$104,2,FALSE),"") | BE89: 23.42 | BF89: =IFERROR(VLOOKUP(BE89,'CRUCE RIESGOS'!$C$5:$D$104,2,FALSE),"") | BG89: 24.42 | BH89: =IFERROR(VLOOKUP(BG89,'CRUCE RIESGOS'!$C$5:$D$104,2,FALSE),"") | BI89: 25.42 | BJ89: =IFERROR(VLOOKUP(BI89,'CRUCE RIESGOS'!$C$5:$D$104,2,FALSE),"")
N90: =IF(N91<>""," -R","") | P90: =IF(P91<>""," -R","") | R90: =IF(R91<>""," -R","") | T90: =IF(T91<>""," -R","") | V90: =IF(V91<>""," -R","") | X90: =IF(X91<>""," -R","") | Z90: =IF(Z91<>""," -R","") | AB90: =IF(AB91<>""," -R","") | AD90: =IF(AD91<>""," -R","") | AF90: =IF(AF91<>""," -R","") | AH90: =IF(AH91<>""," -R","") | AJ90: =IF(AJ91<>""," -R","") | AL90: =IF(AL91<>""," -R","") | AN90: =IF(AN91<>""," -R","") | AP90: =IF(AP91<>""," -R","") | AR90: =IF(AR91<>""," -R","") | AT90: =IF(AT91<>""," -R","") | AV90: =IF(AV91<>""," -R","") | AX90: =IF(AX91<>""," -R","") | AZ90: =IF(AZ91<>""," -R","") | BB90: =IF(BB91<>""," -R","") | BD90: =IF(BD91<>""," -R","") | BF90: =IF(BF91<>""," -R","") | BH90: =IF(BH91<>""," -R","") | BJ90: =IF(BJ91<>""," -R","")
M91: 1.43 | N91: =IFERROR(VLOOKUP(M91,'CRUCE RIESGOS'!$C$5:$D$104,2,FALSE),"") | O91: 2.43 | P91: =IFERROR(VLOOKUP(O91,'CRUCE RIESGOS'!$C$5:$D$104,2,FALSE),"") | Q91: 3.43 | R91: =IFERROR(VLOOKUP(Q91,'CRUCE RIESGOS'!$C$5:$D$104,2,FALSE),"") | S91: 4.43 | T91: =IFERROR(VLOOKUP(S91,'CRUCE RIESGOS'!$C$5:$D$104,2,FALSE),"") | U91: 5.43 | V91: =IFERROR(VLOOKUP(U91,'CRUCE RIESGOS'!$C$5:$D$104,2,FALSE),"") | W91: 6.43 | X91: =IFERROR(VLOOKUP(W91,'CRUCE RIESGOS'!$C$5:$D$104,2,FALSE),"") | Y91: 7.43 | Z91: =IFERROR(VLOOKUP(Y91,'CRUCE RIESGOS'!$C$5:$D$104,2,FALSE),"") | AA91: 8.43 | AB91: =IFERROR(VLOOKUP(AA91,'CRUCE RIESGOS'!$C$5:$D$104,2,FALSE),"") | AC91: 9.43 | AD91: =IFERROR(VLOOKUP(AC91,'CRUCE RIESGOS'!$C$5:$D$104,2,FALSE),"") | AE91: 10.43 | AF91: =IFERROR(VLOOKUP(AE91,'CRUCE RIESGOS'!$C$5:$D$104,2,FALSE),"") | AG91: 11.43 | AH91: =IFERROR(VLOOKUP(AG91,'CRUCE RIESGOS'!$C$5:$D$104,2,FALSE),"") | AI91: 12.43 | AJ91: =IFERROR(VLOOKUP(AI91,'CRUCE RIESGOS'!$C$5:$D$104,2,FALSE),"") | AK91: 13.43 | AL91: =IFERROR(VLOOKUP(AK91,'CRUCE RIESGOS'!$C$5:$D$104,2,FALSE),"") | AM91: 14.43 | AN91: =IFERROR(VLOOKUP(AM91,'CRUCE RIESGOS'!$C$5:$D$104,2,FALSE),"") | AO91: 15.43 | AP91: =IFERROR(VLOOKUP(AO91,'CRUCE RIESGOS'!$C$5:$D$104,2,FALSE),"") | AQ91: 16.43 | AR91: =IFERROR(VLOOKUP(AQ91,'CRUCE RIESGOS'!$C$5:$D$104,2,FALSE),"") | AS91: 17.43 | AT91: =IFERROR(VLOOKUP(AS91,'CRUCE RIESGOS'!$C$5:$D$104,2,FALSE),"") | AU91: 18.43 | AV91: =IFERROR(VLOOKUP(AU91,'CRUCE RIESGOS'!$C$5:$D$104,2,FALSE),"") | AW91: 19.43 | AX91: =IFERROR(VLOOKUP(AW91,'CRUCE RIESGOS'!$C$5:$D$104,2,FALSE),"") | AY91: 20.43 | AZ91: =IFERROR(VLOOKUP(AY91,'CRUCE RIESGOS'!$C$5:$D$104,2,FALSE),"") | BA91: 21.43 | BB91: =IFERROR(VLOOKUP(BA91,'CRUCE RIESGOS'!$C$5:$D$104,2,FALSE),"") | BC91: 22.43 | BD91: =IFERROR(VLOOKUP(BC91,'CRUCE RIESGOS'!$C$5:$D$104,2,FALSE),"") | BE91: 23.43 | BF91: =IFERROR(VLOOKUP(BE91,'CRUCE RIESGOS'!$C$5:$D$104,2,FALSE),"") | BG91: 24.43 | BH91: =IFERROR(VLOOKUP(BG91,'CRUCE RIESGOS'!$C$5:$D$104,2,FALSE),"") | BI91: 25.43 | BJ91: =IFERROR(VLOOKUP(BI91,'CRUCE RIESGOS'!$C$5:$D$104,2,FALSE),"")
N92: =IF(N93<>""," -R","") | P92: =IF(P93<>""," -R","") | R92: =IF(R93<>""," -R","") | T92: =IF(T93<>""," -R","") | V92: =IF(V93<>""," -R","") | X92: =IF(X93<>""," -R","") | Z92: =IF(Z93<>""," -R","") | AB92: =IF(AB93<>""," -R","") | AD92: =IF(AD93<>""," -R","") | AF92: =IF(AF93<>""," -R","") | AH92: =IF(AH93<>""," -R","") | AJ92: =IF(AJ93<>""," -R","") | AL92: =IF(AL93<>""," -R","") | AN92: =IF(AN93<>""," -R","") | AP92: =IF(AP93<>""," -R","") | AR92: =IF(AR93<>""," -R","") | AT92: =IF(AT93<>""," -R","") | AV92: =IF(AV93<>""," -R","") | AX92: =IF(AX93<>""," -R","") | AZ92: =IF(AZ93<>""," -R","") | BB92: =IF(BB93<>""," -R","") | BD92: =IF(BD93<>""," -R","") | BF92: =IF(BF93<>""," -R","") | BH92: =IF(BH93<>""," -R","") | BJ92: =IF(BJ93<>""," -R","")
M93: 1.44 | N93: =IFERROR(VLOOKUP(M93,'CRUCE RIESGOS'!$C$5:$D$104,2,FALSE),"") | O93: 2.44 | P93: =IFERROR(VLOOKUP(O93,'CRUCE RIESGOS'!$C$5:$D$104,2,FALSE),"") | Q93: 3.44 | R93: =IFERROR(VLOOKUP(Q93,'CRUCE RIESGOS'!$C$5:$D$104,2,FALSE),"") | S93: 4.44 | T93: =IFERROR(VLOOKUP(S93,'CRUCE RIESGOS'!$C$5:$D$104,2,FALSE),"") | U93: 5.44 | V93: =IFERROR(VLOOKUP(U93,'CRUCE RIESGOS'!$C$5:$D$104,2,FALSE),"") | W93: 6.44 | X93: =IFERROR(VLOOKUP(W93,'CRUCE RIESGOS'!$C$5:$D$104,2,FALSE),"") | Y93: 7.44 | Z93: =IFERROR(VLOOKUP(Y93,'CRUCE RIESGOS'!$C$5:$D$104,2,FALSE),"") | AA93: 8.44 | AB93: =IFERROR(VLOOKUP(AA93,'CRUCE RIESGOS'!$C$5:$D$104,2,FALSE),"") | AC93: 9.44 | AD93: =IFERROR(VLOOKUP(AC93,'CRUCE RIESGOS'!$C$5:$D$104,2,FALSE),"") | AE93: 10.44 | AF93: =IFERROR(VLOOKUP(AE93,'CRUCE RIESGOS'!$C$5:$D$104,2,FALSE),"") | AG93: 11.44 | AH93: =IFERROR(VLOOKUP(AG93,'CRUCE RIESGOS'!$C$5:$D$104,2,FALSE),"") | AI93: 12.44 | AJ93: =IFERROR(VLOOKUP(AI93,'CRUCE RIESGOS'!$C$5:$D$104,2,FALSE),"") | AK93: 13.44 | AL93: =IFERROR(VLOOKUP(AK93,'CRUCE RIESGOS'!$C$5:$D$104,2,FALSE),"") | AM93: 14.44 | AN93: =IFERROR(VLOOKUP(AM93,'CRUCE RIESGOS'!$C$5:$D$104,2,FALSE),"") | AO93: 15.44 | AP93: =IFERROR(VLOOKUP(AO93,'CRUCE RIESGOS'!$C$5:$D$104,2,FALSE),"") | AQ93: 16.44 | AR93: =IFERROR(VLOOKUP(AQ93,'CRUCE RIESGOS'!$C$5:$D$104,2,FALSE),"") | AS93: 17.44 | AT93: =IFERROR(VLOOKUP(AS93,'CRUCE RIESGOS'!$C$5:$D$104,2,FALSE),"") | AU93: 18.44 | AV93: =IFERROR(VLOOKUP(AU93,'CRUCE RIESGOS'!$C$5:$D$104,2,FALSE),"") | AW93: 19.44 | AX93: =IFERROR(VLOOKUP(AW93,'CRUCE RIESGOS'!$C$5:$D$104,2,FALSE),"") | AY93: 20.44 | AZ93: =IFERROR(VLOOKUP(AY93,'CRUCE RIESGOS'!$C$5:$D$104,2,FALSE),"") | BA93: 21.44 | BB93: =IFERROR(VLOOKUP(BA93,'CRUCE RIESGOS'!$C$5:$D$104,2,FALSE),"") | BC93: 22.44 | BD93: =IFERROR(VLOOKUP(BC93,'CRUCE RIESGOS'!$C$5:$D$104,2,FALSE),"") | BE93: 23.44 | BF93: =IFERROR(VLOOKUP(BE93,'CRUCE RIESGOS'!$C$5:$D$104,2,FALSE),"") | BG93: 24.44 | BH93: =IFERROR(VLOOKUP(BG93,'CRUCE RIESGOS'!$C$5:$D$104,2,FALSE),"") | BI93: 25.44 | BJ93: =IFERROR(VLOOKUP(BI93,'CRUCE RIESGOS'!$C$5:$D$104,2,FALSE),"")
N94: =IF(N95<>""," -R","") | P94: =IF(P95<>""," -R","") | R94: =IF(R95<>""," -R","") | T94: =IF(T95<>""," -R","") | V94: =IF(V95<>""," -R","") | X94: =IF(X95<>""," -R","") | Z94: =IF(Z95<>""," -R","") | AB94: =IF(AB95<>""," -R","") | AD94: =IF(AD95<>""," -R","") | AF94: =IF(AF95<>""," -R","") | AH94: =IF(AH95<>""," -R","") | AJ94: =IF(AJ95<>""," -R","") | AL94: =IF(AL95<>""," -R","") | AN94: =IF(AN95<>""," -R","") | AP94: =IF(AP95<>""," -R","") | AR94: =IF(AR95<>""," -R","") | AT94: =IF(AT95<>""," -R","") | AV94: =IF(AV95<>""," -R","") | AX94: =IF(AX95<>""," -R","") | AZ94: =IF(AZ95<>""," -R","") | BB94: =IF(BB95<>""," -R","") | BD94: =IF(BD95<>""," -R","") | BF94: =IF(BF95<>""," -R","") | BH94: =IF(BH95<>""," -R","") | BJ94: =IF(BJ95<>""," -R","")
M95: 1.45 | N95: =IFERROR(VLOOKUP(M95,'CRUCE RIESGOS'!$C$5:$D$104,2,FALSE),"") | O95: 2.45 | P95: =IFERROR(VLOOKUP(O95,'CRUCE RIESGOS'!$C$5:$D$104,2,FALSE),"") | Q95: 3.45 | R95: =IFERROR(VLOOKUP(Q95,'CRUCE RIESGOS'!$C$5:$D$104,2,FALSE),"") | S95: 4.45 | T95: =IFERROR(VLOOKUP(S95,'CRUCE RIESGOS'!$C$5:$D$104,2,FALSE),"") | U95: 5.45 | V95: =IFERROR(VLOOKUP(U95,'CRUCE RIESGOS'!$C$5:$D$104,2,FALSE),"") | W95: 6.45 | X95: =IFERROR(VLOOKUP(W95,'CRUCE RIESGOS'!$C$5:$D$104,2,FALSE),"") | Y95: 7.45 | Z95: =IFERROR(VLOOKUP(Y95,'CRUCE RIESGOS'!$C$5:$D$104,2,FALSE),"") | AA95: 8.45 | AB95: =IFERROR(VLOOKUP(AA95,'CRUCE RIESGOS'!$C$5:$D$104,2,FALSE),"") | AC95: 9.45 | AD95: =IFERROR(VLOOKUP(AC95,'CRUCE RIESGOS'!$C$5:$D$104,2,FALSE),"") | AE95: 10.45 | AF95: =IFERROR(VLOOKUP(AE95,'CRUCE RIESGOS'!$C$5:$D$104,2,FALSE),"") | AG95: 11.45 | AH95: =IFERROR(VLOOKUP(AG95,'CRUCE RIESGOS'!$C$5:$D$104,2,FALSE),"") | AI95: 12.45 | AJ95: =IFERROR(VLOOKUP(AI95,'CRUCE RIESGOS'!$C$5:$D$104,2,FALSE),"") | AK95: 13.45 | AL95: =IFERROR(VLOOKUP(AK95,'CRUCE RIESGOS'!$C$5:$D$104,2,FALSE),"") | AM95: 14.45 | AN95: =IFERROR(VLOOKUP(AM95,'CRUCE RIESGOS'!$C$5:$D$104,2,FALSE),"") | AO95: 15.45 | AP95: =IFERROR(VLOOKUP(AO95,'CRUCE RIESGOS'!$C$5:$D$104,2,FALSE),"") | AQ95: 16.45 | AR95: =IFERROR(VLOOKUP(AQ95,'CRUCE RIESGOS'!$C$5:$D$104,2,FALSE),"") | AS95: 17.45 | AT95: =IFERROR(VLOOKUP(AS95,'CRUCE RIESGOS'!$C$5:$D$104,2,FALSE),"") | AU95: 18.45 | AV95: =IFERROR(VLOOKUP(AU95,'CRUCE RIESGOS'!$C$5:$D$104,2,FALSE),"") | AW95: 19.45 | AX95: =IFERROR(VLOOKUP(AW95,'CRUCE RIESGOS'!$C$5:$D$104,2,FALSE),"") | AY95: 20.45 | AZ95: =IFERROR(VLOOKUP(AY95,'CRUCE RIESGOS'!$C$5:$D$104,2,FALSE),"") | BA95: 21.45 | BB95: =IFERROR(VLOOKUP(BA95,'CRUCE RIESGOS'!$C$5:$D$104,2,FALSE),"") | BC95: 22.45 | BD95: =IFERROR(VLOOKUP(BC95,'CRUCE RIESGOS'!$C$5:$D$104,2,FALSE),"") | BE95: 23.45 | BF95: =IFERROR(VLOOKUP(BE95,'CRUCE RIESGOS'!$C$5:$D$104,2,FALSE),"") | BG95: 24.45 | BH95: =IFERROR(VLOOKUP(BG95,'CRUCE RIESGOS'!$C$5:$D$104,2,FALSE),"") | BI95: 25.45 | BJ95: =IFERROR(VLOOKUP(BI95,'CRUCE RIESGOS'!$C$5:$D$104,2,FALSE),"")
N96: =IF(N97<>""," -R","") | P96: =IF(P97<>""," -R","") | R96: =IF(R97<>""," -R","") | T96: =IF(T97<>""," -R","") | V96: =IF(V97<>""," -R","") | X96: =IF(X97<>""," -R","") | Z96: =IF(Z97<>""," -R","") | AB96: =IF(AB97<>""," -R","") | AD96: =IF(AD97<>""," -R","") | AF96: =IF(AF97<>""," -R","") | AH96: =IF(AH97<>""," -R","") | AJ96: =IF(AJ97<>""," -R","") | AL96: =IF(AL97<>""," -R","") | AN96: =IF(AN97<>""," -R","") | AP96: =IF(AP97<>""," -R","") | AR96: =IF(AR97<>""," -R","") | AT96: =IF(AT97<>""," -R","") | AV96: =IF(AV97<>""," -R","") | AX96: =IF(AX97<>""," -R","") | AZ96: =IF(AZ97<>""," -R","") | BB96: =IF(BB97<>""," -R","") | BD96: =IF(BD97<>""," -R","") | BF96: =IF(BF97<>""," -R","") | BH96: =IF(BH97<>""," -R","") | BJ96: =IF(BJ97<>""," -R","")
M97: 1.46 | N97: =IFERROR(VLOOKUP(M97,'CRUCE RIESGOS'!$C$5:$D$104,2,FALSE),"") | O97: 2.46 | P97: =IFERROR(VLOOKUP(O97,'CRUCE RIESGOS'!$C$5:$D$104,2,FALSE),"") | Q97: 3.46 | R97: =IFERROR(VLOOKUP(Q97,'CRUCE RIESGOS'!$C$5:$D$104,2,FALSE),"") | S97: 4.46 | T97: =IFERROR(VLOOKUP(S97,'CRUCE RIESGOS'!$C$5:$D$104,2,FALSE),"") | U97: 5.46 | V97: =IFERROR(VLOOKUP(U97,'CRUCE RIESGOS'!$C$5:$D$104,2,FALSE),"") | W97: 6.46 | X97: =IFERROR(VLOOKUP(W97,'CRUCE RIESGOS'!$C$5:$D$104,2,FALSE),"") | Y97: 7.46 | Z97: =IFERROR(VLOOKUP(Y97,'CRUCE RIESGOS'!$C$5:$D$104,2,FALSE),"") | AA97: 8.46 | AB97: =IFERROR(VLOOKUP(AA97,'CRUCE RIESGOS'!$C$5:$D$104,2,FALSE),"") | AC97: 9.46 | AD97: =IFERROR(VLOOKUP(AC97,'CRUCE RIESGOS'!$C$5:$D$104,2,FALSE),"") | AE97: 10.46 | AF97: =IFERROR(VLOOKUP(AE97,'CRUCE RIESGOS'!$C$5:$D$104,2,FALSE),"") | AG97: 11.46 | AH97: =IFERROR(VLOOKUP(AG97,'CRUCE RIESGOS'!$C$5:$D$104,2,FALSE),"") | AI97: 12.46 | AJ97: =IFERROR(VLOOKUP(AI97,'CRUCE RIESGOS'!$C$5:$D$104,2,FALSE),"") | AK97: 13.46 | AL97: =IFERROR(VLOOKUP(AK97,'CRUCE RIESGOS'!$C$5:$D$104,2,FALSE),"") | AM97: 14.46 | AN97: =IFERROR(VLOOKUP(AM97,'CRUCE RIESGOS'!$C$5:$D$104,2,FALSE),"") | AO97: 15.46 | AP97: =IFERROR(VLOOKUP(AO97,'CRUCE RIESGOS'!$C$5:$D$104,2,FALSE),"") | AQ97: 16.46 | AR97: =IFERROR(VLOOKUP(AQ97,'CRUCE RIESGOS'!$C$5:$D$104,2,FALSE),"") | AS97: 17.46 | AT97: =IFERROR(VLOOKUP(AS97,'CRUCE RIESGOS'!$C$5:$D$104,2,FALSE),"") | AU97: 18.46 | AV97: =IFERROR(VLOOKUP(AU97,'CRUCE RIESGOS'!$C$5:$D$104,2,FALSE),"") | AW97: 19.46 | AX97: =IFERROR(VLOOKUP(AW97,'CRUCE RIESGOS'!$C$5:$D$104,2,FALSE),"") | AY97: 20.46 | AZ97: =IFERROR(VLOOKUP(AY97,'CRUCE RIESGOS'!$C$5:$D$104,2,FALSE),"") | BA97: 21.46 | BB97: =IFERROR(VLOOKUP(BA97,'CRUCE RIESGOS'!$C$5:$D$104,2,FALSE),"") | BC97: 22.46 | BD97: =IFERROR(VLOOKUP(BC97,'CRUCE RIESGOS'!$C$5:$D$104,2,FALSE),"") | BE97: 23.46 | BF97: =IFERROR(VLOOKUP(BE97,'CRUCE RIESGOS'!$C$5:$D$104,2,FALSE),"") | BG97: 24.46 | BH97: =IFERROR(VLOOKUP(BG97,'CRUCE RIESGOS'!$C$5:$D$104,2,FALSE),"") | BI97: 25.46 | BJ97: =IFERROR(VLOOKUP(BI97,'CRUCE RIESGOS'!$C$5:$D$104,2,FALSE),"")
N98: =IF(N99<>""," -R","") | P98: =IF(P99<>""," -R","") | R98: =IF(R99<>""," -R","") | T98: =IF(T99<>""," -R","") | V98: =IF(V99<>""," -R","") | X98: =IF(X99<>""," -R","") | Z98: =IF(Z99<>""," -R","") | AB98: =IF(AB99<>""," -R","") | AD98: =IF(AD99<>""," -R","") | AF98: =IF(AF99<>""," -R","") | AH98: =IF(AH99<>""," -R","") | AJ98: =IF(AJ99<>""," -R","") | AL98: =IF(AL99<>""," -R","") | AN98: =IF(AN99<>""," -R","") | AP98: =IF(AP99<>""," -R","") | AR98: =IF(AR99<>""," -R","") | AT98: =IF(AT99<>""," -R","") | AV98: =IF(AV99<>""," -R","") | AX98: =IF(AX99<>""," -R","") | AZ98: =IF(AZ99<>""," -R","") | BB98: =IF(BB99<>""," -R","") | BD98: =IF(BD99<>""," -R","") | BF98: =IF(BF99<>""," -R","") | BH98: =IF(BH99<>""," -R","") | BJ98: =IF(BJ99<>""," -R","")
M99: 1.47 | N99: =IFERROR(VLOOKUP(M99,'CRUCE RIESGOS'!$C$5:$D$104,2,FALSE),"") | O99: 2.47 | P99: =IFERROR(VLOOKUP(O99,'CRUCE RIESGOS'!$C$5:$D$104,2,FALSE),"") | Q99: 3.47 | R99: =IFERROR(VLOOKUP(Q99,'CRUCE RIESGOS'!$C$5:$D$104,2,FALSE),"") | S99: 4.47 | T99: =IFERROR(VLOOKUP(S99,'CRUCE RIESGOS'!$C$5:$D$104,2,FALSE),"") | U99: 5.47 | V99: =IFERROR(VLOOKUP(U99,'CRUCE RIESGOS'!$C$5:$D$104,2,FALSE),"") | W99: 6.47 | X99: =IFERROR(VLOOKUP(W99,'CRUCE RIESGOS'!$C$5:$D$104,2,FALSE),"") | Y99: 7.47 | Z99: =IFERROR(VLOOKUP(Y99,'CRUCE RIESGOS'!$C$5:$D$104,2,FALSE),"") | AA99: 8.47 | AB99: =IFERROR(VLOOKUP(AA99,'CRUCE RIESGOS'!$C$5:$D$104,2,FALSE),"") | AC99: 9.47 | AD99: =IFERROR(VLOOKUP(AC99,'CRUCE RIESGOS'!$C$5:$D$104,2,FALSE),"") | AE99: 10.47 | AF99: =IFERROR(VLOOKUP(AE99,'CRUCE RIESGOS'!$C$5:$D$104,2,FALSE),"") | AG99: 11.47 | AH99: =IFERROR(VLOOKUP(AG99,'CRUCE RIESGOS'!$C$5:$D$104,2,FALSE),"") | AI99: 12.47 | AJ99: =IFERROR(VLOOKUP(AI99,'CRUCE RIESGOS'!$C$5:$D$104,2,FALSE),"") | AK99: 13.47 | AL99: =IFERROR(VLOOKUP(AK99,'CRUCE RIESGOS'!$C$5:$D$104,2,FALSE),"") | AM99: 14.47 | AN99: =IFERROR(VLOOKUP(AM99,'CRUCE RIESGOS'!$C$5:$D$104,2,FALSE),"") | AO99: 15.47 | AP99: =IFERROR(VLOOKUP(AO99,'CRUCE RIESGOS'!$C$5:$D$104,2,FALSE),"") | AQ99: 16.47 | AR99: =IFERROR(VLOOKUP(AQ99,'CRUCE RIESGOS'!$C$5:$D$104,2,FALSE),"") | AS99: 17.47 | AT99: =IFERROR(VLOOKUP(AS99,'CRUCE RIESGOS'!$C$5:$D$104,2,FALSE),"") | AU99: 18.47 | AV99: =IFERROR(VLOOKUP(AU99,'CRUCE RIESGOS'!$C$5:$D$104,2,FALSE),"") | AW99: 19.47 | AX99: =IFERROR(VLOOKUP(AW99,'CRUCE RIESGOS'!$C$5:$D$104,2,FALSE),"") | AY99: 20.47 | AZ99: =IFERROR(VLOOKUP(AY99,'CRUCE RIESGOS'!$C$5:$D$104,2,FALSE),"") | BA99: 21.47 | BB99: =IFERROR(VLOOKUP(BA99,'CRUCE RIESGOS'!$C$5:$D$104,2,FALSE),"") | BC99: 22.47 | BD99: =IFERROR(VLOOKUP(BC99,'CRUCE RIESGOS'!$C$5:$D$104,2,FALSE),"") | BE99: 23.47 | BF99: =IFERROR(VLOOKUP(BE99,'CRUCE RIESGOS'!$C$5:$D$104,2,FALSE),"") | BG99: 24.47 | BH99: =IFERROR(VLOOKUP(BG99,'CRUCE RIESGOS'!$C$5:$D$104,2,FALSE),"") | BI99: 25.47 | BJ99: =IFERROR(VLOOKUP(BI99,'CRUCE RIESGOS'!$C$5:$D$104,2,FALSE),"")
N100: =IF(N101<>""," -R","") | P100: =IF(P101<>""," -R","") | R100: =IF(R101<>""," -R","") | T100: =IF(T101<>""," -R","") | V100: =IF(V101<>""," -R","") | X100: =IF(X101<>""," -R","") | Z100: =IF(Z101<>""," -R","") | AB100: =IF(AB101<>""," -R","") | AD100: =IF(AD101<>""," -R","") | AF100: =IF(AF101<>""," -R","") | AH100: =IF(AH101<>""," -R","") | AJ100: =IF(AJ101<>""," -R","") | AL100: =IF(AL101<>""," -R","") | AN100: =IF(AN101<>""," -R","") | AP100: =IF(AP101<>""," -R","") | AR100: =IF(AR101<>""," -R","") | AT100: =IF(AT101<>""," -R","") | AV100: =IF(AV101<>""," -R","") | AX100: =IF(AX101<>""," -R","") | AZ100: =IF(AZ101<>""," -R","") | BB100: =IF(BB101<>""," -R","") | BD100: =IF(BD101<>""," -R","") | BF100: =IF(BF101<>""," -R","") | BH100: =IF(BH101<>""," -R","") | BJ100: =IF(BJ101<>""," -R","")
M101: 1.48 | N101: =IFERROR(VLOOKUP(M101,'CRUCE RIESGOS'!$C$5:$D$104,2,FALSE),"") | O101: 2.48 | P101: =IFERROR(VLOOKUP(O101,'CRUCE RIESGOS'!$C$5:$D$104,2,FALSE),"") | Q101: 3.48 | R101: =IFERROR(VLOOKUP(Q101,'CRUCE RIESGOS'!$C$5:$D$104,2,FALSE),"") | S101: 4.48 | T101: =IFERROR(VLOOKUP(S101,'CRUCE RIESGOS'!$C$5:$D$104,2,FALSE),"") | U101: 5.48 | V101: =IFERROR(VLOOKUP(U101,'CRUCE RIESGOS'!$C$5:$D$104,2,FALSE),"") | W101: 6.48 | X101: =IFERROR(VLOOKUP(W101,'CRUCE RIESGOS'!$C$5:$D$104,2,FALSE),"") | Y101: 7.48 | Z101: =IFERROR(VLOOKUP(Y101,'CRUCE RIESGOS'!$C$5:$D$104,2,FALSE),"") | AA101: 8.48 | AB101: =IFERROR(VLOOKUP(AA101,'CRUCE RIESGOS'!$C$5:$D$104,2,FALSE),"") | AC101: 9.48 | AD101: =IFERROR(VLOOKUP(AC101,'CRUCE RIESGOS'!$C$5:$D$104,2,FALSE),"") | AE101: 10.48 | AF101: =IFERROR(VLOOKUP(AE101,'CRUCE RIESGOS'!$C$5:$D$104,2,FALSE),"") | AG101: 11.48 | AH101: =IFERROR(VLOOKUP(AG101,'CRUCE RIESGOS'!$C$5:$D$104,2,FALSE),"") | AI101: 12.48 | AJ101: =IFERROR(VLOOKUP(AI101,'CRUCE RIESGOS'!$C$5:$D$104,2,FALSE),"") | AK101: 13.48 | AL101: =IFERROR(VLOOKUP(AK101,'CRUCE RIESGOS'!$C$5:$D$104,2,FALSE),"") | AM101: 14.48 | AN101: =IFERROR(VLOOKUP(AM101,'CRUCE RIESGOS'!$C$5:$D$104,2,FALSE),"") | AO101: 15.48 | AP101: =IFERROR(VLOOKUP(AO101,'CRUCE RIESGOS'!$C$5:$D$104,2,FALSE),"") | AQ101: 16.48 | AR101: =IFERROR(VLOOKUP(AQ101,'CRUCE RIESGOS'!$C$5:$D$104,2,FALSE),"") | AS101: 17.48 | AT101: =IFERROR(VLOOKUP(AS101,'CRUCE RIESGOS'!$C$5:$D$104,2,FALSE),"") | AU101: 18.48 | AV101: =IFERROR(VLOOKUP(AU101,'CRUCE RIESGOS'!$C$5:$D$104,2,FALSE),"") | AW101: 19.48 | AX101: =IFERROR(VLOOKUP(AW101,'CRUCE RIESGOS'!$C$5:$D$104,2,FALSE),"") | AY101: 20.48 | AZ101: =IFERROR(VLOOKUP(AY101,'CRUCE RIESGOS'!$C$5:$D$104,2,FALSE),"") | BA101: 21.48 | BB101: =IFERROR(VLOOKUP(BA101,'CRUCE RIESGOS'!$C$5:$D$104,2,FALSE),"") | BC101: 22.48 | BD101: =IFERROR(VLOOKUP(BC101,'CRUCE RIESGOS'!$C$5:$D$104,2,FALSE),"") | BE101: 23.48 | BF101: =IFERROR(VLOOKUP(BE101,'CRUCE RIESGOS'!$C$5:$D$104,2,FALSE),"") | BG101: 24.48 | BH101: =IFERROR(VLOOKUP(BG101,'CRUCE RIESGOS'!$C$5:$D$104,2,FALSE),"") | BI101: 25.48 | BJ101: =IFERROR(VLOOKUP(BI101,'CRUCE RIESGOS'!$C$5:$D$104,2,FALSE),"")
N102: =IF(N103<>""," -R","") | P102: =IF(P103<>""," -R","") | R102: =IF(R103<>""," -R","") | T102: =IF(T103<>""," -R","") | V102: =IF(V103<>""," -R","") | X102: =IF(X103<>""," -R","") | Z102: =IF(Z103<>""," -R","") | AB102: =IF(AB103<>""," -R","") | AD102: =IF(AD103<>""," -R","") | AF102: =IF(AF103<>""," -R","") | AH102: =IF(AH103<>""," -R","") | AJ102: =IF(AJ103<>""," -R","") | AL102: =IF(AL103<>""," -R","") | AN102: =IF(AN103<>""," -R","") | AP102: =IF(AP103<>""," -R","") | AR102: =IF(AR103<>""," -R","") | AT102: =IF(AT103<>""," -R","") | AV102: =IF(AV103<>""," -R","") | AX102: =IF(AX103<>""," -R","") | AZ102: =IF(AZ103<>""," -R","") | BB102: =IF(BB103<>""," -R","") | BD102: =IF(BD103<>""," -R","") | BF102: =IF(BF103<>""," -R","") | BH102: =IF(BH103<>""," -R","") | BJ102: =IF(BJ103<>""," -R","")
...

Sheet CRUCE OPORTUNIDADES
D4: IDENTIFICACIÓN DE LAS OPORTUNIDADES | H4: VALORACIÓN DE LA OPORTUNIDAD INHERENTE | N4: VALORACIÓN DE LA OPORTUNIDAD RESIDUAL
A5: CUADRANTE | B5: DECIMAL | C5: SUMA | D5: ID | E5: CAUSAS (FACTORES DOFA) | F5: CONSECUENCIA (OPORTUNIDADES) | G5: CLASIFICACIÓN | H5: PROBABILIDAD DE OCURRENCIA | I5: MAGNITUD DEL IMPACTO | J5: VALORACIÓN | K5: NIVEL | L5: CONTROLES APLICABLES | M5: ENTREGABLES | N5: PROBABILIDAD DE OCURRENCIA | O5: MAGNITUD DEL IMPACTO | P5: VALORACIÓN | Q5: NIVEL
A6: =IF(AND(N6=1,O6=1),1,IF(AND(N6=1,O6=2),2,IF(AND(N6=1,O6=3),3,IF(AND(N6=1,O6=4),4,IF(AND(N6=1,O6=5),5,IF(AND(N6=2,O6=1),6,IF(AND(N6=2,O6=2),7,IF(AND(N6=2,O6=3),8,IF(AND(N6=2,O6=4),9,IF(AND(N6=2,O6=5),10,IF(AND(N6=3,O6=1),11,IF(AND(N6=3,O6=2),12,IF(AND(N6=3,O6=3),13,IF(AND(N6=3,O6=4),14,IF(AND(N6=3,O6=5),15,IF(AND(N6=4,O6=1),16,IF(AND(N6=4,O6=2),17,IF(AND(N6=4,O6=3),18,IF(AND(N6=4,O6=4),19,IF(AND(N6=4,O6=5),20,IF(AND(N6=5,O6=1),21,IF(AND(N6=5,O6=2),22,IF(AND(N6=5,O6=3),23,IF(AND(N6=5,O6=4),24,IF(AND(N6=5,O6=5),25,""))))))))))))))))))))))))) | B6: =IF(A6="","",1/100) | C6: =IFERROR(A6+B6,"") | D6: 1 | J6: =IF(OR(H6="",I6=""),"",H6*I6) | K6: =IF(J6="","",IF(AND(H6=1,I6=1),"BAJO",IF(AND(H6=1,I6=2),"BAJO",IF(AND(H6=1,I6=3),"MODERADO",IF(AND(H6=1,I6=4),"FAVORABLE",IF(AND(H6=1,I6=5),"FAVORABLE",IF(AND(H6=2,I6=1),"BAJO",IF(AND(H6=2,I6=2),"BAJO",IF(AND(H6=2,I6=3),"MODERADO",IF(AND(H6=2,I6=4),"FAVORABLE",IF(AND(H6=2,I6=5),"ALTO",IF(AND(H6=3,I6=1),"BAJO",IF(AND(H6=3,I6=2),"MODERADO",IF(AND(H6=3,I6=3),"FAVORABLE",IF(AND(H6=3,I6=4),"ALTO",IF(AND(H6=3,I6=5),"ALTO",IF(AND(H6=4,I6=1),"MODERADO",IF(AND(H6=4,I6=2),"FAVORABLE",IF(AND(H6=4,I6=3),"FAVORABLE",IF(AND(H6=4,I6=4),"ALTO",IF(AND(H6=4,I6=5),"ALTO",IF(AND(H6=5,I6=1),"FAVORABLE",IF(AND(H6=5,I6=2),"FAVORABLE",IF(AND(H6=5,I6=3),"ALTO",IF(AND(H6=5,I6=4),"ALTO",IF(AND(H6=5,I6=5),"ALTO","")))))))))))))))))))))))))) | P6: =IF(OR(N6="",O6=""),"",N6*O6) | Q6: =IF(P6="","",IF(AND(N6=1,O6=1),"BAJO",IF(AND(N6=1,O6=2),"BAJO",IF(AND(N6=1,O6=3),"MODERADO",IF(AND(N6=1,O6=4),"FAVORABLE",IF(AND(N6=1,O6=5),"FAVORABLE",IF(AND(N6=2,O6=1),"BAJO",IF(AND(N6=2,O6=2),"BAJO",IF(AND(N6=2,O6=3),"MODERADO",IF(AND(N6=2,O6=4),"FAVORABLE",IF(AND(N6=2,O6=5),"ALTO",IF(AND(N6=3,O6=1),"BAJO",IF(AND(N6=3,O6=2),"MODERADO",IF(AND(N6=3,O6=3),"FAVORABLE",IF(AND(N6=3,O6=4),"ALTO",IF(AND(N6=3,O6=5),"ALTO",IF(AND(N6=4,O6=1),"MODERADO",IF(AND(N6=4,O6=2),"FAVORABLE",IF(AND(N6=4,O6=3),"FAVORABLE",IF(AND(N6=4,O6=4),"ALTO",IF(AND(N6=4,O6=5),"ALTO",IF(AND(N6=5,O6=1),"FAVORABLE",IF(AND(N6=5,O6=2),"FAVORABLE",IF(AND(N6=5,O6=3),"ALTO",IF(AND(N6=5,O6=4),"ALTO",IF(AND(N6=5,O6=5),"ALTO",""))))))))))))))))))))))))))
